BEGIN:VCALENDAR
VERSION:2.0
PRODID:-//Shades Crest Baptist Church - ECPv6.15.20//NONSGML v1.0//EN
CALSCALE:GREGORIAN
METHOD:PUBLISH
X-ORIGINAL-URL:https://shadescrest.org
X-WR-CALDESC:Events for Shades Crest Baptist Church
REFRESH-INTERVAL;VALUE=DURATION:PT1H
X-Robots-Tag:noindex
X-PUBLISHED-TTL:PT1H
BEGIN:VTIMEZONE
TZID:UTC
BEGIN:STANDARD
TZOFFSETFROM:+0000
TZOFFSETTO:+0000
TZNAME:UTC
DTSTART:20230101T000000
END:STANDARD
END:VTIMEZONE
BEGIN:VEVENT
DTSTART;TZID=UTC:20240627T060000
DTEND;TZID=UTC:20240627T130000
DTSTAMP:20260425T124444
CREATED:20240610T183203Z
LAST-MODIFIED:20240618T175012Z
UID:10000389-1719468000-1719493200@shadescrest.org
SUMMARY:We Love Our City Week
DESCRIPTION:June 23-28\, \n\nSunday-Hand out water at Bluff Park Wiffle Ball league games:1-5PM\,\nMon.-Fri.-Serve drive-thru Breafast from Church parking lot:5-8AM\,\nMon.-Fri.-Serve lunch to local firehouses:11AM-1PM\n\n 
URL:https://shadescrest.org/event/we-love-our-city-week/2024-06-27/
LOCATION:Entire Church Campus\, 452 Park Avenue\, Hoover\, AL\, 35226
CATEGORIES:Church Event
ATTACH;FMTTYPE=image/jpeg:https://shadescrest.org/wp-content/uploads/2024/06/We-love-our-city.jpg
END:VEVENT
BEGIN:VEVENT
DTSTART;TZID=UTC:20240627T100000
DTEND;TZID=UTC:20240627T130000
DTSTAMP:20260425T124444
CREATED:20240617T193352Z
LAST-MODIFIED:20240724T172449Z
UID:10000376-1719482400-1719493200@shadescrest.org
SUMMARY:Pickleball-Open Play
DESCRIPTION:All participants must initially complete a participation form before playing.
URL:https://shadescrest.org/event/pickleball-open-play-2/2024-06-27/
LOCATION:Family Life Center\, 2028 Rockland Drive\, Hoover\, AL\, 35226\, United States
CATEGORIES:FLC Event
END:VEVENT
BEGIN:VEVENT
DTSTART;TZID=UTC:20240627T180000
DTEND;TZID=UTC:20240627T210000
DTSTAMP:20260425T124444
CREATED:20240613T215553Z
LAST-MODIFIED:20240613T215553Z
UID:10000252-1719511200-1719522000@shadescrest.org
SUMMARY:Pickleball Open Play
DESCRIPTION:
URL:https://shadescrest.org/event/pickleball-open-play/2024-06-27/
LOCATION:Family Life Center\, 2028 Rockland Drive\, Hoover\, AL\, 35226\, United States
CATEGORIES:FLC Event
END:VEVENT
BEGIN:VEVENT
DTSTART;TZID=UTC:20240627T203000
DTEND;TZID=UTC:20240627T220000
DTSTAMP:20260425T124444
CREATED:20240604T195210Z
LAST-MODIFIED:20240606T181026Z
UID:10000039-1719520200-1719525600@shadescrest.org
SUMMARY:Men's Bible Study
DESCRIPTION:
URL:https://shadescrest.org/event/mens-bible-study-4/
LOCATION:Family Life Center\, 2028 Rockland Drive\, Hoover\, AL\, 35226\, United States
CATEGORIES:FLC Event
ATTACH;FMTTYPE=image/jpeg:https://shadescrest.org/wp-content/uploads/2022/09/FLC-1.jpeg
END:VEVENT
END:VCALENDAR