BEGIN:VCALENDAR
VERSION:2.0
PRODID:-//Shades Crest Baptist Church - ECPv6.15.20//NONSGML v1.0//EN
CALSCALE:GREGORIAN
METHOD:PUBLISH
X-ORIGINAL-URL:https://shadescrest.org
X-WR-CALDESC:Events for Shades Crest Baptist Church
REFRESH-INTERVAL;VALUE=DURATION:PT1H
X-Robots-Tag:noindex
X-PUBLISHED-TTL:PT1H
BEGIN:VTIMEZONE
TZID:UTC
BEGIN:STANDARD
TZOFFSETFROM:+0000
TZOFFSETTO:+0000
TZNAME:UTC
DTSTART:20230101T000000
END:STANDARD
END:VTIMEZONE
BEGIN:VEVENT
DTSTART;TZID=UTC:20241108T080000
DTEND;TZID=UTC:20241109T170000
DTSTAMP:20260425T040604
CREATED:20241016T161347Z
LAST-MODIFIED:20241016T161347Z
UID:10001813-1731052800-1731171600@shadescrest.org
SUMMARY:Senior Adult Trip
DESCRIPTION:Huntsville\nBurritt Museum – $10.00\nMoreville Village – $10.00\nConstitution Hall Village – $10.00\nEat at Old Greenbrier Restaurant\nLeave the front parking lot at 9:00.\nHotel – Hampton Inn 265-532-2110\nYou MUST pay for your room by Oct. 21.\nRooms are under Shades Crest Baptist Church\nCost $129 plus tax.\nBe sure to complete the Medical Release Form
URL:https://shadescrest.org/event/senior-adult-trip-2/
CATEGORIES:Senior Adults Event
ATTACH;FMTTYPE=image/jpeg:https://shadescrest.org/wp-content/uploads/2024/10/senior-adult-trip.jpg
END:VEVENT
END:VCALENDAR