BEGIN:VCALENDAR
VERSION:2.0
PRODID:-//Shades Crest Baptist Church - ECPv6.15.20//NONSGML v1.0//EN
CALSCALE:GREGORIAN
METHOD:PUBLISH
X-ORIGINAL-URL:https://shadescrest.org
X-WR-CALDESC:Events for Shades Crest Baptist Church
REFRESH-INTERVAL;VALUE=DURATION:PT1H
X-Robots-Tag:noindex
X-PUBLISHED-TTL:PT1H
BEGIN:VTIMEZONE
TZID:UTC
BEGIN:STANDARD
TZOFFSETFROM:+0000
TZOFFSETTO:+0000
TZNAME:UTC
DTSTART:20240101T000000
END:STANDARD
END:VTIMEZONE
BEGIN:VEVENT
DTSTART;TZID=UTC:20250117T170000
DTEND;TZID=UTC:20250119T233000
DTSTAMP:20260425T003819
CREATED:20250113T184903Z
LAST-MODIFIED:20250113T185240Z
UID:10001846-1737133200-1737329400@shadescrest.org
SUMMARY:DNow Weekend
DESCRIPTION:Students will be at various locations doing community service during the weekend.
URL:https://shadescrest.org/event/dnow-weekend/
CATEGORIES:Youth Event
END:VEVENT
END:VCALENDAR