BEGIN:VCALENDAR
VERSION:2.0
PRODID:-//Shades Crest Baptist Church - ECPv6.15.20//NONSGML v1.0//EN
CALSCALE:GREGORIAN
METHOD:PUBLISH
X-WR-CALNAME:Shades Crest Baptist Church
X-ORIGINAL-URL:https://shadescrest.org
X-WR-CALDESC:Events for Shades Crest Baptist Church
REFRESH-INTERVAL;VALUE=DURATION:PT1H
X-Robots-Tag:noindex
X-PUBLISHED-TTL:PT1H
BEGIN:VTIMEZONE
TZID:UTC
BEGIN:STANDARD
TZOFFSETFROM:+0000
TZOFFSETTO:+0000
TZNAME:UTC
DTSTART:20240101T000000
END:STANDARD
END:VTIMEZONE
BEGIN:VEVENT
DTSTART;TZID=UTC:20250125T080000
DTEND;TZID=UTC:20250125T170000
DTSTAMP:20260425T003830
CREATED:20250106T183918Z
LAST-MODIFIED:20250106T183918Z
UID:10001840-1737792000-1737824400@shadescrest.org
SUMMARY:Shades Crest Community Basketball Grades 1-6
DESCRIPTION:
URL:https://shadescrest.org/event/shades-crest-community-basketball-grades-1-6/2025-01-25/
LOCATION:Family Life Center\, 2028 Rockland Drive\, Hoover\, AL\, 35226\, United States
CATEGORIES:FLC Event
ATTACH;FMTTYPE=image/jpeg:https://shadescrest.org/wp-content/uploads/2025/01/basketball.jpg
END:VEVENT
BEGIN:VEVENT
DTSTART;TZID=UTC:20250125T090000
DTEND;TZID=UTC:20250125T140000
DTSTAMP:20260425T003830
CREATED:20250123T184147Z
LAST-MODIFIED:20250123T184147Z
UID:10001848-1737795600-1737813600@shadescrest.org
SUMMARY:Bible Skills & Drills
DESCRIPTION:
URL:https://shadescrest.org/event/bible-skills-drills/
LOCATION:Children’s Worship Room – Rockland Building\, 452 Park Avenue\, Hoover\, AL\, 35226\, United States
END:VEVENT
END:VCALENDAR