BEGIN:VCALENDAR
VERSION:2.0
PRODID:-//Shades Crest Baptist Church - ECPv6.15.20//NONSGML v1.0//EN
CALSCALE:GREGORIAN
METHOD:PUBLISH
X-WR-CALNAME:Shades Crest Baptist Church
X-ORIGINAL-URL:https://shadescrest.org
X-WR-CALDESC:Events for Shades Crest Baptist Church
REFRESH-INTERVAL;VALUE=DURATION:PT1H
X-Robots-Tag:noindex
X-PUBLISHED-TTL:PT1H
BEGIN:VTIMEZONE
TZID:UTC
BEGIN:STANDARD
TZOFFSETFROM:+0000
TZOFFSETTO:+0000
TZNAME:UTC
DTSTART:20240101T000000
END:STANDARD
END:VTIMEZONE
BEGIN:VEVENT
DTSTART;TZID=UTC:20250523T080000
DTEND;TZID=UTC:20250530T170000
DTSTAMP:20260424T175212
CREATED:20250123T174617Z
LAST-MODIFIED:20250123T174617Z
UID:10001847-1747987200-1748624400@shadescrest.org
SUMMARY:Youth Mission Trip
DESCRIPTION:Florence\, Alabama
URL:https://shadescrest.org/event/youth-mission-trip/
CATEGORIES:Youth Event
ATTACH;FMTTYPE=image/jpeg:https://shadescrest.org/wp-content/uploads/2025/01/youth-Mission-trio-25-26.jpg
END:VEVENT
BEGIN:VEVENT
DTSTART;TZID=UTC:20250525T090000
DTEND;TZID=UTC:20250525T120000
DTSTAMP:20260424T175212
CREATED:20241120T185907Z
LAST-MODIFIED:20241120T185908Z
UID:10000446-1748163600-1748174400@shadescrest.org
SUMMARY:Sunday Services
DESCRIPTION:Sunday services consist of Rising service (Modern) at 9 pm in Fellowship Hall\, Connect Groups at 10 am in classrooms\, and Majestic service (Traditional) at 11 pm in Sanctuary. Both services are Livestreamed.
URL:https://shadescrest.org/event/sunday-services-8-4-4/2025-05-25/
LOCATION:Entire Church Campus\, 452 Park Avenue\, Hoover\, AL\, 35226
CATEGORIES:Church Event
ATTACH;FMTTYPE=image/jpeg:https://shadescrest.org/wp-content/uploads/2024/07/sunday-service.jpg
END:VEVENT
END:VCALENDAR