BEGIN:VCALENDAR
VERSION:2.0
PRODID:-//Shades Crest Baptist Church - ECPv6.15.20//NONSGML v1.0//EN
CALSCALE:GREGORIAN
METHOD:PUBLISH
X-ORIGINAL-URL:https://shadescrest.org
X-WR-CALDESC:Events for Shades Crest Baptist Church
REFRESH-INTERVAL;VALUE=DURATION:PT1H
X-Robots-Tag:noindex
X-PUBLISHED-TTL:PT1H
BEGIN:VTIMEZONE
TZID:UTC
BEGIN:STANDARD
TZOFFSETFROM:+0000
TZOFFSETTO:+0000
TZNAME:UTC
DTSTART:20240101T000000
END:STANDARD
END:VTIMEZONE
BEGIN:VEVENT
DTSTART;TZID=UTC:20251221T190000
DTEND;TZID=UTC:20251222T080000
DTSTAMP:20260424T042619
CREATED:20251216T235435Z
LAST-MODIFIED:20251216T235754Z
UID:10004712-1766343600-1766390400@shadescrest.org
SUMMARY:Prayer Vigil - Independently
DESCRIPTION:On the evening of December 21\, the longest night of the year\, a prayer vigil will be held around the world.  This global prayer vigil is an opportunity to lift up those on every continent who are at risk for human trafficking and oppression. \nThe SCBC Prayer Ministry invites all of our church membership to join us for “Lift Up the Vulnerable’s Longest Night Prayer Vigil” beginning at 7:00 PM on December 21 and ending at 8:00 AM on December 22. \nWe will not gather for these prayers. Instead\, you are encouraged to click here to use a provided prayer guide to pray at home at your convenience.
URL:https://shadescrest.org/event/prayer-vigil-independently/
CATEGORIES:Church Event
ATTACH;FMTTYPE=image/png:https://shadescrest.org/wp-content/uploads/2025/12/Screenshot-2025-12-16-171926.png
END:VEVENT
BEGIN:VEVENT
DTSTART;TZID=UTC:20251222T090000
DTEND;TZID=UTC:20251222T120000
DTSTAMP:20260424T042619
CREATED:20240606T173300Z
LAST-MODIFIED:20260223T195015Z
UID:10000541-1766394000-1766404800@shadescrest.org
SUMMARY:Retired and Moving
DESCRIPTION:The senior adults gather every Monday at 9 AM in the FLC for games\, fellowship\, and crafts. On the 1st Monday of each month\, a lunch is served. Bring $5 to cover the cost.
URL:https://shadescrest.org/event/retired-and-moving-3/2025-12-22/
LOCATION:Family Life Center\, 2028 Rockland Drive\, Hoover\, AL\, 35226\, United States
CATEGORIES:FLC Event
ATTACH;FMTTYPE=image/jpeg:https://shadescrest.org/wp-content/uploads/2026/02/moving-2-1.jpg
END:VEVENT
END:VCALENDAR