BEGIN:VCALENDAR
VERSION:2.0
PRODID:-//Shades Crest Baptist Church - ECPv6.15.20//NONSGML v1.0//EN
CALSCALE:GREGORIAN
METHOD:PUBLISH
X-ORIGINAL-URL:https://shadescrest.org
X-WR-CALDESC:Events for Shades Crest Baptist Church
REFRESH-INTERVAL;VALUE=DURATION:PT1H
X-Robots-Tag:noindex
X-PUBLISHED-TTL:PT1H
BEGIN:VTIMEZONE
TZID:UTC
BEGIN:STANDARD
TZOFFSETFROM:+0000
TZOFFSETTO:+0000
TZNAME:UTC
DTSTART:20250101T000000
END:STANDARD
END:VTIMEZONE
BEGIN:VEVENT
DTSTART;VALUE=DATE:20260119
DTEND;VALUE=DATE:20260121
DTSTAMP:20260424T024146
CREATED:20260110T001816Z
LAST-MODIFIED:20260110T001816Z
UID:10004805-1768784400-1768870799@shadescrest.org
SUMMARY:Church Office Closed
DESCRIPTION:The Church Office will be closed all day for MLK Day.
URL:https://shadescrest.org/event/church-office-closed-2/
ATTACH;FMTTYPE=image/jpeg:https://shadescrest.org/wp-content/uploads/2026/01/MLK-Day.jpg
END:VEVENT
END:VCALENDAR