BEGIN:VCALENDAR
VERSION:2.0
PRODID:-//Shades Crest Baptist Church - ECPv6.15.20//NONSGML v1.0//EN
CALSCALE:GREGORIAN
METHOD:PUBLISH
X-ORIGINAL-URL:https://shadescrest.org
X-WR-CALDESC:Events for Shades Crest Baptist Church
REFRESH-INTERVAL;VALUE=DURATION:PT1H
X-Robots-Tag:noindex
X-PUBLISHED-TTL:PT1H
BEGIN:VTIMEZONE
TZID:UTC
BEGIN:STANDARD
TZOFFSETFROM:+0000
TZOFFSETTO:+0000
TZNAME:UTC
DTSTART:20250101T000000
END:STANDARD
END:VTIMEZONE
BEGIN:VEVENT
DTSTART;TZID=UTC:20260123T103000
DTEND;TZID=UTC:20260123T150000
DTSTAMP:20260424T024146
CREATED:20260107T204332Z
LAST-MODIFIED:20260107T204340Z
UID:10004794-1769164200-1769180400@shadescrest.org
SUMMARY:Senior Adults Mystery Meal
DESCRIPTION:Mystery Meal (weather permitting) – Leave 10:30\nMain Street Tavern (710 N Boundary St)\, Montevallo
URL:https://shadescrest.org/event/senior-adults-mystery-meal/
CATEGORIES:Senior Adults Event
ATTACH;FMTTYPE=image/jpeg:https://shadescrest.org/wp-content/uploads/2026/01/mystery-meal.jpg
END:VEVENT
END:VCALENDAR