BEGIN:VCALENDAR
VERSION:2.0
PRODID:-//Shades Crest Baptist Church - ECPv6.15.20//NONSGML v1.0//EN
CALSCALE:GREGORIAN
METHOD:PUBLISH
X-WR-CALNAME:Shades Crest Baptist Church
X-ORIGINAL-URL:https://shadescrest.org
X-WR-CALDESC:Events for Shades Crest Baptist Church
REFRESH-INTERVAL;VALUE=DURATION:PT1H
X-Robots-Tag:noindex
X-PUBLISHED-TTL:PT1H
BEGIN:VTIMEZONE
TZID:UTC
BEGIN:STANDARD
TZOFFSETFROM:+0000
TZOFFSETTO:+0000
TZNAME:UTC
DTSTART:20250101T000000
END:STANDARD
END:VTIMEZONE
BEGIN:VEVENT
DTSTART;TZID=UTC:20260215T090000
DTEND;TZID=UTC:20260215T100000
DTSTAMP:20260424T010414
CREATED:20260211T010305Z
LAST-MODIFIED:20260211T010309Z
UID:10002676-1771146000-1771149600@shadescrest.org
SUMMARY:RISING Service - Basketball Sunday
DESCRIPTION:Celebrate the Community Basketball League in our Rising modern worship service at 9:00 a.m. In the Rising service\, you’ll worship with our praise team and band in our church fellowship hall. You’ll see song lyrics and scripture passages projected on a screen\, and watch videos related to that day’s worship focus. Baskets are passed during this service\, offering you the opportunity to give.
URL:https://shadescrest.org/event/rising-worship-service-3/
LOCATION:Fellowship Hall\, 452 Park Avenue\, Hoover\, AL\, 35226\, United States
CATEGORIES:Church Event
ATTACH;FMTTYPE=image/png:https://shadescrest.org/wp-content/uploads/2026/02/Screenshot-2026-02-10-184143.png
END:VEVENT
BEGIN:VEVENT
DTSTART;TZID=UTC:20260215T090000
DTEND;TZID=UTC:20260215T140000
DTSTAMP:20260424T010414
CREATED:20260124T004112Z
LAST-MODIFIED:20260211T005848Z
UID:10004823-1771146000-1771164000@shadescrest.org
SUMMARY:MAJESTIC Service - Senior Adult Day & Luncheon
DESCRIPTION:
URL:https://shadescrest.org/event/senior-adult-day-luncheon/
LOCATION:Entire Church Campus\, 452 Park Avenue\, Hoover\, AL\, 35226
CATEGORIES:Senior Adults Event
ATTACH;FMTTYPE=image/jpeg:https://shadescrest.org/wp-content/uploads/2026/01/Adult-Day2.jpg
END:VEVENT
BEGIN:VEVENT
DTSTART;TZID=UTC:20260215T121500
DTEND;TZID=UTC:20260215T140000
DTSTAMP:20260424T010414
CREATED:20260203T232943Z
LAST-MODIFIED:20260203T232943Z
UID:10004871-1771157700-1771164000@shadescrest.org
SUMMARY:Youth Singers Rehearsals
DESCRIPTION:
URL:https://shadescrest.org/event/youth-singers-rehearsals/2026-02-15/
CATEGORIES:Youth Event
ATTACH;FMTTYPE=image/png:https://shadescrest.org/wp-content/uploads/2026/02/Screenshot-2026-02-03-165741.png
END:VEVENT
END:VCALENDAR