BEGIN:VCALENDAR
VERSION:2.0
PRODID:-//Shades Crest Baptist Church - ECPv6.15.20//NONSGML v1.0//EN
CALSCALE:GREGORIAN
METHOD:PUBLISH
X-ORIGINAL-URL:https://shadescrest.org
X-WR-CALDESC:Events for Shades Crest Baptist Church
REFRESH-INTERVAL;VALUE=DURATION:PT1H
X-Robots-Tag:noindex
X-PUBLISHED-TTL:PT1H
BEGIN:VTIMEZONE
TZID:UTC
BEGIN:STANDARD
TZOFFSETFROM:+0000
TZOFFSETTO:+0000
TZNAME:UTC
DTSTART:20250101T000000
END:STANDARD
END:VTIMEZONE
BEGIN:VEVENT
DTSTART;TZID=UTC:20260324T073000
DTEND;TZID=UTC:20260324T083000
DTSTAMP:20260423T232203
CREATED:20260218T005012Z
LAST-MODIFIED:20260218T005012Z
UID:10004910-1774337400-1774341000@shadescrest.org
SUMMARY:Men's Prayer Team
DESCRIPTION:
URL:https://shadescrest.org/event/mens-prayer-team/2026-03-24/
LOCATION:Family Life Center\, 2028 Rockland Drive\, Hoover\, AL\, 35226\, United States
CATEGORIES:Church Event,FLC Event
ATTACH;FMTTYPE=image/jpeg:https://shadescrest.org/wp-content/uploads/2026/02/mens-prayer-team.jpg
END:VEVENT
BEGIN:VEVENT
DTSTART;TZID=UTC:20260324T110000
DTEND;TZID=UTC:20260324T150000
DTSTAMP:20260423T232203
CREATED:20260304T025536Z
LAST-MODIFIED:20260304T184102Z
UID:10005116-1774350000-1774364400@shadescrest.org
SUMMARY:Senior Adult Lunch Trip
DESCRIPTION:Join us as we head to Niki’s west for lunch on Tuesday\, March 24th. We will leave the Church at 11:00 AM.
URL:https://shadescrest.org/event/senior-adult-lunch-trip/
CATEGORIES:Senior Adults Event
ATTACH;FMTTYPE=image/jpeg:https://shadescrest.org/wp-content/uploads/2026/03/nikis-2.jpg
END:VEVENT
BEGIN:VEVENT
DTSTART;TZID=UTC:20260324T183000
DTEND;TZID=UTC:20260324T203000
DTSTAMP:20260423T232203
CREATED:20260224T190743Z
LAST-MODIFIED:20260224T225850Z
UID:10005045-1774377000-1774384200@shadescrest.org
SUMMARY:Ladies Fitness Bible Study
DESCRIPTION:
URL:https://shadescrest.org/event/ladies-fitness-bible-study/2026-03-24/
LOCATION:Family Life Center\, 2028 Rockland Drive\, Hoover\, AL\, 35226\, United States
CATEGORIES:FLC Event
ATTACH;FMTTYPE=image/jpeg:https://shadescrest.org/wp-content/uploads/2026/02/ladies-fitbess-bible-study2.jpg
END:VEVENT
END:VCALENDAR