BEGIN:VCALENDAR
VERSION:2.0
PRODID:-//Shades Crest Baptist Church - ECPv6.15.20//NONSGML v1.0//EN
CALSCALE:GREGORIAN
METHOD:PUBLISH
X-WR-CALNAME:Shades Crest Baptist Church
X-ORIGINAL-URL:https://shadescrest.org
X-WR-CALDESC:Events for Shades Crest Baptist Church
REFRESH-INTERVAL;VALUE=DURATION:PT1H
X-Robots-Tag:noindex
X-PUBLISHED-TTL:PT1H
BEGIN:VTIMEZONE
TZID:UTC
BEGIN:STANDARD
TZOFFSETFROM:+0000
TZOFFSETTO:+0000
TZNAME:UTC
DTSTART:20250101T000000
END:STANDARD
END:VTIMEZONE
BEGIN:VEVENT
DTSTART;TZID=UTC:20260401T163000
DTEND;TZID=UTC:20260401T190000
DTSTAMP:20260423T214203
CREATED:20260317T223128Z
LAST-MODIFIED:20260317T223128Z
UID:10005125-1775061000-1775070000@shadescrest.org
SUMMARY:NOTICE: No Mid-Point Activities
DESCRIPTION:There will be No Midpoint activities on March 25th and April 1st due to Spring Break and Holy Week. There will be Sanctuary choir practice both nights at 6:15 PM.
URL:https://shadescrest.org/event/notice-no-mid-point-activities/2026-04-01/
CATEGORIES:Church Event
ATTACH;FMTTYPE=image/png:https://shadescrest.org/wp-content/uploads/2026/03/Screenshot-2026-03-17-172356.png
END:VEVENT
END:VCALENDAR