BEGIN:VCALENDAR
VERSION:2.0
PRODID:-//Shades Crest Baptist Church - ECPv6.15.20//NONSGML v1.0//EN
CALSCALE:GREGORIAN
METHOD:PUBLISH
X-WR-CALNAME:Shades Crest Baptist Church
X-ORIGINAL-URL:https://shadescrest.org
X-WR-CALDESC:Events for Shades Crest Baptist Church
REFRESH-INTERVAL;VALUE=DURATION:PT1H
X-Robots-Tag:noindex
X-PUBLISHED-TTL:PT1H
BEGIN:VTIMEZONE
TZID:UTC
BEGIN:STANDARD
TZOFFSETFROM:+0000
TZOFFSETTO:+0000
TZNAME:UTC
DTSTART:20250101T000000
END:STANDARD
END:VTIMEZONE
BEGIN:VEVENT
DTSTART;VALUE=DATE:20260419
DTEND;VALUE=DATE:20260428
DTSTAMP:20260424T000125
CREATED:20260216T231239Z
LAST-MODIFIED:20260216T231239Z
UID:10004904-1776560400-1777251599@shadescrest.org
SUMMARY:Youth Week
DESCRIPTION:
URL:https://shadescrest.org/event/youth-week/
CATEGORIES:Church Event,Youth Event
ATTACH;FMTTYPE=image/jpeg:https://shadescrest.org/wp-content/uploads/2026/02/youth-week.jpg
END:VEVENT
BEGIN:VEVENT
DTSTART;TZID=UTC:20260422T164500
DTEND;TZID=UTC:20260422T200000
DTSTAMP:20260424T000125
CREATED:20240723T191342Z
LAST-MODIFIED:20260216T213352Z
UID:10000817-1776876300-1776888000@shadescrest.org
SUMMARY:Midpoint Wednesday Evening Activities
DESCRIPTION:Join us each Wednesday evening for activities and Bible Study for all ages beginning with dinner at 4:45pm in the Fellowship Hall.
URL:https://shadescrest.org/event/midpoint-wednesday-evening-activities/2026-04-22/
LOCATION:Entire Church Campus\, 452 Park Avenue\, Hoover\, AL\, 35226
CATEGORIES:Church Event
ATTACH;FMTTYPE=image/jpeg:https://shadescrest.org/wp-content/uploads/2026/02/midpoint-new.jpg
END:VEVENT
BEGIN:VEVENT
DTSTART;TZID=UTC:20260422T180000
DTEND;TZID=UTC:20260422T190000
DTSTAMP:20260424T000125
CREATED:20260324T231250Z
LAST-MODIFIED:20260324T231250Z
UID:10005128-1776880800-1776884400@shadescrest.org
SUMMARY:Wednesday Night Small Groups
DESCRIPTION:Click HERE for descriptions of small group topics.
URL:https://shadescrest.org/event/wednesday-night-small-groups/2026-04-22/
CATEGORIES:Church Event
ATTACH;FMTTYPE=image/png:https://shadescrest.org/wp-content/uploads/2026/03/Screenshot-2026-03-24-170049.png
END:VEVENT
END:VCALENDAR