BEGIN:VCALENDAR
VERSION:2.0
PRODID:-//Shades Crest Baptist Church - ECPv6.15.20//NONSGML v1.0//EN
CALSCALE:GREGORIAN
METHOD:PUBLISH
X-WR-CALNAME:Shades Crest Baptist Church
X-ORIGINAL-URL:https://shadescrest.org
X-WR-CALDESC:Events for Shades Crest Baptist Church
REFRESH-INTERVAL;VALUE=DURATION:PT1H
X-Robots-Tag:noindex
X-PUBLISHED-TTL:PT1H
BEGIN:VTIMEZONE
TZID:UTC
BEGIN:STANDARD
TZOFFSETFROM:+0000
TZOFFSETTO:+0000
TZNAME:UTC
DTSTART:20260101T000000
END:STANDARD
END:VTIMEZONE
BEGIN:VEVENT
DTSTART;TZID=UTC:20270523T090000
DTEND;TZID=UTC:20270523T100000
DTSTAMP:20260425T142333
CREATED:20251114T164510Z
LAST-MODIFIED:20260220T002019Z
UID:10002742-1811062800-1811066400@shadescrest.org
SUMMARY:RISING Worship Service
DESCRIPTION:Come to our modern worship service\, Rising\, at 9:00 a.m. In the Rising service\, you’ll worship with our praise team and band in our church fellowship hall. You’ll see song lyrics and scripture passages projected on a screen\, and watch videos related to that day’s worship focus. Baskets are passed during this service\, offering you the opportunity to give. \nThe fellowship hall at Shades Crest is a multi-purpose space where we have meals as a church family\, host large churchwide and community events\, and have our weekly Rising worship service. \nOur speaker will preach on the same passage of scripture in this worship service as he does in the 11:00 a.m. service.
URL:https://shadescrest.org/event/rising-worship-service/2027-05-23/
LOCATION:Fellowship Hall\, 452 Park Avenue\, Hoover\, AL\, 35226\, United States
CATEGORIES:Church Event
ATTACH;FMTTYPE=image/jpeg:https://shadescrest.org/wp-content/uploads/2026/02/main-worship-slide-1.jpg
END:VEVENT
BEGIN:VEVENT
DTSTART;TZID=UTC:20270523T110000
DTEND;TZID=UTC:20270523T120000
DTSTAMP:20260425T142333
CREATED:20251114T164638Z
LAST-MODIFIED:20260220T002101Z
UID:10003003-1811070000-1811073600@shadescrest.org
SUMMARY:MAJESTIC Worship Service
DESCRIPTION:Majestic is our conventional worship service\, located in our church sanctuary. In this service\, you will worship with our sanctuary choir\, sing hymns and occasional choruses accompanied by piano\, pipe organ\, and sometimes our church orchestra. You will receive a printed bulletin as a guide for this worship service. Offering plates are passed during this service\, providing you the opportunity to give. \nOur speaker will preach on the same passage of scripture in this service as he does in the 9:00 a.m. service.
URL:https://shadescrest.org/event/majestic-worship-service/2027-05-23/
LOCATION:Church Sanctuary\, 452 Park Avenue\, Hoover\, AL\, 35226\, United States
CATEGORIES:Church Event
ATTACH;FMTTYPE=image/jpeg:https://shadescrest.org/wp-content/uploads/2026/02/main-worship-slide-1.jpg
END:VEVENT
BEGIN:VEVENT
DTSTART;TZID=UTC:20270525T073000
DTEND;TZID=UTC:20270525T083000
DTSTAMP:20260425T142333
CREATED:20260218T005012Z
LAST-MODIFIED:20260218T005012Z
UID:10004971-1811230200-1811233800@shadescrest.org
SUMMARY:Men's Prayer Team
DESCRIPTION:
URL:https://shadescrest.org/event/mens-prayer-team/2027-05-25/
LOCATION:Family Life Center\, 2028 Rockland Drive\, Hoover\, AL\, 35226\, United States
CATEGORIES:Church Event,FLC Event
ATTACH;FMTTYPE=image/jpeg:https://shadescrest.org/wp-content/uploads/2026/02/mens-prayer-team.jpg
END:VEVENT
BEGIN:VEVENT
DTSTART;TZID=UTC:20270526T164500
DTEND;TZID=UTC:20270526T200000
DTSTAMP:20260425T142333
CREATED:20240723T191342Z
LAST-MODIFIED:20260216T213352Z
UID:10000874-1811349900-1811361600@shadescrest.org
SUMMARY:Midpoint Wednesday Evening Activities
DESCRIPTION:Join us each Wednesday evening for activities and Bible Study for all ages beginning with dinner at 4:45pm in the Fellowship Hall.
URL:https://shadescrest.org/event/midpoint-wednesday-evening-activities/2027-05-26/
LOCATION:Entire Church Campus\, 452 Park Avenue\, Hoover\, AL\, 35226
CATEGORIES:Church Event
ATTACH;FMTTYPE=image/jpeg:https://shadescrest.org/wp-content/uploads/2026/02/midpoint-new.jpg
END:VEVENT
BEGIN:VEVENT
DTSTART;TZID=UTC:20270527T130000
DTEND;TZID=UTC:20270527T140000
DTSTAMP:20260425T142333
CREATED:20260221T232005Z
LAST-MODIFIED:20260221T232554Z
UID:10005037-1811422800-1811426400@shadescrest.org
SUMMARY:Women's Prayer Team
DESCRIPTION:
URL:https://shadescrest.org/event/womens-prayer-team/2027-05-27/
LOCATION:Family Life Center\, 2028 Rockland Drive\, Hoover\, AL\, 35226\, United States
CATEGORIES:Church Event,FLC Event
ATTACH;FMTTYPE=image/jpeg:https://shadescrest.org/wp-content/uploads/2026/02/womens-prayer-team.jpg
END:VEVENT
BEGIN:VEVENT
DTSTART;TZID=UTC:20270530T090000
DTEND;TZID=UTC:20270530T100000
DTSTAMP:20260425T142333
CREATED:20251114T164510Z
LAST-MODIFIED:20260220T002019Z
UID:10002743-1811667600-1811671200@shadescrest.org
SUMMARY:RISING Worship Service
DESCRIPTION:Come to our modern worship service\, Rising\, at 9:00 a.m. In the Rising service\, you’ll worship with our praise team and band in our church fellowship hall. You’ll see song lyrics and scripture passages projected on a screen\, and watch videos related to that day’s worship focus. Baskets are passed during this service\, offering you the opportunity to give. \nThe fellowship hall at Shades Crest is a multi-purpose space where we have meals as a church family\, host large churchwide and community events\, and have our weekly Rising worship service. \nOur speaker will preach on the same passage of scripture in this worship service as he does in the 11:00 a.m. service.
URL:https://shadescrest.org/event/rising-worship-service/2027-05-30/
LOCATION:Fellowship Hall\, 452 Park Avenue\, Hoover\, AL\, 35226\, United States
CATEGORIES:Church Event
ATTACH;FMTTYPE=image/jpeg:https://shadescrest.org/wp-content/uploads/2026/02/main-worship-slide-1.jpg
END:VEVENT
BEGIN:VEVENT
DTSTART;TZID=UTC:20270530T110000
DTEND;TZID=UTC:20270530T120000
DTSTAMP:20260425T142333
CREATED:20251114T164638Z
LAST-MODIFIED:20260220T002101Z
UID:10003004-1811674800-1811678400@shadescrest.org
SUMMARY:MAJESTIC Worship Service
DESCRIPTION:Majestic is our conventional worship service\, located in our church sanctuary. In this service\, you will worship with our sanctuary choir\, sing hymns and occasional choruses accompanied by piano\, pipe organ\, and sometimes our church orchestra. You will receive a printed bulletin as a guide for this worship service. Offering plates are passed during this service\, providing you the opportunity to give. \nOur speaker will preach on the same passage of scripture in this service as he does in the 9:00 a.m. service.
URL:https://shadescrest.org/event/majestic-worship-service/2027-05-30/
LOCATION:Church Sanctuary\, 452 Park Avenue\, Hoover\, AL\, 35226\, United States
CATEGORIES:Church Event
ATTACH;FMTTYPE=image/jpeg:https://shadescrest.org/wp-content/uploads/2026/02/main-worship-slide-1.jpg
END:VEVENT
BEGIN:VEVENT
DTSTART;TZID=UTC:20270602T164500
DTEND;TZID=UTC:20270602T200000
DTSTAMP:20260425T142333
CREATED:20240723T191342Z
LAST-MODIFIED:20260216T213352Z
UID:10000875-1811954700-1811966400@shadescrest.org
SUMMARY:Midpoint Wednesday Evening Activities
DESCRIPTION:Join us each Wednesday evening for activities and Bible Study for all ages beginning with dinner at 4:45pm in the Fellowship Hall.
URL:https://shadescrest.org/event/midpoint-wednesday-evening-activities/2027-06-02/
LOCATION:Entire Church Campus\, 452 Park Avenue\, Hoover\, AL\, 35226
CATEGORIES:Church Event
ATTACH;FMTTYPE=image/jpeg:https://shadescrest.org/wp-content/uploads/2026/02/midpoint-new.jpg
END:VEVENT
BEGIN:VEVENT
DTSTART;TZID=UTC:20270606T090000
DTEND;TZID=UTC:20270606T100000
DTSTAMP:20260425T142333
CREATED:20251114T164510Z
LAST-MODIFIED:20260220T002019Z
UID:10002744-1812272400-1812276000@shadescrest.org
SUMMARY:RISING Worship Service
DESCRIPTION:Come to our modern worship service\, Rising\, at 9:00 a.m. In the Rising service\, you’ll worship with our praise team and band in our church fellowship hall. You’ll see song lyrics and scripture passages projected on a screen\, and watch videos related to that day’s worship focus. Baskets are passed during this service\, offering you the opportunity to give. \nThe fellowship hall at Shades Crest is a multi-purpose space where we have meals as a church family\, host large churchwide and community events\, and have our weekly Rising worship service. \nOur speaker will preach on the same passage of scripture in this worship service as he does in the 11:00 a.m. service.
URL:https://shadescrest.org/event/rising-worship-service/2027-06-06/
LOCATION:Fellowship Hall\, 452 Park Avenue\, Hoover\, AL\, 35226\, United States
CATEGORIES:Church Event
ATTACH;FMTTYPE=image/jpeg:https://shadescrest.org/wp-content/uploads/2026/02/main-worship-slide-1.jpg
END:VEVENT
BEGIN:VEVENT
DTSTART;TZID=UTC:20270606T110000
DTEND;TZID=UTC:20270606T120000
DTSTAMP:20260425T142333
CREATED:20251114T164638Z
LAST-MODIFIED:20260220T002101Z
UID:10003005-1812279600-1812283200@shadescrest.org
SUMMARY:MAJESTIC Worship Service
DESCRIPTION:Majestic is our conventional worship service\, located in our church sanctuary. In this service\, you will worship with our sanctuary choir\, sing hymns and occasional choruses accompanied by piano\, pipe organ\, and sometimes our church orchestra. You will receive a printed bulletin as a guide for this worship service. Offering plates are passed during this service\, providing you the opportunity to give. \nOur speaker will preach on the same passage of scripture in this service as he does in the 9:00 a.m. service.
URL:https://shadescrest.org/event/majestic-worship-service/2027-06-06/
LOCATION:Church Sanctuary\, 452 Park Avenue\, Hoover\, AL\, 35226\, United States
CATEGORIES:Church Event
ATTACH;FMTTYPE=image/jpeg:https://shadescrest.org/wp-content/uploads/2026/02/main-worship-slide-1.jpg
END:VEVENT
BEGIN:VEVENT
DTSTART;TZID=UTC:20270609T164500
DTEND;TZID=UTC:20270609T200000
DTSTAMP:20260425T142333
CREATED:20240723T191342Z
LAST-MODIFIED:20260216T213352Z
UID:10000876-1812559500-1812571200@shadescrest.org
SUMMARY:Midpoint Wednesday Evening Activities
DESCRIPTION:Join us each Wednesday evening for activities and Bible Study for all ages beginning with dinner at 4:45pm in the Fellowship Hall.
URL:https://shadescrest.org/event/midpoint-wednesday-evening-activities/2027-06-09/
LOCATION:Entire Church Campus\, 452 Park Avenue\, Hoover\, AL\, 35226
CATEGORIES:Church Event
ATTACH;FMTTYPE=image/jpeg:https://shadescrest.org/wp-content/uploads/2026/02/midpoint-new.jpg
END:VEVENT
BEGIN:VEVENT
DTSTART;TZID=UTC:20270613T090000
DTEND;TZID=UTC:20270613T100000
DTSTAMP:20260425T142333
CREATED:20251114T164510Z
LAST-MODIFIED:20260220T002019Z
UID:10002745-1812877200-1812880800@shadescrest.org
SUMMARY:RISING Worship Service
DESCRIPTION:Come to our modern worship service\, Rising\, at 9:00 a.m. In the Rising service\, you’ll worship with our praise team and band in our church fellowship hall. You’ll see song lyrics and scripture passages projected on a screen\, and watch videos related to that day’s worship focus. Baskets are passed during this service\, offering you the opportunity to give. \nThe fellowship hall at Shades Crest is a multi-purpose space where we have meals as a church family\, host large churchwide and community events\, and have our weekly Rising worship service. \nOur speaker will preach on the same passage of scripture in this worship service as he does in the 11:00 a.m. service.
URL:https://shadescrest.org/event/rising-worship-service/2027-06-13/
LOCATION:Fellowship Hall\, 452 Park Avenue\, Hoover\, AL\, 35226\, United States
CATEGORIES:Church Event
ATTACH;FMTTYPE=image/jpeg:https://shadescrest.org/wp-content/uploads/2026/02/main-worship-slide-1.jpg
END:VEVENT
BEGIN:VEVENT
DTSTART;TZID=UTC:20270613T110000
DTEND;TZID=UTC:20270613T120000
DTSTAMP:20260425T142333
CREATED:20251114T164638Z
LAST-MODIFIED:20260220T002101Z
UID:10003006-1812884400-1812888000@shadescrest.org
SUMMARY:MAJESTIC Worship Service
DESCRIPTION:Majestic is our conventional worship service\, located in our church sanctuary. In this service\, you will worship with our sanctuary choir\, sing hymns and occasional choruses accompanied by piano\, pipe organ\, and sometimes our church orchestra. You will receive a printed bulletin as a guide for this worship service. Offering plates are passed during this service\, providing you the opportunity to give. \nOur speaker will preach on the same passage of scripture in this service as he does in the 9:00 a.m. service.
URL:https://shadescrest.org/event/majestic-worship-service/2027-06-13/
LOCATION:Church Sanctuary\, 452 Park Avenue\, Hoover\, AL\, 35226\, United States
CATEGORIES:Church Event
ATTACH;FMTTYPE=image/jpeg:https://shadescrest.org/wp-content/uploads/2026/02/main-worship-slide-1.jpg
END:VEVENT
BEGIN:VEVENT
DTSTART;TZID=UTC:20270616T164500
DTEND;TZID=UTC:20270616T200000
DTSTAMP:20260425T142333
CREATED:20240723T191342Z
LAST-MODIFIED:20260216T213352Z
UID:10000877-1813164300-1813176000@shadescrest.org
SUMMARY:Midpoint Wednesday Evening Activities
DESCRIPTION:Join us each Wednesday evening for activities and Bible Study for all ages beginning with dinner at 4:45pm in the Fellowship Hall.
URL:https://shadescrest.org/event/midpoint-wednesday-evening-activities/2027-06-16/
LOCATION:Entire Church Campus\, 452 Park Avenue\, Hoover\, AL\, 35226
CATEGORIES:Church Event
ATTACH;FMTTYPE=image/jpeg:https://shadescrest.org/wp-content/uploads/2026/02/midpoint-new.jpg
END:VEVENT
BEGIN:VEVENT
DTSTART;TZID=UTC:20270620T090000
DTEND;TZID=UTC:20270620T100000
DTSTAMP:20260425T142333
CREATED:20251114T164510Z
LAST-MODIFIED:20260220T002019Z
UID:10002746-1813482000-1813485600@shadescrest.org
SUMMARY:RISING Worship Service
DESCRIPTION:Come to our modern worship service\, Rising\, at 9:00 a.m. In the Rising service\, you’ll worship with our praise team and band in our church fellowship hall. You’ll see song lyrics and scripture passages projected on a screen\, and watch videos related to that day’s worship focus. Baskets are passed during this service\, offering you the opportunity to give. \nThe fellowship hall at Shades Crest is a multi-purpose space where we have meals as a church family\, host large churchwide and community events\, and have our weekly Rising worship service. \nOur speaker will preach on the same passage of scripture in this worship service as he does in the 11:00 a.m. service.
URL:https://shadescrest.org/event/rising-worship-service/2027-06-20/
LOCATION:Fellowship Hall\, 452 Park Avenue\, Hoover\, AL\, 35226\, United States
CATEGORIES:Church Event
ATTACH;FMTTYPE=image/jpeg:https://shadescrest.org/wp-content/uploads/2026/02/main-worship-slide-1.jpg
END:VEVENT
BEGIN:VEVENT
DTSTART;TZID=UTC:20270620T110000
DTEND;TZID=UTC:20270620T120000
DTSTAMP:20260425T142333
CREATED:20251114T164638Z
LAST-MODIFIED:20260220T002101Z
UID:10003007-1813489200-1813492800@shadescrest.org
SUMMARY:MAJESTIC Worship Service
DESCRIPTION:Majestic is our conventional worship service\, located in our church sanctuary. In this service\, you will worship with our sanctuary choir\, sing hymns and occasional choruses accompanied by piano\, pipe organ\, and sometimes our church orchestra. You will receive a printed bulletin as a guide for this worship service. Offering plates are passed during this service\, providing you the opportunity to give. \nOur speaker will preach on the same passage of scripture in this service as he does in the 9:00 a.m. service.
URL:https://shadescrest.org/event/majestic-worship-service/2027-06-20/
LOCATION:Church Sanctuary\, 452 Park Avenue\, Hoover\, AL\, 35226\, United States
CATEGORIES:Church Event
ATTACH;FMTTYPE=image/jpeg:https://shadescrest.org/wp-content/uploads/2026/02/main-worship-slide-1.jpg
END:VEVENT
BEGIN:VEVENT
DTSTART;TZID=UTC:20270623T164500
DTEND;TZID=UTC:20270623T200000
DTSTAMP:20260425T142333
CREATED:20240723T191342Z
LAST-MODIFIED:20260216T213352Z
UID:10000878-1813769100-1813780800@shadescrest.org
SUMMARY:Midpoint Wednesday Evening Activities
DESCRIPTION:Join us each Wednesday evening for activities and Bible Study for all ages beginning with dinner at 4:45pm in the Fellowship Hall.
URL:https://shadescrest.org/event/midpoint-wednesday-evening-activities/2027-06-23/
LOCATION:Entire Church Campus\, 452 Park Avenue\, Hoover\, AL\, 35226
CATEGORIES:Church Event
ATTACH;FMTTYPE=image/jpeg:https://shadescrest.org/wp-content/uploads/2026/02/midpoint-new.jpg
END:VEVENT
BEGIN:VEVENT
DTSTART;TZID=UTC:20270627T090000
DTEND;TZID=UTC:20270627T100000
DTSTAMP:20260425T142333
CREATED:20251114T164510Z
LAST-MODIFIED:20260220T002019Z
UID:10002747-1814086800-1814090400@shadescrest.org
SUMMARY:RISING Worship Service
DESCRIPTION:Come to our modern worship service\, Rising\, at 9:00 a.m. In the Rising service\, you’ll worship with our praise team and band in our church fellowship hall. You’ll see song lyrics and scripture passages projected on a screen\, and watch videos related to that day’s worship focus. Baskets are passed during this service\, offering you the opportunity to give. \nThe fellowship hall at Shades Crest is a multi-purpose space where we have meals as a church family\, host large churchwide and community events\, and have our weekly Rising worship service. \nOur speaker will preach on the same passage of scripture in this worship service as he does in the 11:00 a.m. service.
URL:https://shadescrest.org/event/rising-worship-service/2027-06-27/
LOCATION:Fellowship Hall\, 452 Park Avenue\, Hoover\, AL\, 35226\, United States
CATEGORIES:Church Event
ATTACH;FMTTYPE=image/jpeg:https://shadescrest.org/wp-content/uploads/2026/02/main-worship-slide-1.jpg
END:VEVENT
BEGIN:VEVENT
DTSTART;TZID=UTC:20270627T110000
DTEND;TZID=UTC:20270627T120000
DTSTAMP:20260425T142333
CREATED:20251114T164638Z
LAST-MODIFIED:20260220T002101Z
UID:10003008-1814094000-1814097600@shadescrest.org
SUMMARY:MAJESTIC Worship Service
DESCRIPTION:Majestic is our conventional worship service\, located in our church sanctuary. In this service\, you will worship with our sanctuary choir\, sing hymns and occasional choruses accompanied by piano\, pipe organ\, and sometimes our church orchestra. You will receive a printed bulletin as a guide for this worship service. Offering plates are passed during this service\, providing you the opportunity to give. \nOur speaker will preach on the same passage of scripture in this service as he does in the 9:00 a.m. service.
URL:https://shadescrest.org/event/majestic-worship-service/2027-06-27/
LOCATION:Church Sanctuary\, 452 Park Avenue\, Hoover\, AL\, 35226\, United States
CATEGORIES:Church Event
ATTACH;FMTTYPE=image/jpeg:https://shadescrest.org/wp-content/uploads/2026/02/main-worship-slide-1.jpg
END:VEVENT
BEGIN:VEVENT
DTSTART;TZID=UTC:20270630T164500
DTEND;TZID=UTC:20270630T200000
DTSTAMP:20260425T142333
CREATED:20240723T191342Z
LAST-MODIFIED:20260216T213352Z
UID:10000879-1814373900-1814385600@shadescrest.org
SUMMARY:Midpoint Wednesday Evening Activities
DESCRIPTION:Join us each Wednesday evening for activities and Bible Study for all ages beginning with dinner at 4:45pm in the Fellowship Hall.
URL:https://shadescrest.org/event/midpoint-wednesday-evening-activities/2027-06-30/
LOCATION:Entire Church Campus\, 452 Park Avenue\, Hoover\, AL\, 35226
CATEGORIES:Church Event
ATTACH;FMTTYPE=image/jpeg:https://shadescrest.org/wp-content/uploads/2026/02/midpoint-new.jpg
END:VEVENT
BEGIN:VEVENT
DTSTART;TZID=UTC:20270704T090000
DTEND;TZID=UTC:20270704T100000
DTSTAMP:20260425T142333
CREATED:20251114T164510Z
LAST-MODIFIED:20260220T002019Z
UID:10002748-1814691600-1814695200@shadescrest.org
SUMMARY:RISING Worship Service
DESCRIPTION:Come to our modern worship service\, Rising\, at 9:00 a.m. In the Rising service\, you’ll worship with our praise team and band in our church fellowship hall. You’ll see song lyrics and scripture passages projected on a screen\, and watch videos related to that day’s worship focus. Baskets are passed during this service\, offering you the opportunity to give. \nThe fellowship hall at Shades Crest is a multi-purpose space where we have meals as a church family\, host large churchwide and community events\, and have our weekly Rising worship service. \nOur speaker will preach on the same passage of scripture in this worship service as he does in the 11:00 a.m. service.
URL:https://shadescrest.org/event/rising-worship-service/2027-07-04/
LOCATION:Fellowship Hall\, 452 Park Avenue\, Hoover\, AL\, 35226\, United States
CATEGORIES:Church Event
ATTACH;FMTTYPE=image/jpeg:https://shadescrest.org/wp-content/uploads/2026/02/main-worship-slide-1.jpg
END:VEVENT
BEGIN:VEVENT
DTSTART;TZID=UTC:20270704T110000
DTEND;TZID=UTC:20270704T120000
DTSTAMP:20260425T142333
CREATED:20251114T164638Z
LAST-MODIFIED:20260220T002101Z
UID:10003009-1814698800-1814702400@shadescrest.org
SUMMARY:MAJESTIC Worship Service
DESCRIPTION:Majestic is our conventional worship service\, located in our church sanctuary. In this service\, you will worship with our sanctuary choir\, sing hymns and occasional choruses accompanied by piano\, pipe organ\, and sometimes our church orchestra. You will receive a printed bulletin as a guide for this worship service. Offering plates are passed during this service\, providing you the opportunity to give. \nOur speaker will preach on the same passage of scripture in this service as he does in the 9:00 a.m. service.
URL:https://shadescrest.org/event/majestic-worship-service/2027-07-04/
LOCATION:Church Sanctuary\, 452 Park Avenue\, Hoover\, AL\, 35226\, United States
CATEGORIES:Church Event
ATTACH;FMTTYPE=image/jpeg:https://shadescrest.org/wp-content/uploads/2026/02/main-worship-slide-1.jpg
END:VEVENT
BEGIN:VEVENT
DTSTART;TZID=UTC:20270707T164500
DTEND;TZID=UTC:20270707T200000
DTSTAMP:20260425T142333
CREATED:20240723T191342Z
LAST-MODIFIED:20260216T213352Z
UID:10000880-1814978700-1814990400@shadescrest.org
SUMMARY:Midpoint Wednesday Evening Activities
DESCRIPTION:Join us each Wednesday evening for activities and Bible Study for all ages beginning with dinner at 4:45pm in the Fellowship Hall.
URL:https://shadescrest.org/event/midpoint-wednesday-evening-activities/2027-07-07/
LOCATION:Entire Church Campus\, 452 Park Avenue\, Hoover\, AL\, 35226
CATEGORIES:Church Event
ATTACH;FMTTYPE=image/jpeg:https://shadescrest.org/wp-content/uploads/2026/02/midpoint-new.jpg
END:VEVENT
BEGIN:VEVENT
DTSTART;TZID=UTC:20270711T090000
DTEND;TZID=UTC:20270711T100000
DTSTAMP:20260425T142333
CREATED:20251114T164510Z
LAST-MODIFIED:20260220T002019Z
UID:10002749-1815296400-1815300000@shadescrest.org
SUMMARY:RISING Worship Service
DESCRIPTION:Come to our modern worship service\, Rising\, at 9:00 a.m. In the Rising service\, you’ll worship with our praise team and band in our church fellowship hall. You’ll see song lyrics and scripture passages projected on a screen\, and watch videos related to that day’s worship focus. Baskets are passed during this service\, offering you the opportunity to give. \nThe fellowship hall at Shades Crest is a multi-purpose space where we have meals as a church family\, host large churchwide and community events\, and have our weekly Rising worship service. \nOur speaker will preach on the same passage of scripture in this worship service as he does in the 11:00 a.m. service.
URL:https://shadescrest.org/event/rising-worship-service/2027-07-11/
LOCATION:Fellowship Hall\, 452 Park Avenue\, Hoover\, AL\, 35226\, United States
CATEGORIES:Church Event
ATTACH;FMTTYPE=image/jpeg:https://shadescrest.org/wp-content/uploads/2026/02/main-worship-slide-1.jpg
END:VEVENT
BEGIN:VEVENT
DTSTART;TZID=UTC:20270711T110000
DTEND;TZID=UTC:20270711T120000
DTSTAMP:20260425T142333
CREATED:20251114T164638Z
LAST-MODIFIED:20260220T002101Z
UID:10003010-1815303600-1815307200@shadescrest.org
SUMMARY:MAJESTIC Worship Service
DESCRIPTION:Majestic is our conventional worship service\, located in our church sanctuary. In this service\, you will worship with our sanctuary choir\, sing hymns and occasional choruses accompanied by piano\, pipe organ\, and sometimes our church orchestra. You will receive a printed bulletin as a guide for this worship service. Offering plates are passed during this service\, providing you the opportunity to give. \nOur speaker will preach on the same passage of scripture in this service as he does in the 9:00 a.m. service.
URL:https://shadescrest.org/event/majestic-worship-service/2027-07-11/
LOCATION:Church Sanctuary\, 452 Park Avenue\, Hoover\, AL\, 35226\, United States
CATEGORIES:Church Event
ATTACH;FMTTYPE=image/jpeg:https://shadescrest.org/wp-content/uploads/2026/02/main-worship-slide-1.jpg
END:VEVENT
BEGIN:VEVENT
DTSTART;TZID=UTC:20270714T164500
DTEND;TZID=UTC:20270714T200000
DTSTAMP:20260425T142333
CREATED:20240723T191342Z
LAST-MODIFIED:20260216T213352Z
UID:10000881-1815583500-1815595200@shadescrest.org
SUMMARY:Midpoint Wednesday Evening Activities
DESCRIPTION:Join us each Wednesday evening for activities and Bible Study for all ages beginning with dinner at 4:45pm in the Fellowship Hall.
URL:https://shadescrest.org/event/midpoint-wednesday-evening-activities/2027-07-14/
LOCATION:Entire Church Campus\, 452 Park Avenue\, Hoover\, AL\, 35226
CATEGORIES:Church Event
ATTACH;FMTTYPE=image/jpeg:https://shadescrest.org/wp-content/uploads/2026/02/midpoint-new.jpg
END:VEVENT
BEGIN:VEVENT
DTSTART;TZID=UTC:20270718T090000
DTEND;TZID=UTC:20270718T100000
DTSTAMP:20260425T142333
CREATED:20251114T164510Z
LAST-MODIFIED:20260220T002019Z
UID:10002750-1815901200-1815904800@shadescrest.org
SUMMARY:RISING Worship Service
DESCRIPTION:Come to our modern worship service\, Rising\, at 9:00 a.m. In the Rising service\, you’ll worship with our praise team and band in our church fellowship hall. You’ll see song lyrics and scripture passages projected on a screen\, and watch videos related to that day’s worship focus. Baskets are passed during this service\, offering you the opportunity to give. \nThe fellowship hall at Shades Crest is a multi-purpose space where we have meals as a church family\, host large churchwide and community events\, and have our weekly Rising worship service. \nOur speaker will preach on the same passage of scripture in this worship service as he does in the 11:00 a.m. service.
URL:https://shadescrest.org/event/rising-worship-service/2027-07-18/
LOCATION:Fellowship Hall\, 452 Park Avenue\, Hoover\, AL\, 35226\, United States
CATEGORIES:Church Event
ATTACH;FMTTYPE=image/jpeg:https://shadescrest.org/wp-content/uploads/2026/02/main-worship-slide-1.jpg
END:VEVENT
BEGIN:VEVENT
DTSTART;TZID=UTC:20270718T110000
DTEND;TZID=UTC:20270718T120000
DTSTAMP:20260425T142333
CREATED:20251114T164638Z
LAST-MODIFIED:20260220T002101Z
UID:10003011-1815908400-1815912000@shadescrest.org
SUMMARY:MAJESTIC Worship Service
DESCRIPTION:Majestic is our conventional worship service\, located in our church sanctuary. In this service\, you will worship with our sanctuary choir\, sing hymns and occasional choruses accompanied by piano\, pipe organ\, and sometimes our church orchestra. You will receive a printed bulletin as a guide for this worship service. Offering plates are passed during this service\, providing you the opportunity to give. \nOur speaker will preach on the same passage of scripture in this service as he does in the 9:00 a.m. service.
URL:https://shadescrest.org/event/majestic-worship-service/2027-07-18/
LOCATION:Church Sanctuary\, 452 Park Avenue\, Hoover\, AL\, 35226\, United States
CATEGORIES:Church Event
ATTACH;FMTTYPE=image/jpeg:https://shadescrest.org/wp-content/uploads/2026/02/main-worship-slide-1.jpg
END:VEVENT
BEGIN:VEVENT
DTSTART;TZID=UTC:20270721T164500
DTEND;TZID=UTC:20270721T200000
DTSTAMP:20260425T142333
CREATED:20240723T191342Z
LAST-MODIFIED:20260216T213352Z
UID:10000882-1816188300-1816200000@shadescrest.org
SUMMARY:Midpoint Wednesday Evening Activities
DESCRIPTION:Join us each Wednesday evening for activities and Bible Study for all ages beginning with dinner at 4:45pm in the Fellowship Hall.
URL:https://shadescrest.org/event/midpoint-wednesday-evening-activities/2027-07-21/
LOCATION:Entire Church Campus\, 452 Park Avenue\, Hoover\, AL\, 35226
CATEGORIES:Church Event
ATTACH;FMTTYPE=image/jpeg:https://shadescrest.org/wp-content/uploads/2026/02/midpoint-new.jpg
END:VEVENT
BEGIN:VEVENT
DTSTART;TZID=UTC:20270725T090000
DTEND;TZID=UTC:20270725T100000
DTSTAMP:20260425T142333
CREATED:20251114T164510Z
LAST-MODIFIED:20260220T002019Z
UID:10002751-1816506000-1816509600@shadescrest.org
SUMMARY:RISING Worship Service
DESCRIPTION:Come to our modern worship service\, Rising\, at 9:00 a.m. In the Rising service\, you’ll worship with our praise team and band in our church fellowship hall. You’ll see song lyrics and scripture passages projected on a screen\, and watch videos related to that day’s worship focus. Baskets are passed during this service\, offering you the opportunity to give. \nThe fellowship hall at Shades Crest is a multi-purpose space where we have meals as a church family\, host large churchwide and community events\, and have our weekly Rising worship service. \nOur speaker will preach on the same passage of scripture in this worship service as he does in the 11:00 a.m. service.
URL:https://shadescrest.org/event/rising-worship-service/2027-07-25/
LOCATION:Fellowship Hall\, 452 Park Avenue\, Hoover\, AL\, 35226\, United States
CATEGORIES:Church Event
ATTACH;FMTTYPE=image/jpeg:https://shadescrest.org/wp-content/uploads/2026/02/main-worship-slide-1.jpg
END:VEVENT
END:VCALENDAR