BEGIN:VCALENDAR
VERSION:2.0
PRODID:-//Shades Crest Baptist Church - ECPv6.15.20//NONSGML v1.0//EN
CALSCALE:GREGORIAN
METHOD:PUBLISH
X-ORIGINAL-URL:https://shadescrest.org
X-WR-CALDESC:Events for Shades Crest Baptist Church
REFRESH-INTERVAL;VALUE=DURATION:PT1H
X-Robots-Tag:noindex
X-PUBLISHED-TTL:PT1H
BEGIN:VTIMEZONE
TZID:UTC
BEGIN:STANDARD
TZOFFSETFROM:+0000
TZOFFSETTO:+0000
TZNAME:UTC
DTSTART:20230101T000000
END:STANDARD
END:VTIMEZONE
BEGIN:VEVENT
DTSTART;TZID=UTC:20240818T090000
DTEND;TZID=UTC:20240818T120000
DTSTAMP:20260425T172819
CREATED:20240724T175410Z
LAST-MODIFIED:20240724T175412Z
UID:10000406-1723971600-1723982400@shadescrest.org
SUMMARY:Sunday Services
DESCRIPTION:Sunday services consist of Rising service (Modern) at 9 pm in Fellowship Hall\, Connect Groups at 10 am in classrooms\, and Majestic service (Traditional) at 11 pm in Sanctuary. Both services are Livestreamed.
URL:https://shadescrest.org/event/sunday-services-8-4/2024-08-18/
LOCATION:Entire Church Campus\, 452 Park Avenue\, Hoover\, AL\, 35226
CATEGORIES:Church Event
ATTACH;FMTTYPE=image/jpeg:https://shadescrest.org/wp-content/uploads/2024/07/sunday-service.jpg
END:VEVENT
BEGIN:VEVENT
DTSTART;TZID=UTC:20240814T164500
DTEND;TZID=UTC:20240814T200000
DTSTAMP:20260425T172819
CREATED:20240723T191342Z
LAST-MODIFIED:20260216T213352Z
UID:10000729-1723653900-1723665600@shadescrest.org
SUMMARY:Midpoint Wednesday Evening Activities
DESCRIPTION:Join us each Wednesday evening for activities and Bible Study for all ages beginning with dinner at 4:45pm in the Fellowship Hall.
URL:https://shadescrest.org/event/midpoint-wednesday-evening-activities/2024-08-14/
LOCATION:Entire Church Campus\, 452 Park Avenue\, Hoover\, AL\, 35226
CATEGORIES:Church Event
ATTACH;FMTTYPE=image/jpeg:https://shadescrest.org/wp-content/uploads/2026/02/midpoint-new.jpg
END:VEVENT
BEGIN:VEVENT
DTSTART;TZID=UTC:20240812T090000
DTEND;TZID=UTC:20240812T160000
DTSTAMP:20260425T172819
CREATED:20240723T183408Z
LAST-MODIFIED:20240725T173110Z
UID:10000467-1723453200-1723478400@shadescrest.org
SUMMARY:Early Learning Academy - First Day Back
DESCRIPTION:
URL:https://shadescrest.org/event/early-learning-academy-first-day-back/
LOCATION:Entire Church Campus\, 452 Park Avenue\, Hoover\, AL\, 35226
CATEGORIES:Church Event
ATTACH;FMTTYPE=image/jpeg:https://shadescrest.org/wp-content/uploads/2024/07/ELA-logo.jpg
END:VEVENT
BEGIN:VEVENT
DTSTART;TZID=UTC:20240811T090000
DTEND;TZID=UTC:20240811T120000
DTSTAMP:20260425T172819
CREATED:20240724T175410Z
LAST-MODIFIED:20240724T175412Z
UID:10000405-1723366800-1723377600@shadescrest.org
SUMMARY:Sunday Services
DESCRIPTION:Sunday services consist of Rising service (Modern) at 9 pm in Fellowship Hall\, Connect Groups at 10 am in classrooms\, and Majestic service (Traditional) at 11 pm in Sanctuary. Both services are Livestreamed.
URL:https://shadescrest.org/event/sunday-services-8-4/2024-08-11/
LOCATION:Entire Church Campus\, 452 Park Avenue\, Hoover\, AL\, 35226
CATEGORIES:Church Event
ATTACH;FMTTYPE=image/jpeg:https://shadescrest.org/wp-content/uploads/2024/07/sunday-service.jpg
END:VEVENT
BEGIN:VEVENT
DTSTART;TZID=UTC:20240805T083000
DTEND;TZID=UTC:20240805T113000
DTSTAMP:20260425T172819
CREATED:20240723T182330Z
LAST-MODIFIED:20240723T182517Z
UID:10000465-1722846600-1722857400@shadescrest.org
SUMMARY:Early Learning Academy Orientation/Parent
DESCRIPTION:
URL:https://shadescrest.org/event/early-learning-academy-orientation-parent/
LOCATION:Entire Church Campus\, 452 Park Avenue\, Hoover\, AL\, 35226
CATEGORIES:Church Event
ATTACH;FMTTYPE=image/jpeg:https://shadescrest.org/wp-content/uploads/2024/07/ELA-logo.jpg
END:VEVENT
BEGIN:VEVENT
DTSTART;TZID=UTC:20240804T090000
DTEND;TZID=UTC:20240804T230000
DTSTAMP:20260425T172819
CREATED:20240711T204510Z
LAST-MODIFIED:20240724T175234Z
UID:10000404-1722762000-1722812400@shadescrest.org
SUMMARY:Sunday Services - Sabbath Week
DESCRIPTION:Sunday service consist of Rising service (Modern) at 9 pm in Fellowship Hall\, Connect Groups at 10 am in classrooms.Rising service will be Livestreamed.
URL:https://shadescrest.org/event/sunday-services-8-3/
LOCATION:Entire Church Campus\, 452 Park Avenue\, Hoover\, AL\, 35226
CATEGORIES:Church Event
ATTACH;FMTTYPE=image/jpeg:https://shadescrest.org/wp-content/uploads/2024/07/sunday-service.jpg
END:VEVENT
BEGIN:VEVENT
DTSTART;TZID=UTC:20240728T100000
DTEND;TZID=UTC:20240728T120000
DTSTAMP:20260425T172819
CREATED:20240711T204123Z
LAST-MODIFIED:20240724T175120Z
UID:10000403-1722160800-1722168000@shadescrest.org
SUMMARY:Sunday Services - Sabbath Week
DESCRIPTION:Connect Groups at 10 am in classrooms\, and only the Majestic service (Traditional) at 11 pm in Sanctuary. Service will be Livestreamed.
URL:https://shadescrest.org/event/sunday-services-8-2/
LOCATION:Entire Church Campus\, 452 Park Avenue\, Hoover\, AL\, 35226
CATEGORIES:Church Event
ATTACH;FMTTYPE=image/jpeg:https://shadescrest.org/wp-content/uploads/2024/07/sunday-service.jpg
END:VEVENT
BEGIN:VEVENT
DTSTART;TZID=UTC:20240724T164500
DTEND;TZID=UTC:20240724T190000
DTSTAMP:20260425T172819
CREATED:20240711T202815Z
LAST-MODIFIED:20240711T210049Z
UID:10000400-1721839500-1721847600@shadescrest.org
SUMMARY:Summer Share Night
DESCRIPTION:Regular Wednesday Night Dinner at 4:45. Sharing experiences from VBS\, We Love Our City\, Youth Mission Trip\, Super Summer\, and Children’s Camp.
URL:https://shadescrest.org/event/summer-share-night/
LOCATION:Fellowship Hall\, 452 Park Avenue\, Hoover\, AL\, 35226\, United States
CATEGORIES:Church Event
ATTACH;FMTTYPE=image/jpeg:https://shadescrest.org/wp-content/uploads/2024/07/summer-share-night.jpg
END:VEVENT
BEGIN:VEVENT
DTSTART;TZID=UTC:20240721T090000
DTEND;TZID=UTC:20240721T120000
DTSTAMP:20260425T172819
CREATED:20240711T203629Z
LAST-MODIFIED:20240711T203629Z
UID:10000402-1721552400-1721563200@shadescrest.org
SUMMARY:Sunday Services
DESCRIPTION:Sunday services consist of Rising service (Modern) at 9 pm in Fellowship Hall\, Connect Groups at 10 am in classrooms\, and Majestic service (Traditional) at 11 pm in Sanctuary. Both services are Livestreamed.
URL:https://shadescrest.org/event/sunday-services-8/2024-07-21/
LOCATION:Entire Church Campus\, 452 Park Avenue\, Hoover\, AL\, 35226
CATEGORIES:Church Event
ATTACH;FMTTYPE=image/jpeg:https://shadescrest.org/wp-content/uploads/2024/01/logo-on-blue-e1706653761738.jpg
END:VEVENT
BEGIN:VEVENT
DTSTART;TZID=UTC:20240718T110000
DTEND;TZID=UTC:20240718T170000
DTSTAMP:20260425T172819
CREATED:20240626T181024Z
LAST-MODIFIED:20240626T181024Z
UID:10000397-1721300400-1721322000@shadescrest.org
SUMMARY:Oasis Birmingham
DESCRIPTION:On July 18\, our senior adults will attend Oasis 2024 at First Baptist Church\, Trussville. Tickets $20\, Transportation: Metro van\, Eat before we load up at 12:00 PM
URL:https://shadescrest.org/event/oasis-birmingham/
CATEGORIES:Church Event
ATTACH;FMTTYPE=image/jpeg:https://shadescrest.org/wp-content/uploads/2024/06/Oasis-Bham.jpg
END:VEVENT
BEGIN:VEVENT
DTSTART;TZID=UTC:20240714T090000
DTEND;TZID=UTC:20240714T120000
DTSTAMP:20260425T172819
CREATED:20240711T203629Z
LAST-MODIFIED:20240711T203629Z
UID:10000401-1720947600-1720958400@shadescrest.org
SUMMARY:Sunday Services
DESCRIPTION:Sunday services consist of Rising service (Modern) at 9 pm in Fellowship Hall\, Connect Groups at 10 am in classrooms\, and Majestic service (Traditional) at 11 pm in Sanctuary. Both services are Livestreamed.
URL:https://shadescrest.org/event/sunday-services-8/2024-07-14/
LOCATION:Entire Church Campus\, 452 Park Avenue\, Hoover\, AL\, 35226
CATEGORIES:Church Event
ATTACH;FMTTYPE=image/jpeg:https://shadescrest.org/wp-content/uploads/2024/01/logo-on-blue-e1706653761738.jpg
END:VEVENT
BEGIN:VEVENT
DTSTART;TZID=UTC:20240707T090000
DTEND;TZID=UTC:20240707T230000
DTSTAMP:20260425T172819
CREATED:20240529T194212Z
LAST-MODIFIED:20240610T154444Z
UID:10000035-1720342800-1720393200@shadescrest.org
SUMMARY:Sunday Services
DESCRIPTION:Independence Day Weekend we will have a joint Connect Group in the Fellowship Hall at 10 am and our one service will be the Rising Service in the Fellowship Hall at 9 am. The Rising Service will be livestreamed.
URL:https://shadescrest.org/event/sunday-services-7/
LOCATION:Entire Church Campus\, 452 Park Avenue\, Hoover\, AL\, 35226
CATEGORIES:Church Event
ATTACH;FMTTYPE=image/png:https://shadescrest.org/wp-content/uploads/2023/08/SCBC-IconPrimary.png
END:VEVENT
BEGIN:VEVENT
DTSTART;VALUE=DATE:20240704
DTEND;VALUE=DATE:20240706
DTSTAMP:20260425T172819
CREATED:20240701T172942Z
LAST-MODIFIED:20240701T172942Z
UID:10000398-1720062000-1720148399@shadescrest.org
SUMMARY:Church Office & FLC Closed
DESCRIPTION:
URL:https://shadescrest.org/event/church-office-flc-closed/
LOCATION:Family Life Center\, 2028 Rockland Drive\, Hoover\, AL\, 35226\, United States
CATEGORIES:Church Event,FLC Event
ATTACH;FMTTYPE=image/jpeg:https://shadescrest.org/wp-content/uploads/2024/07/4th-pic.jpg
END:VEVENT
BEGIN:VEVENT
DTSTART;TZID=UTC:20240703T183000
DTEND;TZID=UTC:20240703T194500
DTSTAMP:20260425T172819
CREATED:20240703T153916Z
LAST-MODIFIED:20240703T153918Z
UID:10000392-1720031400-1720035900@shadescrest.org
SUMMARY:Sanctuary Choir Rehearsal
DESCRIPTION:Adults (college age and above) are invited to join this choir\, which sings every Sunday morning in the 11:00 a.m. Majestic service\, and for special programs throughout the year. The choir rehearses each Wednesday evening in the Music Suite.
URL:https://shadescrest.org/event/sanctuary-choir-rehearsal-2-2/
LOCATION:Music Suite
CATEGORIES:Church Event
ATTACH;FMTTYPE=image/jpeg:https://shadescrest.org/wp-content/uploads/2022/11/Majestic-Worship-scaled-e1769100895559.jpeg
END:VEVENT
BEGIN:VEVENT
DTSTART;TZID=UTC:20240630T090000
DTEND;TZID=UTC:20240630T120000
DTSTAMP:20260425T172819
CREATED:20240523T182341Z
LAST-MODIFIED:20240610T154454Z
UID:10000021-1719738000-1719748800@shadescrest.org
SUMMARY:Sunday Services
DESCRIPTION:Sunday services consist of Rising service (Modern) at 9 pm in Fellowship Hall\, Connect Groups at 10 am in classrooms\, and Majestic service (Traditional) at 11 pm in Sanctuary. Both services are Livestreamed.
URL:https://shadescrest.org/event/sunday-services-5/
LOCATION:Entire Church Campus\, 452 Park Avenue\, Hoover\, AL\, 35226
CATEGORIES:Church Event
ATTACH;FMTTYPE=image/png:https://shadescrest.org/wp-content/uploads/2023/08/SCBC-IconPrimary.png
END:VEVENT
BEGIN:VEVENT
DTSTART;TZID=UTC:20240628T060000
DTEND;TZID=UTC:20240628T130000
DTSTAMP:20260425T172819
CREATED:20240610T183203Z
LAST-MODIFIED:20240618T175012Z
UID:10000390-1719554400-1719579600@shadescrest.org
SUMMARY:We Love Our City Week
DESCRIPTION:June 23-28\, \n\nSunday-Hand out water at Bluff Park Wiffle Ball league games:1-5PM\,\nMon.-Fri.-Serve drive-thru Breafast from Church parking lot:5-8AM\,\nMon.-Fri.-Serve lunch to local firehouses:11AM-1PM\n\n 
URL:https://shadescrest.org/event/we-love-our-city-week/2024-06-28/
LOCATION:Entire Church Campus\, 452 Park Avenue\, Hoover\, AL\, 35226
CATEGORIES:Church Event
ATTACH;FMTTYPE=image/jpeg:https://shadescrest.org/wp-content/uploads/2024/06/We-love-our-city.jpg
END:VEVENT
BEGIN:VEVENT
DTSTART;TZID=UTC:20240627T060000
DTEND;TZID=UTC:20240627T130000
DTSTAMP:20260425T172819
CREATED:20240610T183203Z
LAST-MODIFIED:20240618T175012Z
UID:10000389-1719468000-1719493200@shadescrest.org
SUMMARY:We Love Our City Week
DESCRIPTION:June 23-28\, \n\nSunday-Hand out water at Bluff Park Wiffle Ball league games:1-5PM\,\nMon.-Fri.-Serve drive-thru Breafast from Church parking lot:5-8AM\,\nMon.-Fri.-Serve lunch to local firehouses:11AM-1PM\n\n 
URL:https://shadescrest.org/event/we-love-our-city-week/2024-06-27/
LOCATION:Entire Church Campus\, 452 Park Avenue\, Hoover\, AL\, 35226
CATEGORIES:Church Event
ATTACH;FMTTYPE=image/jpeg:https://shadescrest.org/wp-content/uploads/2024/06/We-love-our-city.jpg
END:VEVENT
BEGIN:VEVENT
DTSTART;TZID=UTC:20240626T180000
DTEND;TZID=UTC:20240626T190000
DTSTAMP:20260425T172819
CREATED:20240610T184623Z
LAST-MODIFIED:20240619T192332Z
UID:10000054-1719424800-1719428400@shadescrest.org
SUMMARY:Family Worship Night
DESCRIPTION:Come next Wednesday\, June 26\, to our Family Worship Night in the Fellowship Hall. Children\, youth\, and adults are encouraged to participate. Dinner will be available prior to the worship time\, similar to a regular Wednesday night\, from 4:45 to 6:00 PM. It’ll be helpful if you call the Church Office to let us know you’re planning to eat here.
URL:https://shadescrest.org/event/family-worship-night/
LOCATION:Fellowship Hall\, 452 Park Avenue\, Hoover\, AL\, 35226\, United States
CATEGORIES:Church Event
ATTACH;FMTTYPE=image/jpeg:https://shadescrest.org/wp-content/uploads/2024/06/family-worship-night.jpg
END:VEVENT
BEGIN:VEVENT
DTSTART;TZID=UTC:20240626T060000
DTEND;TZID=UTC:20240626T130000
DTSTAMP:20260425T172819
CREATED:20240610T183203Z
LAST-MODIFIED:20240618T175012Z
UID:10000388-1719381600-1719406800@shadescrest.org
SUMMARY:We Love Our City Week
DESCRIPTION:June 23-28\, \n\nSunday-Hand out water at Bluff Park Wiffle Ball league games:1-5PM\,\nMon.-Fri.-Serve drive-thru Breafast from Church parking lot:5-8AM\,\nMon.-Fri.-Serve lunch to local firehouses:11AM-1PM\n\n 
URL:https://shadescrest.org/event/we-love-our-city-week/2024-06-26/
LOCATION:Entire Church Campus\, 452 Park Avenue\, Hoover\, AL\, 35226
CATEGORIES:Church Event
ATTACH;FMTTYPE=image/jpeg:https://shadescrest.org/wp-content/uploads/2024/06/We-love-our-city.jpg
END:VEVENT
BEGIN:VEVENT
DTSTART;TZID=UTC:20240625T060000
DTEND;TZID=UTC:20240625T130000
DTSTAMP:20260425T172819
CREATED:20240610T183203Z
LAST-MODIFIED:20240618T175012Z
UID:10000387-1719295200-1719320400@shadescrest.org
SUMMARY:We Love Our City Week
DESCRIPTION:June 23-28\, \n\nSunday-Hand out water at Bluff Park Wiffle Ball league games:1-5PM\,\nMon.-Fri.-Serve drive-thru Breafast from Church parking lot:5-8AM\,\nMon.-Fri.-Serve lunch to local firehouses:11AM-1PM\n\n 
URL:https://shadescrest.org/event/we-love-our-city-week/2024-06-25/
LOCATION:Entire Church Campus\, 452 Park Avenue\, Hoover\, AL\, 35226
CATEGORIES:Church Event
ATTACH;FMTTYPE=image/jpeg:https://shadescrest.org/wp-content/uploads/2024/06/We-love-our-city.jpg
END:VEVENT
BEGIN:VEVENT
DTSTART;TZID=UTC:20240624T060000
DTEND;TZID=UTC:20240624T130000
DTSTAMP:20260425T172819
CREATED:20240610T183203Z
LAST-MODIFIED:20240618T175012Z
UID:10000053-1719208800-1719234000@shadescrest.org
SUMMARY:We Love Our City Week
DESCRIPTION:June 23-28\, \n\nSunday-Hand out water at Bluff Park Wiffle Ball league games:1-5PM\,\nMon.-Fri.-Serve drive-thru Breafast from Church parking lot:5-8AM\,\nMon.-Fri.-Serve lunch to local firehouses:11AM-1PM\n\n 
URL:https://shadescrest.org/event/we-love-our-city-week/2024-06-24/
LOCATION:Entire Church Campus\, 452 Park Avenue\, Hoover\, AL\, 35226
CATEGORIES:Church Event
ATTACH;FMTTYPE=image/jpeg:https://shadescrest.org/wp-content/uploads/2024/06/We-love-our-city.jpg
END:VEVENT
BEGIN:VEVENT
DTSTART;TZID=UTC:20240623T090000
DTEND;TZID=UTC:20240623T120000
DTSTAMP:20260425T172819
CREATED:20240523T182234Z
LAST-MODIFIED:20240610T154603Z
UID:10000020-1719133200-1719144000@shadescrest.org
SUMMARY:Sunday Services
DESCRIPTION:Sunday services consist of Rising service (Modern) at 9 pm in Fellowship Hall\, Connect Groups at 10 am in classrooms\, and Majestic service (Traditional) at 11 pm in Sanctuary. Both services are Livestreamed.
URL:https://shadescrest.org/event/sunday-services-4/
LOCATION:Entire Church Campus\, 452 Park Avenue\, Hoover\, AL\, 35226
CATEGORIES:Church Event
ATTACH;FMTTYPE=image/png:https://shadescrest.org/wp-content/uploads/2023/08/SCBC-IconPrimary.png
END:VEVENT
BEGIN:VEVENT
DTSTART;TZID=UTC:20240623T060000
DTEND;TZID=UTC:20240623T130000
DTSTAMP:20260425T172819
CREATED:20240610T183203Z
LAST-MODIFIED:20240618T175012Z
UID:10000386-1719122400-1719147600@shadescrest.org
SUMMARY:We Love Our City Week
DESCRIPTION:June 23-28\, \n\nSunday-Hand out water at Bluff Park Wiffle Ball league games:1-5PM\,\nMon.-Fri.-Serve drive-thru Breafast from Church parking lot:5-8AM\,\nMon.-Fri.-Serve lunch to local firehouses:11AM-1PM\n\n 
URL:https://shadescrest.org/event/we-love-our-city-week/2024-06-23/
LOCATION:Entire Church Campus\, 452 Park Avenue\, Hoover\, AL\, 35226
CATEGORIES:Church Event
ATTACH;FMTTYPE=image/jpeg:https://shadescrest.org/wp-content/uploads/2024/06/We-love-our-city.jpg
END:VEVENT
BEGIN:VEVENT
DTSTART;TZID=UTC:20240619T183000
DTEND;TZID=UTC:20240619T194500
DTSTAMP:20260425T172819
CREATED:20240618T175838Z
LAST-MODIFIED:20240618T180132Z
UID:10000391-1718821800-1718826300@shadescrest.org
SUMMARY:Sanctuary Choir Rehearsal
DESCRIPTION:Adults (college age and above) are invited to join this choir\, which sings every Sunday morning in the 11:00 a.m. Majestic service\, and for special programs throughout the year. The choir rehearses each Wednesday evening in the Music Suite.
URL:https://shadescrest.org/event/sanctuary-choir-rehearsal-2/
LOCATION:Music Suite
CATEGORIES:Church Event
ATTACH;FMTTYPE=image/jpeg:https://shadescrest.org/wp-content/uploads/2022/11/Majestic-Worship-scaled-e1769100895559.jpeg
END:VEVENT
BEGIN:VEVENT
DTSTART;TZID=UTC:20240616T090000
DTEND;TZID=UTC:20240616T120000
DTSTAMP:20260425T172819
CREATED:20240523T182121Z
LAST-MODIFIED:20240610T154657Z
UID:10000019-1718528400-1718539200@shadescrest.org
SUMMARY:Sunday Services
DESCRIPTION:Sunday services consist of Rising service (Modern) at 9 pm in Fellowship Hall\, Connect Groups at 10 am in classrooms\, and Majestic service (Traditional) at 11 pm in Sanctuary. Both services are Livestreamed.
URL:https://shadescrest.org/event/sunday-services-3/
LOCATION:Entire Church Campus\, 452 Park Avenue\, Hoover\, AL\, 35226
CATEGORIES:Church Event
ATTACH;FMTTYPE=image/png:https://shadescrest.org/wp-content/uploads/2023/08/SCBC-IconPrimary.png
END:VEVENT
BEGIN:VEVENT
DTSTART;TZID=UTC:20240612T170000
DTEND;TZID=UTC:20240612T210000
DTSTAMP:20260425T172819
CREATED:20240610T162150Z
LAST-MODIFIED:20240610T162150Z
UID:10000052-1718211600-1718226000@shadescrest.org
SUMMARY:NO EVENING ACTIVITIES
DESCRIPTION:
URL:https://shadescrest.org/event/no-evening-activities-2/
LOCATION:Entire Church Campus\, 452 Park Avenue\, Hoover\, AL\, 35226
CATEGORIES:Church Event,FLC Event
END:VEVENT
END:VCALENDAR