BEGIN:VCALENDAR
VERSION:2.0
PRODID:-//Shades Crest Baptist Church - ECPv6.15.20//NONSGML v1.0//EN
CALSCALE:GREGORIAN
METHOD:PUBLISH
X-ORIGINAL-URL:https://shadescrest.org
X-WR-CALDESC:Events for Shades Crest Baptist Church
REFRESH-INTERVAL;VALUE=DURATION:PT1H
X-Robots-Tag:noindex
X-PUBLISHED-TTL:PT1H
BEGIN:VTIMEZONE
TZID:UTC
BEGIN:STANDARD
TZOFFSETFROM:+0000
TZOFFSETTO:+0000
TZNAME:UTC
DTSTART:20240101T000000
END:STANDARD
END:VTIMEZONE
BEGIN:VEVENT
DTSTART;TZID=UTC:20250625T164500
DTEND;TZID=UTC:20250625T200000
DTSTAMP:20260425T103958
CREATED:20240723T191342Z
LAST-MODIFIED:20260216T213352Z
UID:10000774-1750869900-1750881600@shadescrest.org
SUMMARY:Midpoint Wednesday Evening Activities
DESCRIPTION:Join us each Wednesday evening for activities and Bible Study for all ages beginning with dinner at 4:45pm in the Fellowship Hall.
URL:https://shadescrest.org/event/midpoint-wednesday-evening-activities/2025-06-25/
LOCATION:Entire Church Campus\, 452 Park Avenue\, Hoover\, AL\, 35226
CATEGORIES:Church Event
ATTACH;FMTTYPE=image/jpeg:https://shadescrest.org/wp-content/uploads/2026/02/midpoint-new.jpg
END:VEVENT
BEGIN:VEVENT
DTSTART;TZID=UTC:20250629T090000
DTEND;TZID=UTC:20250629T120000
DTSTAMP:20260425T103958
CREATED:20241120T185907Z
LAST-MODIFIED:20241120T185908Z
UID:10000451-1751187600-1751198400@shadescrest.org
SUMMARY:Sunday Services
DESCRIPTION:Sunday services consist of Rising service (Modern) at 9 pm in Fellowship Hall\, Connect Groups at 10 am in classrooms\, and Majestic service (Traditional) at 11 pm in Sanctuary. Both services are Livestreamed.
URL:https://shadescrest.org/event/sunday-services-8-4-4/2025-06-29/
LOCATION:Entire Church Campus\, 452 Park Avenue\, Hoover\, AL\, 35226
CATEGORIES:Church Event
ATTACH;FMTTYPE=image/jpeg:https://shadescrest.org/wp-content/uploads/2024/07/sunday-service.jpg
END:VEVENT
BEGIN:VEVENT
DTSTART;TZID=UTC:20250702T164500
DTEND;TZID=UTC:20250702T200000
DTSTAMP:20260425T103958
CREATED:20240723T191342Z
LAST-MODIFIED:20260216T213352Z
UID:10000775-1751474700-1751486400@shadescrest.org
SUMMARY:Midpoint Wednesday Evening Activities
DESCRIPTION:Join us each Wednesday evening for activities and Bible Study for all ages beginning with dinner at 4:45pm in the Fellowship Hall.
URL:https://shadescrest.org/event/midpoint-wednesday-evening-activities/2025-07-02/
LOCATION:Entire Church Campus\, 452 Park Avenue\, Hoover\, AL\, 35226
CATEGORIES:Church Event
ATTACH;FMTTYPE=image/jpeg:https://shadescrest.org/wp-content/uploads/2026/02/midpoint-new.jpg
END:VEVENT
BEGIN:VEVENT
DTSTART;TZID=UTC:20250706T090000
DTEND;TZID=UTC:20250706T120000
DTSTAMP:20260425T103958
CREATED:20241120T185907Z
LAST-MODIFIED:20241120T185908Z
UID:10000452-1751792400-1751803200@shadescrest.org
SUMMARY:Sunday Services
DESCRIPTION:Sunday services consist of Rising service (Modern) at 9 pm in Fellowship Hall\, Connect Groups at 10 am in classrooms\, and Majestic service (Traditional) at 11 pm in Sanctuary. Both services are Livestreamed.
URL:https://shadescrest.org/event/sunday-services-8-4-4/2025-07-06/
LOCATION:Entire Church Campus\, 452 Park Avenue\, Hoover\, AL\, 35226
CATEGORIES:Church Event
ATTACH;FMTTYPE=image/jpeg:https://shadescrest.org/wp-content/uploads/2024/07/sunday-service.jpg
END:VEVENT
BEGIN:VEVENT
DTSTART;TZID=UTC:20250709T164500
DTEND;TZID=UTC:20250709T200000
DTSTAMP:20260425T103958
CREATED:20240723T191342Z
LAST-MODIFIED:20260216T213352Z
UID:10000776-1752079500-1752091200@shadescrest.org
SUMMARY:Midpoint Wednesday Evening Activities
DESCRIPTION:Join us each Wednesday evening for activities and Bible Study for all ages beginning with dinner at 4:45pm in the Fellowship Hall.
URL:https://shadescrest.org/event/midpoint-wednesday-evening-activities/2025-07-09/
LOCATION:Entire Church Campus\, 452 Park Avenue\, Hoover\, AL\, 35226
CATEGORIES:Church Event
ATTACH;FMTTYPE=image/jpeg:https://shadescrest.org/wp-content/uploads/2026/02/midpoint-new.jpg
END:VEVENT
BEGIN:VEVENT
DTSTART;TZID=UTC:20250713T090000
DTEND;TZID=UTC:20250713T120000
DTSTAMP:20260425T103958
CREATED:20241120T185907Z
LAST-MODIFIED:20241120T185908Z
UID:10000453-1752397200-1752408000@shadescrest.org
SUMMARY:Sunday Services
DESCRIPTION:Sunday services consist of Rising service (Modern) at 9 pm in Fellowship Hall\, Connect Groups at 10 am in classrooms\, and Majestic service (Traditional) at 11 pm in Sanctuary. Both services are Livestreamed.
URL:https://shadescrest.org/event/sunday-services-8-4-4/2025-07-13/
LOCATION:Entire Church Campus\, 452 Park Avenue\, Hoover\, AL\, 35226
CATEGORIES:Church Event
ATTACH;FMTTYPE=image/jpeg:https://shadescrest.org/wp-content/uploads/2024/07/sunday-service.jpg
END:VEVENT
BEGIN:VEVENT
DTSTART;TZID=UTC:20250716T164500
DTEND;TZID=UTC:20250716T200000
DTSTAMP:20260425T103958
CREATED:20240723T191342Z
LAST-MODIFIED:20260216T213352Z
UID:10000777-1752684300-1752696000@shadescrest.org
SUMMARY:Midpoint Wednesday Evening Activities
DESCRIPTION:Join us each Wednesday evening for activities and Bible Study for all ages beginning with dinner at 4:45pm in the Fellowship Hall.
URL:https://shadescrest.org/event/midpoint-wednesday-evening-activities/2025-07-16/
LOCATION:Entire Church Campus\, 452 Park Avenue\, Hoover\, AL\, 35226
CATEGORIES:Church Event
ATTACH;FMTTYPE=image/jpeg:https://shadescrest.org/wp-content/uploads/2026/02/midpoint-new.jpg
END:VEVENT
BEGIN:VEVENT
DTSTART;TZID=UTC:20250720T090000
DTEND;TZID=UTC:20250720T120000
DTSTAMP:20260425T103958
CREATED:20241120T185907Z
LAST-MODIFIED:20241120T185908Z
UID:10000454-1753002000-1753012800@shadescrest.org
SUMMARY:Sunday Services
DESCRIPTION:Sunday services consist of Rising service (Modern) at 9 pm in Fellowship Hall\, Connect Groups at 10 am in classrooms\, and Majestic service (Traditional) at 11 pm in Sanctuary. Both services are Livestreamed.
URL:https://shadescrest.org/event/sunday-services-8-4-4/2025-07-20/
LOCATION:Entire Church Campus\, 452 Park Avenue\, Hoover\, AL\, 35226
CATEGORIES:Church Event
ATTACH;FMTTYPE=image/jpeg:https://shadescrest.org/wp-content/uploads/2024/07/sunday-service.jpg
END:VEVENT
BEGIN:VEVENT
DTSTART;TZID=UTC:20250723T164500
DTEND;TZID=UTC:20250723T200000
DTSTAMP:20260425T103958
CREATED:20240723T191342Z
LAST-MODIFIED:20260216T213352Z
UID:10000778-1753289100-1753300800@shadescrest.org
SUMMARY:Midpoint Wednesday Evening Activities
DESCRIPTION:Join us each Wednesday evening for activities and Bible Study for all ages beginning with dinner at 4:45pm in the Fellowship Hall.
URL:https://shadescrest.org/event/midpoint-wednesday-evening-activities/2025-07-23/
LOCATION:Entire Church Campus\, 452 Park Avenue\, Hoover\, AL\, 35226
CATEGORIES:Church Event
ATTACH;FMTTYPE=image/jpeg:https://shadescrest.org/wp-content/uploads/2026/02/midpoint-new.jpg
END:VEVENT
BEGIN:VEVENT
DTSTART;TZID=UTC:20250727T090000
DTEND;TZID=UTC:20250727T120000
DTSTAMP:20260425T103958
CREATED:20241120T185907Z
LAST-MODIFIED:20241120T185908Z
UID:10000455-1753606800-1753617600@shadescrest.org
SUMMARY:Sunday Services
DESCRIPTION:Sunday services consist of Rising service (Modern) at 9 pm in Fellowship Hall\, Connect Groups at 10 am in classrooms\, and Majestic service (Traditional) at 11 pm in Sanctuary. Both services are Livestreamed.
URL:https://shadescrest.org/event/sunday-services-8-4-4/2025-07-27/
LOCATION:Entire Church Campus\, 452 Park Avenue\, Hoover\, AL\, 35226
CATEGORIES:Church Event
ATTACH;FMTTYPE=image/jpeg:https://shadescrest.org/wp-content/uploads/2024/07/sunday-service.jpg
END:VEVENT
BEGIN:VEVENT
DTSTART;TZID=UTC:20250730T164500
DTEND;TZID=UTC:20250730T200000
DTSTAMP:20260425T103958
CREATED:20240723T191342Z
LAST-MODIFIED:20260216T213352Z
UID:10000779-1753893900-1753905600@shadescrest.org
SUMMARY:Midpoint Wednesday Evening Activities
DESCRIPTION:Join us each Wednesday evening for activities and Bible Study for all ages beginning with dinner at 4:45pm in the Fellowship Hall.
URL:https://shadescrest.org/event/midpoint-wednesday-evening-activities/2025-07-30/
LOCATION:Entire Church Campus\, 452 Park Avenue\, Hoover\, AL\, 35226
CATEGORIES:Church Event
ATTACH;FMTTYPE=image/jpeg:https://shadescrest.org/wp-content/uploads/2026/02/midpoint-new.jpg
END:VEVENT
BEGIN:VEVENT
DTSTART;TZID=UTC:20250803T090000
DTEND;TZID=UTC:20250803T120000
DTSTAMP:20260425T103958
CREATED:20241120T185907Z
LAST-MODIFIED:20241120T185908Z
UID:10000456-1754211600-1754222400@shadescrest.org
SUMMARY:Sunday Services
DESCRIPTION:Sunday services consist of Rising service (Modern) at 9 pm in Fellowship Hall\, Connect Groups at 10 am in classrooms\, and Majestic service (Traditional) at 11 pm in Sanctuary. Both services are Livestreamed.
URL:https://shadescrest.org/event/sunday-services-8-4-4/2025-08-03/
LOCATION:Entire Church Campus\, 452 Park Avenue\, Hoover\, AL\, 35226
CATEGORIES:Church Event
ATTACH;FMTTYPE=image/jpeg:https://shadescrest.org/wp-content/uploads/2024/07/sunday-service.jpg
END:VEVENT
BEGIN:VEVENT
DTSTART;TZID=UTC:20250806T164500
DTEND;TZID=UTC:20250806T200000
DTSTAMP:20260425T103958
CREATED:20240723T191342Z
LAST-MODIFIED:20260216T213352Z
UID:10000780-1754498700-1754510400@shadescrest.org
SUMMARY:Midpoint Wednesday Evening Activities
DESCRIPTION:Join us each Wednesday evening for activities and Bible Study for all ages beginning with dinner at 4:45pm in the Fellowship Hall.
URL:https://shadescrest.org/event/midpoint-wednesday-evening-activities/2025-08-06/
LOCATION:Entire Church Campus\, 452 Park Avenue\, Hoover\, AL\, 35226
CATEGORIES:Church Event
ATTACH;FMTTYPE=image/jpeg:https://shadescrest.org/wp-content/uploads/2026/02/midpoint-new.jpg
END:VEVENT
BEGIN:VEVENT
DTSTART;TZID=UTC:20250810T090000
DTEND;TZID=UTC:20250810T120000
DTSTAMP:20260425T103958
CREATED:20241120T185907Z
LAST-MODIFIED:20241120T185908Z
UID:10000457-1754816400-1754827200@shadescrest.org
SUMMARY:Sunday Services
DESCRIPTION:Sunday services consist of Rising service (Modern) at 9 pm in Fellowship Hall\, Connect Groups at 10 am in classrooms\, and Majestic service (Traditional) at 11 pm in Sanctuary. Both services are Livestreamed.
URL:https://shadescrest.org/event/sunday-services-8-4-4/2025-08-10/
LOCATION:Entire Church Campus\, 452 Park Avenue\, Hoover\, AL\, 35226
CATEGORIES:Church Event
ATTACH;FMTTYPE=image/jpeg:https://shadescrest.org/wp-content/uploads/2024/07/sunday-service.jpg
END:VEVENT
BEGIN:VEVENT
DTSTART;TZID=UTC:20250813T164500
DTEND;TZID=UTC:20250813T200000
DTSTAMP:20260425T103958
CREATED:20240723T191342Z
LAST-MODIFIED:20260216T213352Z
UID:10000781-1755103500-1755115200@shadescrest.org
SUMMARY:Midpoint Wednesday Evening Activities
DESCRIPTION:Join us each Wednesday evening for activities and Bible Study for all ages beginning with dinner at 4:45pm in the Fellowship Hall.
URL:https://shadescrest.org/event/midpoint-wednesday-evening-activities/2025-08-13/
LOCATION:Entire Church Campus\, 452 Park Avenue\, Hoover\, AL\, 35226
CATEGORIES:Church Event
ATTACH;FMTTYPE=image/jpeg:https://shadescrest.org/wp-content/uploads/2026/02/midpoint-new.jpg
END:VEVENT
BEGIN:VEVENT
DTSTART;TZID=UTC:20250817T090000
DTEND;TZID=UTC:20250817T120000
DTSTAMP:20260425T103958
CREATED:20241120T185907Z
LAST-MODIFIED:20241120T185908Z
UID:10000458-1755421200-1755432000@shadescrest.org
SUMMARY:Sunday Services
DESCRIPTION:Sunday services consist of Rising service (Modern) at 9 pm in Fellowship Hall\, Connect Groups at 10 am in classrooms\, and Majestic service (Traditional) at 11 pm in Sanctuary. Both services are Livestreamed.
URL:https://shadescrest.org/event/sunday-services-8-4-4/2025-08-17/
LOCATION:Entire Church Campus\, 452 Park Avenue\, Hoover\, AL\, 35226
CATEGORIES:Church Event
ATTACH;FMTTYPE=image/jpeg:https://shadescrest.org/wp-content/uploads/2024/07/sunday-service.jpg
END:VEVENT
BEGIN:VEVENT
DTSTART;TZID=UTC:20250820T164500
DTEND;TZID=UTC:20250820T200000
DTSTAMP:20260425T103958
CREATED:20240723T191342Z
LAST-MODIFIED:20260216T213352Z
UID:10000782-1755708300-1755720000@shadescrest.org
SUMMARY:Midpoint Wednesday Evening Activities
DESCRIPTION:Join us each Wednesday evening for activities and Bible Study for all ages beginning with dinner at 4:45pm in the Fellowship Hall.
URL:https://shadescrest.org/event/midpoint-wednesday-evening-activities/2025-08-20/
LOCATION:Entire Church Campus\, 452 Park Avenue\, Hoover\, AL\, 35226
CATEGORIES:Church Event
ATTACH;FMTTYPE=image/jpeg:https://shadescrest.org/wp-content/uploads/2026/02/midpoint-new.jpg
END:VEVENT
BEGIN:VEVENT
DTSTART;TZID=UTC:20250824T090000
DTEND;TZID=UTC:20250824T120000
DTSTAMP:20260425T103958
CREATED:20241120T185907Z
LAST-MODIFIED:20241120T185908Z
UID:10000459-1756026000-1756036800@shadescrest.org
SUMMARY:Sunday Services
DESCRIPTION:Sunday services consist of Rising service (Modern) at 9 pm in Fellowship Hall\, Connect Groups at 10 am in classrooms\, and Majestic service (Traditional) at 11 pm in Sanctuary. Both services are Livestreamed.
URL:https://shadescrest.org/event/sunday-services-8-4-4/2025-08-24/
LOCATION:Entire Church Campus\, 452 Park Avenue\, Hoover\, AL\, 35226
CATEGORIES:Church Event
ATTACH;FMTTYPE=image/jpeg:https://shadescrest.org/wp-content/uploads/2024/07/sunday-service.jpg
END:VEVENT
BEGIN:VEVENT
DTSTART;TZID=UTC:20250827T164500
DTEND;TZID=UTC:20250827T200000
DTSTAMP:20260425T103958
CREATED:20240723T191342Z
LAST-MODIFIED:20260216T213352Z
UID:10000783-1756313100-1756324800@shadescrest.org
SUMMARY:Midpoint Wednesday Evening Activities
DESCRIPTION:Join us each Wednesday evening for activities and Bible Study for all ages beginning with dinner at 4:45pm in the Fellowship Hall.
URL:https://shadescrest.org/event/midpoint-wednesday-evening-activities/2025-08-27/
LOCATION:Entire Church Campus\, 452 Park Avenue\, Hoover\, AL\, 35226
CATEGORIES:Church Event
ATTACH;FMTTYPE=image/jpeg:https://shadescrest.org/wp-content/uploads/2026/02/midpoint-new.jpg
END:VEVENT
BEGIN:VEVENT
DTSTART;TZID=UTC:20250831T090000
DTEND;TZID=UTC:20250831T120000
DTSTAMP:20260425T103958
CREATED:20241120T185907Z
LAST-MODIFIED:20241120T185908Z
UID:10000460-1756630800-1756641600@shadescrest.org
SUMMARY:Sunday Services
DESCRIPTION:Sunday services consist of Rising service (Modern) at 9 pm in Fellowship Hall\, Connect Groups at 10 am in classrooms\, and Majestic service (Traditional) at 11 pm in Sanctuary. Both services are Livestreamed.
URL:https://shadescrest.org/event/sunday-services-8-4-4/2025-08-31/
LOCATION:Entire Church Campus\, 452 Park Avenue\, Hoover\, AL\, 35226
CATEGORIES:Church Event
ATTACH;FMTTYPE=image/jpeg:https://shadescrest.org/wp-content/uploads/2024/07/sunday-service.jpg
END:VEVENT
BEGIN:VEVENT
DTSTART;TZID=UTC:20250903T164500
DTEND;TZID=UTC:20250903T200000
DTSTAMP:20260425T103958
CREATED:20240723T191342Z
LAST-MODIFIED:20260216T213352Z
UID:10000784-1756917900-1756929600@shadescrest.org
SUMMARY:Midpoint Wednesday Evening Activities
DESCRIPTION:Join us each Wednesday evening for activities and Bible Study for all ages beginning with dinner at 4:45pm in the Fellowship Hall.
URL:https://shadescrest.org/event/midpoint-wednesday-evening-activities/2025-09-03/
LOCATION:Entire Church Campus\, 452 Park Avenue\, Hoover\, AL\, 35226
CATEGORIES:Church Event
ATTACH;FMTTYPE=image/jpeg:https://shadescrest.org/wp-content/uploads/2026/02/midpoint-new.jpg
END:VEVENT
BEGIN:VEVENT
DTSTART;TZID=UTC:20250907T090000
DTEND;TZID=UTC:20250907T120000
DTSTAMP:20260425T103958
CREATED:20241120T185907Z
LAST-MODIFIED:20241120T185908Z
UID:10000461-1757235600-1757246400@shadescrest.org
SUMMARY:Sunday Services
DESCRIPTION:Sunday services consist of Rising service (Modern) at 9 pm in Fellowship Hall\, Connect Groups at 10 am in classrooms\, and Majestic service (Traditional) at 11 pm in Sanctuary. Both services are Livestreamed.
URL:https://shadescrest.org/event/sunday-services-8-4-4/2025-09-07/
LOCATION:Entire Church Campus\, 452 Park Avenue\, Hoover\, AL\, 35226
CATEGORIES:Church Event
ATTACH;FMTTYPE=image/jpeg:https://shadescrest.org/wp-content/uploads/2024/07/sunday-service.jpg
END:VEVENT
BEGIN:VEVENT
DTSTART;TZID=UTC:20250910T164500
DTEND;TZID=UTC:20250910T200000
DTSTAMP:20260425T103958
CREATED:20240723T191342Z
LAST-MODIFIED:20260216T213352Z
UID:10000785-1757522700-1757534400@shadescrest.org
SUMMARY:Midpoint Wednesday Evening Activities
DESCRIPTION:Join us each Wednesday evening for activities and Bible Study for all ages beginning with dinner at 4:45pm in the Fellowship Hall.
URL:https://shadescrest.org/event/midpoint-wednesday-evening-activities/2025-09-10/
LOCATION:Entire Church Campus\, 452 Park Avenue\, Hoover\, AL\, 35226
CATEGORIES:Church Event
ATTACH;FMTTYPE=image/jpeg:https://shadescrest.org/wp-content/uploads/2026/02/midpoint-new.jpg
END:VEVENT
BEGIN:VEVENT
DTSTART;TZID=UTC:20250914T090000
DTEND;TZID=UTC:20250914T120000
DTSTAMP:20260425T103958
CREATED:20241120T185907Z
LAST-MODIFIED:20241120T185908Z
UID:10000462-1757840400-1757851200@shadescrest.org
SUMMARY:Sunday Services
DESCRIPTION:Sunday services consist of Rising service (Modern) at 9 pm in Fellowship Hall\, Connect Groups at 10 am in classrooms\, and Majestic service (Traditional) at 11 pm in Sanctuary. Both services are Livestreamed.
URL:https://shadescrest.org/event/sunday-services-8-4-4/2025-09-14/
LOCATION:Entire Church Campus\, 452 Park Avenue\, Hoover\, AL\, 35226
CATEGORIES:Church Event
ATTACH;FMTTYPE=image/jpeg:https://shadescrest.org/wp-content/uploads/2024/07/sunday-service.jpg
END:VEVENT
BEGIN:VEVENT
DTSTART;TZID=UTC:20250917T164500
DTEND;TZID=UTC:20250917T200000
DTSTAMP:20260425T103958
CREATED:20240723T191342Z
LAST-MODIFIED:20260216T213352Z
UID:10000786-1758127500-1758139200@shadescrest.org
SUMMARY:Midpoint Wednesday Evening Activities
DESCRIPTION:Join us each Wednesday evening for activities and Bible Study for all ages beginning with dinner at 4:45pm in the Fellowship Hall.
URL:https://shadescrest.org/event/midpoint-wednesday-evening-activities/2025-09-17/
LOCATION:Entire Church Campus\, 452 Park Avenue\, Hoover\, AL\, 35226
CATEGORIES:Church Event
ATTACH;FMTTYPE=image/jpeg:https://shadescrest.org/wp-content/uploads/2026/02/midpoint-new.jpg
END:VEVENT
BEGIN:VEVENT
DTSTART;TZID=UTC:20250921T090000
DTEND;TZID=UTC:20250921T120000
DTSTAMP:20260425T103958
CREATED:20241120T185907Z
LAST-MODIFIED:20241120T185908Z
UID:10000463-1758445200-1758456000@shadescrest.org
SUMMARY:Sunday Services
DESCRIPTION:Sunday services consist of Rising service (Modern) at 9 pm in Fellowship Hall\, Connect Groups at 10 am in classrooms\, and Majestic service (Traditional) at 11 pm in Sanctuary. Both services are Livestreamed.
URL:https://shadescrest.org/event/sunday-services-8-4-4/2025-09-21/
LOCATION:Entire Church Campus\, 452 Park Avenue\, Hoover\, AL\, 35226
CATEGORIES:Church Event
ATTACH;FMTTYPE=image/jpeg:https://shadescrest.org/wp-content/uploads/2024/07/sunday-service.jpg
END:VEVENT
BEGIN:VEVENT
DTSTART;TZID=UTC:20250924T164500
DTEND;TZID=UTC:20250924T200000
DTSTAMP:20260425T103958
CREATED:20240723T191342Z
LAST-MODIFIED:20260216T213352Z
UID:10000787-1758732300-1758744000@shadescrest.org
SUMMARY:Midpoint Wednesday Evening Activities
DESCRIPTION:Join us each Wednesday evening for activities and Bible Study for all ages beginning with dinner at 4:45pm in the Fellowship Hall.
URL:https://shadescrest.org/event/midpoint-wednesday-evening-activities/2025-09-24/
LOCATION:Entire Church Campus\, 452 Park Avenue\, Hoover\, AL\, 35226
CATEGORIES:Church Event
ATTACH;FMTTYPE=image/jpeg:https://shadescrest.org/wp-content/uploads/2026/02/midpoint-new.jpg
END:VEVENT
BEGIN:VEVENT
DTSTART;TZID=UTC:20250928T090000
DTEND;TZID=UTC:20250928T120000
DTSTAMP:20260425T103958
CREATED:20241120T185907Z
LAST-MODIFIED:20241120T185908Z
UID:10000464-1759050000-1759060800@shadescrest.org
SUMMARY:Sunday Services
DESCRIPTION:Sunday services consist of Rising service (Modern) at 9 pm in Fellowship Hall\, Connect Groups at 10 am in classrooms\, and Majestic service (Traditional) at 11 pm in Sanctuary. Both services are Livestreamed.
URL:https://shadescrest.org/event/sunday-services-8-4-4/2025-09-28/
LOCATION:Entire Church Campus\, 452 Park Avenue\, Hoover\, AL\, 35226
CATEGORIES:Church Event
ATTACH;FMTTYPE=image/jpeg:https://shadescrest.org/wp-content/uploads/2024/07/sunday-service.jpg
END:VEVENT
BEGIN:VEVENT
DTSTART;TZID=UTC:20251001T164500
DTEND;TZID=UTC:20251001T200000
DTSTAMP:20260425T103958
CREATED:20240723T191342Z
LAST-MODIFIED:20260216T213352Z
UID:10000788-1759337100-1759348800@shadescrest.org
SUMMARY:Midpoint Wednesday Evening Activities
DESCRIPTION:Join us each Wednesday evening for activities and Bible Study for all ages beginning with dinner at 4:45pm in the Fellowship Hall.
URL:https://shadescrest.org/event/midpoint-wednesday-evening-activities/2025-10-01/
LOCATION:Entire Church Campus\, 452 Park Avenue\, Hoover\, AL\, 35226
CATEGORIES:Church Event
ATTACH;FMTTYPE=image/jpeg:https://shadescrest.org/wp-content/uploads/2026/02/midpoint-new.jpg
END:VEVENT
BEGIN:VEVENT
DTSTART;TZID=UTC:20251008T164500
DTEND;TZID=UTC:20251008T200000
DTSTAMP:20260425T103958
CREATED:20240723T191342Z
LAST-MODIFIED:20260216T213352Z
UID:10000789-1759941900-1759953600@shadescrest.org
SUMMARY:Midpoint Wednesday Evening Activities
DESCRIPTION:Join us each Wednesday evening for activities and Bible Study for all ages beginning with dinner at 4:45pm in the Fellowship Hall.
URL:https://shadescrest.org/event/midpoint-wednesday-evening-activities/2025-10-08/
LOCATION:Entire Church Campus\, 452 Park Avenue\, Hoover\, AL\, 35226
CATEGORIES:Church Event
ATTACH;FMTTYPE=image/jpeg:https://shadescrest.org/wp-content/uploads/2026/02/midpoint-new.jpg
END:VEVENT
END:VCALENDAR