BEGIN:VCALENDAR
VERSION:2.0
PRODID:-//Shades Crest Baptist Church - ECPv6.15.20//NONSGML v1.0//EN
CALSCALE:GREGORIAN
METHOD:PUBLISH
X-ORIGINAL-URL:https://shadescrest.org
X-WR-CALDESC:Events for Shades Crest Baptist Church
REFRESH-INTERVAL;VALUE=DURATION:PT1H
X-Robots-Tag:noindex
X-PUBLISHED-TTL:PT1H
BEGIN:VTIMEZONE
TZID:UTC
BEGIN:STANDARD
TZOFFSETFROM:+0000
TZOFFSETTO:+0000
TZNAME:UTC
DTSTART:20250101T000000
END:STANDARD
END:VTIMEZONE
BEGIN:VEVENT
DTSTART;TZID=UTC:20260105T090000
DTEND;TZID=UTC:20260105T120000
DTSTAMP:20260425T140131
CREATED:20240606T173300Z
LAST-MODIFIED:20260223T195015Z
UID:10000543-1767603600-1767614400@shadescrest.org
SUMMARY:Retired and Moving
DESCRIPTION:The senior adults gather every Monday at 9 AM in the FLC for games\, fellowship\, and crafts. On the 1st Monday of each month\, a lunch is served. Bring $5 to cover the cost.
URL:https://shadescrest.org/event/retired-and-moving-3/2026-01-05/
LOCATION:Family Life Center\, 2028 Rockland Drive\, Hoover\, AL\, 35226\, United States
CATEGORIES:FLC Event
ATTACH;FMTTYPE=image/jpeg:https://shadescrest.org/wp-content/uploads/2026/02/moving-2-1.jpg
END:VEVENT
BEGIN:VEVENT
DTSTART;TZID=UTC:20260112T090000
DTEND;TZID=UTC:20260112T120000
DTSTAMP:20260425T140131
CREATED:20240606T173300Z
LAST-MODIFIED:20260223T195015Z
UID:10000544-1768208400-1768219200@shadescrest.org
SUMMARY:Retired and Moving
DESCRIPTION:The senior adults gather every Monday at 9 AM in the FLC for games\, fellowship\, and crafts. On the 1st Monday of each month\, a lunch is served. Bring $5 to cover the cost.
URL:https://shadescrest.org/event/retired-and-moving-3/2026-01-12/
LOCATION:Family Life Center\, 2028 Rockland Drive\, Hoover\, AL\, 35226\, United States
CATEGORIES:FLC Event
ATTACH;FMTTYPE=image/jpeg:https://shadescrest.org/wp-content/uploads/2026/02/moving-2-1.jpg
END:VEVENT
BEGIN:VEVENT
DTSTART;TZID=UTC:20260117T080000
DTEND;TZID=UTC:20260117T160000
DTSTAMP:20260425T140131
CREATED:20260113T235135Z
LAST-MODIFIED:20260201T002231Z
UID:10004808-1768636800-1768665600@shadescrest.org
SUMMARY:Community League Basketball
DESCRIPTION:
URL:https://shadescrest.org/event/community-league-basketball/2026-01-17/
LOCATION:Family Life Center\, 2028 Rockland Drive\, Hoover\, AL\, 35226\, United States
CATEGORIES:FLC Event
END:VEVENT
BEGIN:VEVENT
DTSTART;TZID=UTC:20260124T080000
DTEND;TZID=UTC:20260124T160000
DTSTAMP:20260425T140131
CREATED:20260113T235135Z
LAST-MODIFIED:20260201T002231Z
UID:10004809-1769241600-1769270400@shadescrest.org
SUMMARY:Community League Basketball
DESCRIPTION:
URL:https://shadescrest.org/event/community-league-basketball/2026-01-24/
LOCATION:Family Life Center\, 2028 Rockland Drive\, Hoover\, AL\, 35226\, United States
CATEGORIES:FLC Event
END:VEVENT
BEGIN:VEVENT
DTSTART;TZID=UTC:20260126T090000
DTEND;TZID=UTC:20260126T120000
DTSTAMP:20260425T140131
CREATED:20260125T230038Z
LAST-MODIFIED:20260125T230042Z
UID:10000546-1769418000-1769428800@shadescrest.org
SUMMARY:Retired and Moving
DESCRIPTION:Retired and Moving will not meet today due to inclement weather. The senior adults gather every Monday at 9 AM in the FLC for games\, fellowship\, and crafts. On the 1st Monday of each month\, a lunch is served. Bring $5 to cover the cost.
URL:https://shadescrest.org/event/retired-and-moving-3-2/
LOCATION:Family Life Center\, 2028 Rockland Drive\, Hoover\, AL\, 35226\, United States
CATEGORIES:FLC Event
ATTACH;FMTTYPE=image/jpeg:https://shadescrest.org/wp-content/uploads/2024/08/retired-and-moving-revised.jpg
END:VEVENT
BEGIN:VEVENT
DTSTART;TZID=UTC:20260131T080000
DTEND;TZID=UTC:20260131T160000
DTSTAMP:20260425T140131
CREATED:20260113T235135Z
LAST-MODIFIED:20260201T002231Z
UID:10004810-1769846400-1769875200@shadescrest.org
SUMMARY:Community League Basketball
DESCRIPTION:
URL:https://shadescrest.org/event/community-league-basketball/2026-01-31/
LOCATION:Family Life Center\, 2028 Rockland Drive\, Hoover\, AL\, 35226\, United States
CATEGORIES:FLC Event
END:VEVENT
END:VCALENDAR