BEGIN:VCALENDAR
VERSION:2.0
PRODID:-//Shades Crest Baptist Church - ECPv6.15.20//NONSGML v1.0//EN
CALSCALE:GREGORIAN
METHOD:PUBLISH
X-WR-CALNAME:Shades Crest Baptist Church
X-ORIGINAL-URL:https://shadescrest.org
X-WR-CALDESC:Events for Shades Crest Baptist Church
REFRESH-INTERVAL;VALUE=DURATION:PT1H
X-Robots-Tag:noindex
X-PUBLISHED-TTL:PT1H
BEGIN:VTIMEZONE
TZID:UTC
BEGIN:STANDARD
TZOFFSETFROM:+0000
TZOFFSETTO:+0000
TZNAME:UTC
DTSTART:20250101T000000
END:STANDARD
END:VTIMEZONE
BEGIN:VEVENT
DTSTART;TZID=UTC:20261116T090000
DTEND;TZID=UTC:20261116T120000
DTSTAMP:20260426T031518
CREATED:20240606T173300Z
LAST-MODIFIED:20260223T195015Z
UID:10000588-1794819600-1794830400@shadescrest.org
SUMMARY:Retired and Moving
DESCRIPTION:The senior adults gather every Monday at 9 AM in the FLC for games\, fellowship\, and crafts. On the 1st Monday of each month\, a lunch is served. Bring $5 to cover the cost.
URL:https://shadescrest.org/event/retired-and-moving-3/2026-11-16/
LOCATION:Family Life Center\, 2028 Rockland Drive\, Hoover\, AL\, 35226\, United States
CATEGORIES:FLC Event
ATTACH;FMTTYPE=image/jpeg:https://shadescrest.org/wp-content/uploads/2026/02/moving-2-1.jpg
END:VEVENT
BEGIN:VEVENT
DTSTART;TZID=UTC:20261117T073000
DTEND;TZID=UTC:20261117T083000
DTSTAMP:20260426T031518
CREATED:20260218T005012Z
LAST-MODIFIED:20260218T005012Z
UID:10004944-1794900600-1794904200@shadescrest.org
SUMMARY:Men's Prayer Team
DESCRIPTION:
URL:https://shadescrest.org/event/mens-prayer-team/2026-11-17/
LOCATION:Family Life Center\, 2028 Rockland Drive\, Hoover\, AL\, 35226\, United States
CATEGORIES:Church Event,FLC Event
ATTACH;FMTTYPE=image/jpeg:https://shadescrest.org/wp-content/uploads/2026/02/mens-prayer-team.jpg
END:VEVENT
BEGIN:VEVENT
DTSTART;TZID=UTC:20261117T183000
DTEND;TZID=UTC:20261117T203000
DTSTAMP:20260426T031518
CREATED:20260224T190743Z
LAST-MODIFIED:20260224T225850Z
UID:10005079-1794940200-1794947400@shadescrest.org
SUMMARY:Ladies Fitness Bible Study
DESCRIPTION:
URL:https://shadescrest.org/event/ladies-fitness-bible-study/2026-11-17/
LOCATION:Family Life Center\, 2028 Rockland Drive\, Hoover\, AL\, 35226\, United States
CATEGORIES:FLC Event
ATTACH;FMTTYPE=image/jpeg:https://shadescrest.org/wp-content/uploads/2026/02/ladies-fitbess-bible-study2.jpg
END:VEVENT
BEGIN:VEVENT
DTSTART;TZID=UTC:20261119T130000
DTEND;TZID=UTC:20261119T140000
DTSTAMP:20260426T031518
CREATED:20260221T232005Z
LAST-MODIFIED:20260221T232554Z
UID:10005010-1795093200-1795096800@shadescrest.org
SUMMARY:Women's Prayer Team
DESCRIPTION:
URL:https://shadescrest.org/event/womens-prayer-team/2026-11-19/
LOCATION:Family Life Center\, 2028 Rockland Drive\, Hoover\, AL\, 35226\, United States
CATEGORIES:Church Event,FLC Event
ATTACH;FMTTYPE=image/jpeg:https://shadescrest.org/wp-content/uploads/2026/02/womens-prayer-team.jpg
END:VEVENT
BEGIN:VEVENT
DTSTART;TZID=UTC:20261123T090000
DTEND;TZID=UTC:20261123T120000
DTSTAMP:20260426T031518
CREATED:20240606T173300Z
LAST-MODIFIED:20260223T195015Z
UID:10000589-1795424400-1795435200@shadescrest.org
SUMMARY:Retired and Moving
DESCRIPTION:The senior adults gather every Monday at 9 AM in the FLC for games\, fellowship\, and crafts. On the 1st Monday of each month\, a lunch is served. Bring $5 to cover the cost.
URL:https://shadescrest.org/event/retired-and-moving-3/2026-11-23/
LOCATION:Family Life Center\, 2028 Rockland Drive\, Hoover\, AL\, 35226\, United States
CATEGORIES:FLC Event
ATTACH;FMTTYPE=image/jpeg:https://shadescrest.org/wp-content/uploads/2026/02/moving-2-1.jpg
END:VEVENT
BEGIN:VEVENT
DTSTART;TZID=UTC:20261124T073000
DTEND;TZID=UTC:20261124T083000
DTSTAMP:20260426T031518
CREATED:20260218T005012Z
LAST-MODIFIED:20260218T005012Z
UID:10004945-1795505400-1795509000@shadescrest.org
SUMMARY:Men's Prayer Team
DESCRIPTION:
URL:https://shadescrest.org/event/mens-prayer-team/2026-11-24/
LOCATION:Family Life Center\, 2028 Rockland Drive\, Hoover\, AL\, 35226\, United States
CATEGORIES:Church Event,FLC Event
ATTACH;FMTTYPE=image/jpeg:https://shadescrest.org/wp-content/uploads/2026/02/mens-prayer-team.jpg
END:VEVENT
BEGIN:VEVENT
DTSTART;TZID=UTC:20261124T183000
DTEND;TZID=UTC:20261124T203000
DTSTAMP:20260426T031518
CREATED:20260224T190743Z
LAST-MODIFIED:20260224T225850Z
UID:10005080-1795545000-1795552200@shadescrest.org
SUMMARY:Ladies Fitness Bible Study
DESCRIPTION:
URL:https://shadescrest.org/event/ladies-fitness-bible-study/2026-11-24/
LOCATION:Family Life Center\, 2028 Rockland Drive\, Hoover\, AL\, 35226\, United States
CATEGORIES:FLC Event
ATTACH;FMTTYPE=image/jpeg:https://shadescrest.org/wp-content/uploads/2026/02/ladies-fitbess-bible-study2.jpg
END:VEVENT
BEGIN:VEVENT
DTSTART;TZID=UTC:20261126T130000
DTEND;TZID=UTC:20261126T140000
DTSTAMP:20260426T031518
CREATED:20260221T232005Z
LAST-MODIFIED:20260221T232554Z
UID:10005011-1795698000-1795701600@shadescrest.org
SUMMARY:Women's Prayer Team
DESCRIPTION:
URL:https://shadescrest.org/event/womens-prayer-team/2026-11-26/
LOCATION:Family Life Center\, 2028 Rockland Drive\, Hoover\, AL\, 35226\, United States
CATEGORIES:Church Event,FLC Event
ATTACH;FMTTYPE=image/jpeg:https://shadescrest.org/wp-content/uploads/2026/02/womens-prayer-team.jpg
END:VEVENT
BEGIN:VEVENT
DTSTART;TZID=UTC:20261130T090000
DTEND;TZID=UTC:20261130T120000
DTSTAMP:20260426T031518
CREATED:20240606T173300Z
LAST-MODIFIED:20260223T195015Z
UID:10000590-1796029200-1796040000@shadescrest.org
SUMMARY:Retired and Moving
DESCRIPTION:The senior adults gather every Monday at 9 AM in the FLC for games\, fellowship\, and crafts. On the 1st Monday of each month\, a lunch is served. Bring $5 to cover the cost.
URL:https://shadescrest.org/event/retired-and-moving-3/2026-11-30/
LOCATION:Family Life Center\, 2028 Rockland Drive\, Hoover\, AL\, 35226\, United States
CATEGORIES:FLC Event
ATTACH;FMTTYPE=image/jpeg:https://shadescrest.org/wp-content/uploads/2026/02/moving-2-1.jpg
END:VEVENT
BEGIN:VEVENT
DTSTART;TZID=UTC:20261201T073000
DTEND;TZID=UTC:20261201T083000
DTSTAMP:20260426T031518
CREATED:20260218T005012Z
LAST-MODIFIED:20260218T005012Z
UID:10004946-1796110200-1796113800@shadescrest.org
SUMMARY:Men's Prayer Team
DESCRIPTION:
URL:https://shadescrest.org/event/mens-prayer-team/2026-12-01/
LOCATION:Family Life Center\, 2028 Rockland Drive\, Hoover\, AL\, 35226\, United States
CATEGORIES:Church Event,FLC Event
ATTACH;FMTTYPE=image/jpeg:https://shadescrest.org/wp-content/uploads/2026/02/mens-prayer-team.jpg
END:VEVENT
BEGIN:VEVENT
DTSTART;TZID=UTC:20261201T183000
DTEND;TZID=UTC:20261201T203000
DTSTAMP:20260426T031518
CREATED:20260224T190743Z
LAST-MODIFIED:20260224T225850Z
UID:10005081-1796149800-1796157000@shadescrest.org
SUMMARY:Ladies Fitness Bible Study
DESCRIPTION:
URL:https://shadescrest.org/event/ladies-fitness-bible-study/2026-12-01/
LOCATION:Family Life Center\, 2028 Rockland Drive\, Hoover\, AL\, 35226\, United States
CATEGORIES:FLC Event
ATTACH;FMTTYPE=image/jpeg:https://shadescrest.org/wp-content/uploads/2026/02/ladies-fitbess-bible-study2.jpg
END:VEVENT
BEGIN:VEVENT
DTSTART;TZID=UTC:20261203T130000
DTEND;TZID=UTC:20261203T140000
DTSTAMP:20260426T031518
CREATED:20260221T232005Z
LAST-MODIFIED:20260221T232554Z
UID:10005012-1796302800-1796306400@shadescrest.org
SUMMARY:Women's Prayer Team
DESCRIPTION:
URL:https://shadescrest.org/event/womens-prayer-team/2026-12-03/
LOCATION:Family Life Center\, 2028 Rockland Drive\, Hoover\, AL\, 35226\, United States
CATEGORIES:Church Event,FLC Event
ATTACH;FMTTYPE=image/jpeg:https://shadescrest.org/wp-content/uploads/2026/02/womens-prayer-team.jpg
END:VEVENT
BEGIN:VEVENT
DTSTART;TZID=UTC:20261207T090000
DTEND;TZID=UTC:20261207T120000
DTSTAMP:20260426T031518
CREATED:20240606T173300Z
LAST-MODIFIED:20260223T195015Z
UID:10000591-1796634000-1796644800@shadescrest.org
SUMMARY:Retired and Moving
DESCRIPTION:The senior adults gather every Monday at 9 AM in the FLC for games\, fellowship\, and crafts. On the 1st Monday of each month\, a lunch is served. Bring $5 to cover the cost.
URL:https://shadescrest.org/event/retired-and-moving-3/2026-12-07/
LOCATION:Family Life Center\, 2028 Rockland Drive\, Hoover\, AL\, 35226\, United States
CATEGORIES:FLC Event
ATTACH;FMTTYPE=image/jpeg:https://shadescrest.org/wp-content/uploads/2026/02/moving-2-1.jpg
END:VEVENT
BEGIN:VEVENT
DTSTART;TZID=UTC:20261208T073000
DTEND;TZID=UTC:20261208T083000
DTSTAMP:20260426T031518
CREATED:20260218T005012Z
LAST-MODIFIED:20260218T005012Z
UID:10004947-1796715000-1796718600@shadescrest.org
SUMMARY:Men's Prayer Team
DESCRIPTION:
URL:https://shadescrest.org/event/mens-prayer-team/2026-12-08/
LOCATION:Family Life Center\, 2028 Rockland Drive\, Hoover\, AL\, 35226\, United States
CATEGORIES:Church Event,FLC Event
ATTACH;FMTTYPE=image/jpeg:https://shadescrest.org/wp-content/uploads/2026/02/mens-prayer-team.jpg
END:VEVENT
BEGIN:VEVENT
DTSTART;TZID=UTC:20261208T183000
DTEND;TZID=UTC:20261208T203000
DTSTAMP:20260426T031518
CREATED:20260224T190743Z
LAST-MODIFIED:20260224T225850Z
UID:10005082-1796754600-1796761800@shadescrest.org
SUMMARY:Ladies Fitness Bible Study
DESCRIPTION:
URL:https://shadescrest.org/event/ladies-fitness-bible-study/2026-12-08/
LOCATION:Family Life Center\, 2028 Rockland Drive\, Hoover\, AL\, 35226\, United States
CATEGORIES:FLC Event
ATTACH;FMTTYPE=image/jpeg:https://shadescrest.org/wp-content/uploads/2026/02/ladies-fitbess-bible-study2.jpg
END:VEVENT
BEGIN:VEVENT
DTSTART;TZID=UTC:20261210T130000
DTEND;TZID=UTC:20261210T140000
DTSTAMP:20260426T031518
CREATED:20260221T232005Z
LAST-MODIFIED:20260221T232554Z
UID:10005013-1796907600-1796911200@shadescrest.org
SUMMARY:Women's Prayer Team
DESCRIPTION:
URL:https://shadescrest.org/event/womens-prayer-team/2026-12-10/
LOCATION:Family Life Center\, 2028 Rockland Drive\, Hoover\, AL\, 35226\, United States
CATEGORIES:Church Event,FLC Event
ATTACH;FMTTYPE=image/jpeg:https://shadescrest.org/wp-content/uploads/2026/02/womens-prayer-team.jpg
END:VEVENT
BEGIN:VEVENT
DTSTART;TZID=UTC:20261214T090000
DTEND;TZID=UTC:20261214T120000
DTSTAMP:20260426T031518
CREATED:20240606T173300Z
LAST-MODIFIED:20260223T195015Z
UID:10000592-1797238800-1797249600@shadescrest.org
SUMMARY:Retired and Moving
DESCRIPTION:The senior adults gather every Monday at 9 AM in the FLC for games\, fellowship\, and crafts. On the 1st Monday of each month\, a lunch is served. Bring $5 to cover the cost.
URL:https://shadescrest.org/event/retired-and-moving-3/2026-12-14/
LOCATION:Family Life Center\, 2028 Rockland Drive\, Hoover\, AL\, 35226\, United States
CATEGORIES:FLC Event
ATTACH;FMTTYPE=image/jpeg:https://shadescrest.org/wp-content/uploads/2026/02/moving-2-1.jpg
END:VEVENT
BEGIN:VEVENT
DTSTART;TZID=UTC:20261215T073000
DTEND;TZID=UTC:20261215T083000
DTSTAMP:20260426T031518
CREATED:20260218T005012Z
LAST-MODIFIED:20260218T005012Z
UID:10004948-1797319800-1797323400@shadescrest.org
SUMMARY:Men's Prayer Team
DESCRIPTION:
URL:https://shadescrest.org/event/mens-prayer-team/2026-12-15/
LOCATION:Family Life Center\, 2028 Rockland Drive\, Hoover\, AL\, 35226\, United States
CATEGORIES:Church Event,FLC Event
ATTACH;FMTTYPE=image/jpeg:https://shadescrest.org/wp-content/uploads/2026/02/mens-prayer-team.jpg
END:VEVENT
BEGIN:VEVENT
DTSTART;TZID=UTC:20261215T183000
DTEND;TZID=UTC:20261215T203000
DTSTAMP:20260426T031518
CREATED:20260224T190743Z
LAST-MODIFIED:20260224T225850Z
UID:10005083-1797359400-1797366600@shadescrest.org
SUMMARY:Ladies Fitness Bible Study
DESCRIPTION:
URL:https://shadescrest.org/event/ladies-fitness-bible-study/2026-12-15/
LOCATION:Family Life Center\, 2028 Rockland Drive\, Hoover\, AL\, 35226\, United States
CATEGORIES:FLC Event
ATTACH;FMTTYPE=image/jpeg:https://shadescrest.org/wp-content/uploads/2026/02/ladies-fitbess-bible-study2.jpg
END:VEVENT
BEGIN:VEVENT
DTSTART;TZID=UTC:20261217T130000
DTEND;TZID=UTC:20261217T140000
DTSTAMP:20260426T031518
CREATED:20260221T232005Z
LAST-MODIFIED:20260221T232554Z
UID:10005014-1797512400-1797516000@shadescrest.org
SUMMARY:Women's Prayer Team
DESCRIPTION:
URL:https://shadescrest.org/event/womens-prayer-team/2026-12-17/
LOCATION:Family Life Center\, 2028 Rockland Drive\, Hoover\, AL\, 35226\, United States
CATEGORIES:Church Event,FLC Event
ATTACH;FMTTYPE=image/jpeg:https://shadescrest.org/wp-content/uploads/2026/02/womens-prayer-team.jpg
END:VEVENT
BEGIN:VEVENT
DTSTART;TZID=UTC:20261221T090000
DTEND;TZID=UTC:20261221T120000
DTSTAMP:20260426T031518
CREATED:20240606T173300Z
LAST-MODIFIED:20260223T195015Z
UID:10000593-1797843600-1797854400@shadescrest.org
SUMMARY:Retired and Moving
DESCRIPTION:The senior adults gather every Monday at 9 AM in the FLC for games\, fellowship\, and crafts. On the 1st Monday of each month\, a lunch is served. Bring $5 to cover the cost.
URL:https://shadescrest.org/event/retired-and-moving-3/2026-12-21/
LOCATION:Family Life Center\, 2028 Rockland Drive\, Hoover\, AL\, 35226\, United States
CATEGORIES:FLC Event
ATTACH;FMTTYPE=image/jpeg:https://shadescrest.org/wp-content/uploads/2026/02/moving-2-1.jpg
END:VEVENT
BEGIN:VEVENT
DTSTART;TZID=UTC:20261222T073000
DTEND;TZID=UTC:20261222T083000
DTSTAMP:20260426T031518
CREATED:20260218T005012Z
LAST-MODIFIED:20260218T005012Z
UID:10004949-1797924600-1797928200@shadescrest.org
SUMMARY:Men's Prayer Team
DESCRIPTION:
URL:https://shadescrest.org/event/mens-prayer-team/2026-12-22/
LOCATION:Family Life Center\, 2028 Rockland Drive\, Hoover\, AL\, 35226\, United States
CATEGORIES:Church Event,FLC Event
ATTACH;FMTTYPE=image/jpeg:https://shadescrest.org/wp-content/uploads/2026/02/mens-prayer-team.jpg
END:VEVENT
BEGIN:VEVENT
DTSTART;TZID=UTC:20261222T183000
DTEND;TZID=UTC:20261222T203000
DTSTAMP:20260426T031518
CREATED:20260224T190743Z
LAST-MODIFIED:20260224T225850Z
UID:10005084-1797964200-1797971400@shadescrest.org
SUMMARY:Ladies Fitness Bible Study
DESCRIPTION:
URL:https://shadescrest.org/event/ladies-fitness-bible-study/2026-12-22/
LOCATION:Family Life Center\, 2028 Rockland Drive\, Hoover\, AL\, 35226\, United States
CATEGORIES:FLC Event
ATTACH;FMTTYPE=image/jpeg:https://shadescrest.org/wp-content/uploads/2026/02/ladies-fitbess-bible-study2.jpg
END:VEVENT
BEGIN:VEVENT
DTSTART;TZID=UTC:20261224T130000
DTEND;TZID=UTC:20261224T140000
DTSTAMP:20260426T031518
CREATED:20260221T232005Z
LAST-MODIFIED:20260221T232554Z
UID:10005015-1798117200-1798120800@shadescrest.org
SUMMARY:Women's Prayer Team
DESCRIPTION:
URL:https://shadescrest.org/event/womens-prayer-team/2026-12-24/
LOCATION:Family Life Center\, 2028 Rockland Drive\, Hoover\, AL\, 35226\, United States
CATEGORIES:Church Event,FLC Event
ATTACH;FMTTYPE=image/jpeg:https://shadescrest.org/wp-content/uploads/2026/02/womens-prayer-team.jpg
END:VEVENT
BEGIN:VEVENT
DTSTART;TZID=UTC:20261228T090000
DTEND;TZID=UTC:20261228T120000
DTSTAMP:20260426T031518
CREATED:20240606T173300Z
LAST-MODIFIED:20260223T195015Z
UID:10000594-1798448400-1798459200@shadescrest.org
SUMMARY:Retired and Moving
DESCRIPTION:The senior adults gather every Monday at 9 AM in the FLC for games\, fellowship\, and crafts. On the 1st Monday of each month\, a lunch is served. Bring $5 to cover the cost.
URL:https://shadescrest.org/event/retired-and-moving-3/2026-12-28/
LOCATION:Family Life Center\, 2028 Rockland Drive\, Hoover\, AL\, 35226\, United States
CATEGORIES:FLC Event
ATTACH;FMTTYPE=image/jpeg:https://shadescrest.org/wp-content/uploads/2026/02/moving-2-1.jpg
END:VEVENT
BEGIN:VEVENT
DTSTART;TZID=UTC:20261229T073000
DTEND;TZID=UTC:20261229T083000
DTSTAMP:20260426T031518
CREATED:20260218T005012Z
LAST-MODIFIED:20260218T005012Z
UID:10004950-1798529400-1798533000@shadescrest.org
SUMMARY:Men's Prayer Team
DESCRIPTION:
URL:https://shadescrest.org/event/mens-prayer-team/2026-12-29/
LOCATION:Family Life Center\, 2028 Rockland Drive\, Hoover\, AL\, 35226\, United States
CATEGORIES:Church Event,FLC Event
ATTACH;FMTTYPE=image/jpeg:https://shadescrest.org/wp-content/uploads/2026/02/mens-prayer-team.jpg
END:VEVENT
BEGIN:VEVENT
DTSTART;TZID=UTC:20261229T183000
DTEND;TZID=UTC:20261229T203000
DTSTAMP:20260426T031518
CREATED:20260224T190743Z
LAST-MODIFIED:20260224T225850Z
UID:10005085-1798569000-1798576200@shadescrest.org
SUMMARY:Ladies Fitness Bible Study
DESCRIPTION:
URL:https://shadescrest.org/event/ladies-fitness-bible-study/2026-12-29/
LOCATION:Family Life Center\, 2028 Rockland Drive\, Hoover\, AL\, 35226\, United States
CATEGORIES:FLC Event
ATTACH;FMTTYPE=image/jpeg:https://shadescrest.org/wp-content/uploads/2026/02/ladies-fitbess-bible-study2.jpg
END:VEVENT
BEGIN:VEVENT
DTSTART;TZID=UTC:20261231T130000
DTEND;TZID=UTC:20261231T140000
DTSTAMP:20260426T031518
CREATED:20260221T232005Z
LAST-MODIFIED:20260221T232554Z
UID:10005016-1798722000-1798725600@shadescrest.org
SUMMARY:Women's Prayer Team
DESCRIPTION:
URL:https://shadescrest.org/event/womens-prayer-team/2026-12-31/
LOCATION:Family Life Center\, 2028 Rockland Drive\, Hoover\, AL\, 35226\, United States
CATEGORIES:Church Event,FLC Event
ATTACH;FMTTYPE=image/jpeg:https://shadescrest.org/wp-content/uploads/2026/02/womens-prayer-team.jpg
END:VEVENT
BEGIN:VEVENT
DTSTART;TZID=UTC:20270104T090000
DTEND;TZID=UTC:20270104T120000
DTSTAMP:20260426T031518
CREATED:20240606T173300Z
LAST-MODIFIED:20260223T195015Z
UID:10000595-1799053200-1799064000@shadescrest.org
SUMMARY:Retired and Moving
DESCRIPTION:The senior adults gather every Monday at 9 AM in the FLC for games\, fellowship\, and crafts. On the 1st Monday of each month\, a lunch is served. Bring $5 to cover the cost.
URL:https://shadescrest.org/event/retired-and-moving-3/2027-01-04/
LOCATION:Family Life Center\, 2028 Rockland Drive\, Hoover\, AL\, 35226\, United States
CATEGORIES:FLC Event
ATTACH;FMTTYPE=image/jpeg:https://shadescrest.org/wp-content/uploads/2026/02/moving-2-1.jpg
END:VEVENT
BEGIN:VEVENT
DTSTART;TZID=UTC:20270105T073000
DTEND;TZID=UTC:20270105T083000
DTSTAMP:20260426T031518
CREATED:20260218T005012Z
LAST-MODIFIED:20260218T005012Z
UID:10004951-1799134200-1799137800@shadescrest.org
SUMMARY:Men's Prayer Team
DESCRIPTION:
URL:https://shadescrest.org/event/mens-prayer-team/2027-01-05/
LOCATION:Family Life Center\, 2028 Rockland Drive\, Hoover\, AL\, 35226\, United States
CATEGORIES:Church Event,FLC Event
ATTACH;FMTTYPE=image/jpeg:https://shadescrest.org/wp-content/uploads/2026/02/mens-prayer-team.jpg
END:VEVENT
END:VCALENDAR