BEGIN:VCALENDAR
VERSION:2.0
PRODID:-//Shades Crest Baptist Church - ECPv6.15.20//NONSGML v1.0//EN
CALSCALE:GREGORIAN
METHOD:PUBLISH
X-ORIGINAL-URL:https://shadescrest.org
X-WR-CALDESC:Events for Shades Crest Baptist Church
REFRESH-INTERVAL;VALUE=DURATION:PT1H
X-Robots-Tag:noindex
X-PUBLISHED-TTL:PT1H
BEGIN:VTIMEZONE
TZID:UTC
BEGIN:STANDARD
TZOFFSETFROM:+0000
TZOFFSETTO:+0000
TZNAME:UTC
DTSTART:20260101T000000
END:STANDARD
END:VTIMEZONE
BEGIN:VEVENT
DTSTART;TZID=UTC:20270701T101500
DTEND;TZID=UTC:20270701T111500
DTSTAMP:20260424T234610
CREATED:20250206T202123Z
LAST-MODIFIED:20260107T205006Z
UID:10001976-1814436900-1814440500@shadescrest.org
SUMMARY:Mountainaires Choir Rehearsal
DESCRIPTION:New members are always welcome.
URL:https://shadescrest.org/event/mountainaires-choir-rehearsal/2027-07-01/
LOCATION:Music Suite
CATEGORIES:Senior Adults Event
ATTACH;FMTTYPE=image/jpeg:https://shadescrest.org/wp-content/uploads/2025/02/mountainaires.jpg
END:VEVENT
BEGIN:VEVENT
DTSTART;TZID=UTC:20270708T101500
DTEND;TZID=UTC:20270708T111500
DTSTAMP:20260424T234610
CREATED:20250206T202123Z
LAST-MODIFIED:20260107T205006Z
UID:10001977-1815041700-1815045300@shadescrest.org
SUMMARY:Mountainaires Choir Rehearsal
DESCRIPTION:New members are always welcome.
URL:https://shadescrest.org/event/mountainaires-choir-rehearsal/2027-07-08/
LOCATION:Music Suite
CATEGORIES:Senior Adults Event
ATTACH;FMTTYPE=image/jpeg:https://shadescrest.org/wp-content/uploads/2025/02/mountainaires.jpg
END:VEVENT
BEGIN:VEVENT
DTSTART;TZID=UTC:20270715T101500
DTEND;TZID=UTC:20270715T111500
DTSTAMP:20260424T234610
CREATED:20250206T202123Z
LAST-MODIFIED:20260107T205006Z
UID:10001978-1815646500-1815650100@shadescrest.org
SUMMARY:Mountainaires Choir Rehearsal
DESCRIPTION:New members are always welcome.
URL:https://shadescrest.org/event/mountainaires-choir-rehearsal/2027-07-15/
LOCATION:Music Suite
CATEGORIES:Senior Adults Event
ATTACH;FMTTYPE=image/jpeg:https://shadescrest.org/wp-content/uploads/2025/02/mountainaires.jpg
END:VEVENT
BEGIN:VEVENT
DTSTART;TZID=UTC:20270722T101500
DTEND;TZID=UTC:20270722T111500
DTSTAMP:20260424T234610
CREATED:20250206T202123Z
LAST-MODIFIED:20260107T205006Z
UID:10001979-1816251300-1816254900@shadescrest.org
SUMMARY:Mountainaires Choir Rehearsal
DESCRIPTION:New members are always welcome.
URL:https://shadescrest.org/event/mountainaires-choir-rehearsal/2027-07-22/
LOCATION:Music Suite
CATEGORIES:Senior Adults Event
ATTACH;FMTTYPE=image/jpeg:https://shadescrest.org/wp-content/uploads/2025/02/mountainaires.jpg
END:VEVENT
BEGIN:VEVENT
DTSTART;TZID=UTC:20270729T101500
DTEND;TZID=UTC:20270729T111500
DTSTAMP:20260424T234610
CREATED:20250206T202123Z
LAST-MODIFIED:20260107T205006Z
UID:10001980-1816856100-1816859700@shadescrest.org
SUMMARY:Mountainaires Choir Rehearsal
DESCRIPTION:New members are always welcome.
URL:https://shadescrest.org/event/mountainaires-choir-rehearsal/2027-07-29/
LOCATION:Music Suite
CATEGORIES:Senior Adults Event
ATTACH;FMTTYPE=image/jpeg:https://shadescrest.org/wp-content/uploads/2025/02/mountainaires.jpg
END:VEVENT
END:VCALENDAR