BEGIN:VCALENDAR
VERSION:2.0
PRODID:-//Shades Crest Baptist Church - ECPv6.15.20//NONSGML v1.0//EN
CALSCALE:GREGORIAN
METHOD:PUBLISH
X-WR-CALNAME:Shades Crest Baptist Church
X-ORIGINAL-URL:https://shadescrest.org
X-WR-CALDESC:Events for Shades Crest Baptist Church
REFRESH-INTERVAL;VALUE=DURATION:PT1H
X-Robots-Tag:noindex
X-PUBLISHED-TTL:PT1H
BEGIN:VTIMEZONE
TZID:UTC
BEGIN:STANDARD
TZOFFSETFROM:+0000
TZOFFSETTO:+0000
TZNAME:UTC
DTSTART:20250101T000000
END:STANDARD
END:VTIMEZONE
BEGIN:VEVENT
DTSTART;TZID=UTC:20260424T103000
DTEND;TZID=UTC:20260424T160000
DTSTAMP:20260423T203251
CREATED:20260415T001311Z
LAST-MODIFIED:20260415T001559Z
UID:10005132-1777026600-1777046400@shadescrest.org
SUMMARY:Senior Adult Road Trip - Strawberry Festival
DESCRIPTION:Leave Church at 10:30 AM\, Free Admission\, Alabama’s Oldest Strawberry Festival
URL:https://shadescrest.org/event/senior-adult-road-trip-strawberry-festival/
CATEGORIES:Senior Adults Event
ATTACH;FMTTYPE=image/png:https://shadescrest.org/wp-content/uploads/2026/04/Screenshot-2026-04-14-190247.png
END:VEVENT
BEGIN:VEVENT
DTSTART;TZID=UTC:20260430T101500
DTEND;TZID=UTC:20260430T111500
DTSTAMP:20260423T203251
CREATED:20250206T202123Z
LAST-MODIFIED:20260107T205006Z
UID:10001915-1777544100-1777547700@shadescrest.org
SUMMARY:Mountainaires Choir Rehearsal
DESCRIPTION:New members are always welcome.
URL:https://shadescrest.org/event/mountainaires-choir-rehearsal/2026-04-30/
LOCATION:Music Suite
CATEGORIES:Senior Adults Event
ATTACH;FMTTYPE=image/jpeg:https://shadescrest.org/wp-content/uploads/2025/02/mountainaires.jpg
END:VEVENT
BEGIN:VEVENT
DTSTART;TZID=UTC:20260507T101500
DTEND;TZID=UTC:20260507T111500
DTSTAMP:20260423T203251
CREATED:20250206T202123Z
LAST-MODIFIED:20260107T205006Z
UID:10001916-1778148900-1778152500@shadescrest.org
SUMMARY:Mountainaires Choir Rehearsal
DESCRIPTION:New members are always welcome.
URL:https://shadescrest.org/event/mountainaires-choir-rehearsal/2026-05-07/
LOCATION:Music Suite
CATEGORIES:Senior Adults Event
ATTACH;FMTTYPE=image/jpeg:https://shadescrest.org/wp-content/uploads/2025/02/mountainaires.jpg
END:VEVENT
BEGIN:VEVENT
DTSTART;TZID=UTC:20260511T170000
DTEND;TZID=UTC:20260511T190000
DTSTAMP:20260423T203251
CREATED:20260422T203041Z
LAST-MODIFIED:20260422T203404Z
UID:10005135-1778518800-1778526000@shadescrest.org
SUMMARY:Senior Adult Fish Fry
DESCRIPTION:Reservations required. Call Church office at 205-822-1360.
URL:https://shadescrest.org/event/senior-adult-fish-fry/
LOCATION:Fellowship Hall\, 452 Park Avenue\, Hoover\, AL\, 35226\, United States
CATEGORIES:Senior Adults Event
ATTACH;FMTTYPE=image/jpeg:https://shadescrest.org/wp-content/uploads/2026/04/fish-fry-new.jpg
END:VEVENT
BEGIN:VEVENT
DTSTART;TZID=UTC:20260514T101500
DTEND;TZID=UTC:20260514T111500
DTSTAMP:20260423T203251
CREATED:20250206T202123Z
LAST-MODIFIED:20260107T205006Z
UID:10001917-1778753700-1778757300@shadescrest.org
SUMMARY:Mountainaires Choir Rehearsal
DESCRIPTION:New members are always welcome.
URL:https://shadescrest.org/event/mountainaires-choir-rehearsal/2026-05-14/
LOCATION:Music Suite
CATEGORIES:Senior Adults Event
ATTACH;FMTTYPE=image/jpeg:https://shadescrest.org/wp-content/uploads/2025/02/mountainaires.jpg
END:VEVENT
BEGIN:VEVENT
DTSTART;TZID=UTC:20260521T101500
DTEND;TZID=UTC:20260521T111500
DTSTAMP:20260423T203251
CREATED:20250206T202123Z
LAST-MODIFIED:20260107T205006Z
UID:10001918-1779358500-1779362100@shadescrest.org
SUMMARY:Mountainaires Choir Rehearsal
DESCRIPTION:New members are always welcome.
URL:https://shadescrest.org/event/mountainaires-choir-rehearsal/2026-05-21/
LOCATION:Music Suite
CATEGORIES:Senior Adults Event
ATTACH;FMTTYPE=image/jpeg:https://shadescrest.org/wp-content/uploads/2025/02/mountainaires.jpg
END:VEVENT
BEGIN:VEVENT
DTSTART;TZID=UTC:20260528T101500
DTEND;TZID=UTC:20260528T111500
DTSTAMP:20260423T203251
CREATED:20250206T202123Z
LAST-MODIFIED:20260107T205006Z
UID:10001919-1779963300-1779966900@shadescrest.org
SUMMARY:Mountainaires Choir Rehearsal
DESCRIPTION:New members are always welcome.
URL:https://shadescrest.org/event/mountainaires-choir-rehearsal/2026-05-28/
LOCATION:Music Suite
CATEGORIES:Senior Adults Event
ATTACH;FMTTYPE=image/jpeg:https://shadescrest.org/wp-content/uploads/2025/02/mountainaires.jpg
END:VEVENT
BEGIN:VEVENT
DTSTART;TZID=UTC:20260604T101500
DTEND;TZID=UTC:20260604T111500
DTSTAMP:20260423T203251
CREATED:20250206T202123Z
LAST-MODIFIED:20260107T205006Z
UID:10001920-1780568100-1780571700@shadescrest.org
SUMMARY:Mountainaires Choir Rehearsal
DESCRIPTION:New members are always welcome.
URL:https://shadescrest.org/event/mountainaires-choir-rehearsal/2026-06-04/
LOCATION:Music Suite
CATEGORIES:Senior Adults Event
ATTACH;FMTTYPE=image/jpeg:https://shadescrest.org/wp-content/uploads/2025/02/mountainaires.jpg
END:VEVENT
BEGIN:VEVENT
DTSTART;TZID=UTC:20260611T101500
DTEND;TZID=UTC:20260611T111500
DTSTAMP:20260423T203251
CREATED:20250206T202123Z
LAST-MODIFIED:20260107T205006Z
UID:10001921-1781172900-1781176500@shadescrest.org
SUMMARY:Mountainaires Choir Rehearsal
DESCRIPTION:New members are always welcome.
URL:https://shadescrest.org/event/mountainaires-choir-rehearsal/2026-06-11/
LOCATION:Music Suite
CATEGORIES:Senior Adults Event
ATTACH;FMTTYPE=image/jpeg:https://shadescrest.org/wp-content/uploads/2025/02/mountainaires.jpg
END:VEVENT
BEGIN:VEVENT
DTSTART;TZID=UTC:20260618T101500
DTEND;TZID=UTC:20260618T111500
DTSTAMP:20260423T203251
CREATED:20250206T202123Z
LAST-MODIFIED:20260107T205006Z
UID:10001922-1781777700-1781781300@shadescrest.org
SUMMARY:Mountainaires Choir Rehearsal
DESCRIPTION:New members are always welcome.
URL:https://shadescrest.org/event/mountainaires-choir-rehearsal/2026-06-18/
LOCATION:Music Suite
CATEGORIES:Senior Adults Event
ATTACH;FMTTYPE=image/jpeg:https://shadescrest.org/wp-content/uploads/2025/02/mountainaires.jpg
END:VEVENT
BEGIN:VEVENT
DTSTART;TZID=UTC:20260625T101500
DTEND;TZID=UTC:20260625T111500
DTSTAMP:20260423T203251
CREATED:20250206T202123Z
LAST-MODIFIED:20260107T205006Z
UID:10001923-1782382500-1782386100@shadescrest.org
SUMMARY:Mountainaires Choir Rehearsal
DESCRIPTION:New members are always welcome.
URL:https://shadescrest.org/event/mountainaires-choir-rehearsal/2026-06-25/
LOCATION:Music Suite
CATEGORIES:Senior Adults Event
ATTACH;FMTTYPE=image/jpeg:https://shadescrest.org/wp-content/uploads/2025/02/mountainaires.jpg
END:VEVENT
BEGIN:VEVENT
DTSTART;TZID=UTC:20260702T101500
DTEND;TZID=UTC:20260702T111500
DTSTAMP:20260423T203251
CREATED:20250206T202123Z
LAST-MODIFIED:20260107T205006Z
UID:10001924-1782987300-1782990900@shadescrest.org
SUMMARY:Mountainaires Choir Rehearsal
DESCRIPTION:New members are always welcome.
URL:https://shadescrest.org/event/mountainaires-choir-rehearsal/2026-07-02/
LOCATION:Music Suite
CATEGORIES:Senior Adults Event
ATTACH;FMTTYPE=image/jpeg:https://shadescrest.org/wp-content/uploads/2025/02/mountainaires.jpg
END:VEVENT
BEGIN:VEVENT
DTSTART;TZID=UTC:20260709T101500
DTEND;TZID=UTC:20260709T111500
DTSTAMP:20260423T203251
CREATED:20250206T202123Z
LAST-MODIFIED:20260107T205006Z
UID:10001925-1783592100-1783595700@shadescrest.org
SUMMARY:Mountainaires Choir Rehearsal
DESCRIPTION:New members are always welcome.
URL:https://shadescrest.org/event/mountainaires-choir-rehearsal/2026-07-09/
LOCATION:Music Suite
CATEGORIES:Senior Adults Event
ATTACH;FMTTYPE=image/jpeg:https://shadescrest.org/wp-content/uploads/2025/02/mountainaires.jpg
END:VEVENT
BEGIN:VEVENT
DTSTART;TZID=UTC:20260716T101500
DTEND;TZID=UTC:20260716T111500
DTSTAMP:20260423T203251
CREATED:20250206T202123Z
LAST-MODIFIED:20260107T205006Z
UID:10001926-1784196900-1784200500@shadescrest.org
SUMMARY:Mountainaires Choir Rehearsal
DESCRIPTION:New members are always welcome.
URL:https://shadescrest.org/event/mountainaires-choir-rehearsal/2026-07-16/
LOCATION:Music Suite
CATEGORIES:Senior Adults Event
ATTACH;FMTTYPE=image/jpeg:https://shadescrest.org/wp-content/uploads/2025/02/mountainaires.jpg
END:VEVENT
BEGIN:VEVENT
DTSTART;TZID=UTC:20260723T101500
DTEND;TZID=UTC:20260723T111500
DTSTAMP:20260423T203251
CREATED:20250206T202123Z
LAST-MODIFIED:20260107T205006Z
UID:10001927-1784801700-1784805300@shadescrest.org
SUMMARY:Mountainaires Choir Rehearsal
DESCRIPTION:New members are always welcome.
URL:https://shadescrest.org/event/mountainaires-choir-rehearsal/2026-07-23/
LOCATION:Music Suite
CATEGORIES:Senior Adults Event
ATTACH;FMTTYPE=image/jpeg:https://shadescrest.org/wp-content/uploads/2025/02/mountainaires.jpg
END:VEVENT
BEGIN:VEVENT
DTSTART;TZID=UTC:20260730T101500
DTEND;TZID=UTC:20260730T111500
DTSTAMP:20260423T203251
CREATED:20250206T202123Z
LAST-MODIFIED:20260107T205006Z
UID:10001928-1785406500-1785410100@shadescrest.org
SUMMARY:Mountainaires Choir Rehearsal
DESCRIPTION:New members are always welcome.
URL:https://shadescrest.org/event/mountainaires-choir-rehearsal/2026-07-30/
LOCATION:Music Suite
CATEGORIES:Senior Adults Event
ATTACH;FMTTYPE=image/jpeg:https://shadescrest.org/wp-content/uploads/2025/02/mountainaires.jpg
END:VEVENT
BEGIN:VEVENT
DTSTART;TZID=UTC:20260806T101500
DTEND;TZID=UTC:20260806T111500
DTSTAMP:20260423T203251
CREATED:20250206T202123Z
LAST-MODIFIED:20260107T205006Z
UID:10001929-1786011300-1786014900@shadescrest.org
SUMMARY:Mountainaires Choir Rehearsal
DESCRIPTION:New members are always welcome.
URL:https://shadescrest.org/event/mountainaires-choir-rehearsal/2026-08-06/
LOCATION:Music Suite
CATEGORIES:Senior Adults Event
ATTACH;FMTTYPE=image/jpeg:https://shadescrest.org/wp-content/uploads/2025/02/mountainaires.jpg
END:VEVENT
BEGIN:VEVENT
DTSTART;TZID=UTC:20260813T101500
DTEND;TZID=UTC:20260813T111500
DTSTAMP:20260423T203251
CREATED:20250206T202123Z
LAST-MODIFIED:20260107T205006Z
UID:10001930-1786616100-1786619700@shadescrest.org
SUMMARY:Mountainaires Choir Rehearsal
DESCRIPTION:New members are always welcome.
URL:https://shadescrest.org/event/mountainaires-choir-rehearsal/2026-08-13/
LOCATION:Music Suite
CATEGORIES:Senior Adults Event
ATTACH;FMTTYPE=image/jpeg:https://shadescrest.org/wp-content/uploads/2025/02/mountainaires.jpg
END:VEVENT
BEGIN:VEVENT
DTSTART;TZID=UTC:20260820T101500
DTEND;TZID=UTC:20260820T111500
DTSTAMP:20260423T203251
CREATED:20250206T202123Z
LAST-MODIFIED:20260107T205006Z
UID:10001931-1787220900-1787224500@shadescrest.org
SUMMARY:Mountainaires Choir Rehearsal
DESCRIPTION:New members are always welcome.
URL:https://shadescrest.org/event/mountainaires-choir-rehearsal/2026-08-20/
LOCATION:Music Suite
CATEGORIES:Senior Adults Event
ATTACH;FMTTYPE=image/jpeg:https://shadescrest.org/wp-content/uploads/2025/02/mountainaires.jpg
END:VEVENT
BEGIN:VEVENT
DTSTART;TZID=UTC:20260827T101500
DTEND;TZID=UTC:20260827T111500
DTSTAMP:20260423T203251
CREATED:20250206T202123Z
LAST-MODIFIED:20260107T205006Z
UID:10001932-1787825700-1787829300@shadescrest.org
SUMMARY:Mountainaires Choir Rehearsal
DESCRIPTION:New members are always welcome.
URL:https://shadescrest.org/event/mountainaires-choir-rehearsal/2026-08-27/
LOCATION:Music Suite
CATEGORIES:Senior Adults Event
ATTACH;FMTTYPE=image/jpeg:https://shadescrest.org/wp-content/uploads/2025/02/mountainaires.jpg
END:VEVENT
BEGIN:VEVENT
DTSTART;TZID=UTC:20260903T101500
DTEND;TZID=UTC:20260903T111500
DTSTAMP:20260423T203251
CREATED:20250206T202123Z
LAST-MODIFIED:20260107T205006Z
UID:10001933-1788430500-1788434100@shadescrest.org
SUMMARY:Mountainaires Choir Rehearsal
DESCRIPTION:New members are always welcome.
URL:https://shadescrest.org/event/mountainaires-choir-rehearsal/2026-09-03/
LOCATION:Music Suite
CATEGORIES:Senior Adults Event
ATTACH;FMTTYPE=image/jpeg:https://shadescrest.org/wp-content/uploads/2025/02/mountainaires.jpg
END:VEVENT
BEGIN:VEVENT
DTSTART;TZID=UTC:20260910T101500
DTEND;TZID=UTC:20260910T111500
DTSTAMP:20260423T203251
CREATED:20250206T202123Z
LAST-MODIFIED:20260107T205006Z
UID:10001934-1789035300-1789038900@shadescrest.org
SUMMARY:Mountainaires Choir Rehearsal
DESCRIPTION:New members are always welcome.
URL:https://shadescrest.org/event/mountainaires-choir-rehearsal/2026-09-10/
LOCATION:Music Suite
CATEGORIES:Senior Adults Event
ATTACH;FMTTYPE=image/jpeg:https://shadescrest.org/wp-content/uploads/2025/02/mountainaires.jpg
END:VEVENT
BEGIN:VEVENT
DTSTART;TZID=UTC:20260917T101500
DTEND;TZID=UTC:20260917T111500
DTSTAMP:20260423T203251
CREATED:20250206T202123Z
LAST-MODIFIED:20260107T205006Z
UID:10001935-1789640100-1789643700@shadescrest.org
SUMMARY:Mountainaires Choir Rehearsal
DESCRIPTION:New members are always welcome.
URL:https://shadescrest.org/event/mountainaires-choir-rehearsal/2026-09-17/
LOCATION:Music Suite
CATEGORIES:Senior Adults Event
ATTACH;FMTTYPE=image/jpeg:https://shadescrest.org/wp-content/uploads/2025/02/mountainaires.jpg
END:VEVENT
BEGIN:VEVENT
DTSTART;TZID=UTC:20260924T101500
DTEND;TZID=UTC:20260924T111500
DTSTAMP:20260423T203251
CREATED:20250206T202123Z
LAST-MODIFIED:20260107T205006Z
UID:10001936-1790244900-1790248500@shadescrest.org
SUMMARY:Mountainaires Choir Rehearsal
DESCRIPTION:New members are always welcome.
URL:https://shadescrest.org/event/mountainaires-choir-rehearsal/2026-09-24/
LOCATION:Music Suite
CATEGORIES:Senior Adults Event
ATTACH;FMTTYPE=image/jpeg:https://shadescrest.org/wp-content/uploads/2025/02/mountainaires.jpg
END:VEVENT
BEGIN:VEVENT
DTSTART;TZID=UTC:20261001T101500
DTEND;TZID=UTC:20261001T111500
DTSTAMP:20260423T203251
CREATED:20250206T202123Z
LAST-MODIFIED:20260107T205006Z
UID:10001937-1790849700-1790853300@shadescrest.org
SUMMARY:Mountainaires Choir Rehearsal
DESCRIPTION:New members are always welcome.
URL:https://shadescrest.org/event/mountainaires-choir-rehearsal/2026-10-01/
LOCATION:Music Suite
CATEGORIES:Senior Adults Event
ATTACH;FMTTYPE=image/jpeg:https://shadescrest.org/wp-content/uploads/2025/02/mountainaires.jpg
END:VEVENT
BEGIN:VEVENT
DTSTART;TZID=UTC:20261008T101500
DTEND;TZID=UTC:20261008T111500
DTSTAMP:20260423T203251
CREATED:20250206T202123Z
LAST-MODIFIED:20260107T205006Z
UID:10001938-1791454500-1791458100@shadescrest.org
SUMMARY:Mountainaires Choir Rehearsal
DESCRIPTION:New members are always welcome.
URL:https://shadescrest.org/event/mountainaires-choir-rehearsal/2026-10-08/
LOCATION:Music Suite
CATEGORIES:Senior Adults Event
ATTACH;FMTTYPE=image/jpeg:https://shadescrest.org/wp-content/uploads/2025/02/mountainaires.jpg
END:VEVENT
BEGIN:VEVENT
DTSTART;TZID=UTC:20261015T101500
DTEND;TZID=UTC:20261015T111500
DTSTAMP:20260423T203251
CREATED:20250206T202123Z
LAST-MODIFIED:20260107T205006Z
UID:10001939-1792059300-1792062900@shadescrest.org
SUMMARY:Mountainaires Choir Rehearsal
DESCRIPTION:New members are always welcome.
URL:https://shadescrest.org/event/mountainaires-choir-rehearsal/2026-10-15/
LOCATION:Music Suite
CATEGORIES:Senior Adults Event
ATTACH;FMTTYPE=image/jpeg:https://shadescrest.org/wp-content/uploads/2025/02/mountainaires.jpg
END:VEVENT
BEGIN:VEVENT
DTSTART;TZID=UTC:20261022T101500
DTEND;TZID=UTC:20261022T111500
DTSTAMP:20260423T203251
CREATED:20250206T202123Z
LAST-MODIFIED:20260107T205006Z
UID:10001940-1792664100-1792667700@shadescrest.org
SUMMARY:Mountainaires Choir Rehearsal
DESCRIPTION:New members are always welcome.
URL:https://shadescrest.org/event/mountainaires-choir-rehearsal/2026-10-22/
LOCATION:Music Suite
CATEGORIES:Senior Adults Event
ATTACH;FMTTYPE=image/jpeg:https://shadescrest.org/wp-content/uploads/2025/02/mountainaires.jpg
END:VEVENT
BEGIN:VEVENT
DTSTART;TZID=UTC:20261029T101500
DTEND;TZID=UTC:20261029T111500
DTSTAMP:20260423T203251
CREATED:20250206T202123Z
LAST-MODIFIED:20260107T205006Z
UID:10001941-1793268900-1793272500@shadescrest.org
SUMMARY:Mountainaires Choir Rehearsal
DESCRIPTION:New members are always welcome.
URL:https://shadescrest.org/event/mountainaires-choir-rehearsal/2026-10-29/
LOCATION:Music Suite
CATEGORIES:Senior Adults Event
ATTACH;FMTTYPE=image/jpeg:https://shadescrest.org/wp-content/uploads/2025/02/mountainaires.jpg
END:VEVENT
BEGIN:VEVENT
DTSTART;TZID=UTC:20261105T101500
DTEND;TZID=UTC:20261105T111500
DTSTAMP:20260423T203251
CREATED:20250206T202123Z
LAST-MODIFIED:20260107T205006Z
UID:10001942-1793873700-1793877300@shadescrest.org
SUMMARY:Mountainaires Choir Rehearsal
DESCRIPTION:New members are always welcome.
URL:https://shadescrest.org/event/mountainaires-choir-rehearsal/2026-11-05/
LOCATION:Music Suite
CATEGORIES:Senior Adults Event
ATTACH;FMTTYPE=image/jpeg:https://shadescrest.org/wp-content/uploads/2025/02/mountainaires.jpg
END:VEVENT
END:VCALENDAR