BEGIN:VCALENDAR
VERSION:2.0
PRODID:-//Shades Crest Baptist Church - ECPv6.15.20//NONSGML v1.0//EN
CALSCALE:GREGORIAN
METHOD:PUBLISH
X-WR-CALNAME:Shades Crest Baptist Church
X-ORIGINAL-URL:https://shadescrest.org
X-WR-CALDESC:Events for Shades Crest Baptist Church
REFRESH-INTERVAL;VALUE=DURATION:PT1H
X-Robots-Tag:noindex
X-PUBLISHED-TTL:PT1H
BEGIN:VTIMEZONE
TZID:UTC
BEGIN:STANDARD
TZOFFSETFROM:+0000
TZOFFSETTO:+0000
TZNAME:UTC
DTSTART:20270101T000000
END:STANDARD
END:VTIMEZONE
BEGIN:VEVENT
DTSTART;TZID=UTC:20280601T101500
DTEND;TZID=UTC:20280601T111500
DTSTAMP:20260424T160544
CREATED:20250206T202123Z
LAST-MODIFIED:20260107T205006Z
UID:10002024-1843467300-1843470900@shadescrest.org
SUMMARY:Mountainaires Choir Rehearsal
DESCRIPTION:New members are always welcome.
URL:https://shadescrest.org/event/mountainaires-choir-rehearsal/2028-06-01/
LOCATION:Music Suite
CATEGORIES:Senior Adults Event
ATTACH;FMTTYPE=image/jpeg:https://shadescrest.org/wp-content/uploads/2025/02/mountainaires.jpg
END:VEVENT
BEGIN:VEVENT
DTSTART;TZID=UTC:20280608T101500
DTEND;TZID=UTC:20280608T111500
DTSTAMP:20260424T160544
CREATED:20250206T202123Z
LAST-MODIFIED:20260107T205006Z
UID:10002025-1844072100-1844075700@shadescrest.org
SUMMARY:Mountainaires Choir Rehearsal
DESCRIPTION:New members are always welcome.
URL:https://shadescrest.org/event/mountainaires-choir-rehearsal/2028-06-08/
LOCATION:Music Suite
CATEGORIES:Senior Adults Event
ATTACH;FMTTYPE=image/jpeg:https://shadescrest.org/wp-content/uploads/2025/02/mountainaires.jpg
END:VEVENT
BEGIN:VEVENT
DTSTART;TZID=UTC:20280615T101500
DTEND;TZID=UTC:20280615T111500
DTSTAMP:20260424T160544
CREATED:20250206T202123Z
LAST-MODIFIED:20260107T205006Z
UID:10002026-1844676900-1844680500@shadescrest.org
SUMMARY:Mountainaires Choir Rehearsal
DESCRIPTION:New members are always welcome.
URL:https://shadescrest.org/event/mountainaires-choir-rehearsal/2028-06-15/
LOCATION:Music Suite
CATEGORIES:Senior Adults Event
ATTACH;FMTTYPE=image/jpeg:https://shadescrest.org/wp-content/uploads/2025/02/mountainaires.jpg
END:VEVENT
BEGIN:VEVENT
DTSTART;TZID=UTC:20280622T101500
DTEND;TZID=UTC:20280622T111500
DTSTAMP:20260424T160544
CREATED:20250206T202123Z
LAST-MODIFIED:20260107T205006Z
UID:10002027-1845281700-1845285300@shadescrest.org
SUMMARY:Mountainaires Choir Rehearsal
DESCRIPTION:New members are always welcome.
URL:https://shadescrest.org/event/mountainaires-choir-rehearsal/2028-06-22/
LOCATION:Music Suite
CATEGORIES:Senior Adults Event
ATTACH;FMTTYPE=image/jpeg:https://shadescrest.org/wp-content/uploads/2025/02/mountainaires.jpg
END:VEVENT
BEGIN:VEVENT
DTSTART;TZID=UTC:20280629T101500
DTEND;TZID=UTC:20280629T111500
DTSTAMP:20260424T160544
CREATED:20250206T202123Z
LAST-MODIFIED:20260107T205006Z
UID:10002028-1845886500-1845890100@shadescrest.org
SUMMARY:Mountainaires Choir Rehearsal
DESCRIPTION:New members are always welcome.
URL:https://shadescrest.org/event/mountainaires-choir-rehearsal/2028-06-29/
LOCATION:Music Suite
CATEGORIES:Senior Adults Event
ATTACH;FMTTYPE=image/jpeg:https://shadescrest.org/wp-content/uploads/2025/02/mountainaires.jpg
END:VEVENT
BEGIN:VEVENT
DTSTART;TZID=UTC:20280706T101500
DTEND;TZID=UTC:20280706T111500
DTSTAMP:20260424T160544
CREATED:20250206T202123Z
LAST-MODIFIED:20260107T205006Z
UID:10002029-1846491300-1846494900@shadescrest.org
SUMMARY:Mountainaires Choir Rehearsal
DESCRIPTION:New members are always welcome.
URL:https://shadescrest.org/event/mountainaires-choir-rehearsal/2028-07-06/
LOCATION:Music Suite
CATEGORIES:Senior Adults Event
ATTACH;FMTTYPE=image/jpeg:https://shadescrest.org/wp-content/uploads/2025/02/mountainaires.jpg
END:VEVENT
BEGIN:VEVENT
DTSTART;TZID=UTC:20280713T101500
DTEND;TZID=UTC:20280713T111500
DTSTAMP:20260424T160544
CREATED:20250206T202123Z
LAST-MODIFIED:20260107T205006Z
UID:10002030-1847096100-1847099700@shadescrest.org
SUMMARY:Mountainaires Choir Rehearsal
DESCRIPTION:New members are always welcome.
URL:https://shadescrest.org/event/mountainaires-choir-rehearsal/2028-07-13/
LOCATION:Music Suite
CATEGORIES:Senior Adults Event
ATTACH;FMTTYPE=image/jpeg:https://shadescrest.org/wp-content/uploads/2025/02/mountainaires.jpg
END:VEVENT
BEGIN:VEVENT
DTSTART;TZID=UTC:20280720T101500
DTEND;TZID=UTC:20280720T111500
DTSTAMP:20260424T160544
CREATED:20250206T202123Z
LAST-MODIFIED:20260107T205006Z
UID:10002031-1847700900-1847704500@shadescrest.org
SUMMARY:Mountainaires Choir Rehearsal
DESCRIPTION:New members are always welcome.
URL:https://shadescrest.org/event/mountainaires-choir-rehearsal/2028-07-20/
LOCATION:Music Suite
CATEGORIES:Senior Adults Event
ATTACH;FMTTYPE=image/jpeg:https://shadescrest.org/wp-content/uploads/2025/02/mountainaires.jpg
END:VEVENT
BEGIN:VEVENT
DTSTART;TZID=UTC:20280727T101500
DTEND;TZID=UTC:20280727T111500
DTSTAMP:20260424T160544
CREATED:20250206T202123Z
LAST-MODIFIED:20260107T205006Z
UID:10002032-1848305700-1848309300@shadescrest.org
SUMMARY:Mountainaires Choir Rehearsal
DESCRIPTION:New members are always welcome.
URL:https://shadescrest.org/event/mountainaires-choir-rehearsal/2028-07-27/
LOCATION:Music Suite
CATEGORIES:Senior Adults Event
ATTACH;FMTTYPE=image/jpeg:https://shadescrest.org/wp-content/uploads/2025/02/mountainaires.jpg
END:VEVENT
BEGIN:VEVENT
DTSTART;TZID=UTC:20280803T101500
DTEND;TZID=UTC:20280803T111500
DTSTAMP:20260424T160544
CREATED:20250206T202123Z
LAST-MODIFIED:20260107T205006Z
UID:10002033-1848910500-1848914100@shadescrest.org
SUMMARY:Mountainaires Choir Rehearsal
DESCRIPTION:New members are always welcome.
URL:https://shadescrest.org/event/mountainaires-choir-rehearsal/2028-08-03/
LOCATION:Music Suite
CATEGORIES:Senior Adults Event
ATTACH;FMTTYPE=image/jpeg:https://shadescrest.org/wp-content/uploads/2025/02/mountainaires.jpg
END:VEVENT
BEGIN:VEVENT
DTSTART;TZID=UTC:20280810T101500
DTEND;TZID=UTC:20280810T111500
DTSTAMP:20260424T160544
CREATED:20250206T202123Z
LAST-MODIFIED:20260107T205006Z
UID:10002034-1849515300-1849518900@shadescrest.org
SUMMARY:Mountainaires Choir Rehearsal
DESCRIPTION:New members are always welcome.
URL:https://shadescrest.org/event/mountainaires-choir-rehearsal/2028-08-10/
LOCATION:Music Suite
CATEGORIES:Senior Adults Event
ATTACH;FMTTYPE=image/jpeg:https://shadescrest.org/wp-content/uploads/2025/02/mountainaires.jpg
END:VEVENT
BEGIN:VEVENT
DTSTART;TZID=UTC:20280817T101500
DTEND;TZID=UTC:20280817T111500
DTSTAMP:20260424T160544
CREATED:20250206T202123Z
LAST-MODIFIED:20260107T205006Z
UID:10002035-1850120100-1850123700@shadescrest.org
SUMMARY:Mountainaires Choir Rehearsal
DESCRIPTION:New members are always welcome.
URL:https://shadescrest.org/event/mountainaires-choir-rehearsal/2028-08-17/
LOCATION:Music Suite
CATEGORIES:Senior Adults Event
ATTACH;FMTTYPE=image/jpeg:https://shadescrest.org/wp-content/uploads/2025/02/mountainaires.jpg
END:VEVENT
BEGIN:VEVENT
DTSTART;TZID=UTC:20280824T101500
DTEND;TZID=UTC:20280824T111500
DTSTAMP:20260424T160544
CREATED:20250206T202123Z
LAST-MODIFIED:20260107T205006Z
UID:10002036-1850724900-1850728500@shadescrest.org
SUMMARY:Mountainaires Choir Rehearsal
DESCRIPTION:New members are always welcome.
URL:https://shadescrest.org/event/mountainaires-choir-rehearsal/2028-08-24/
LOCATION:Music Suite
CATEGORIES:Senior Adults Event
ATTACH;FMTTYPE=image/jpeg:https://shadescrest.org/wp-content/uploads/2025/02/mountainaires.jpg
END:VEVENT
BEGIN:VEVENT
DTSTART;TZID=UTC:20280831T101500
DTEND;TZID=UTC:20280831T111500
DTSTAMP:20260424T160544
CREATED:20250206T202123Z
LAST-MODIFIED:20260107T205006Z
UID:10002037-1851329700-1851333300@shadescrest.org
SUMMARY:Mountainaires Choir Rehearsal
DESCRIPTION:New members are always welcome.
URL:https://shadescrest.org/event/mountainaires-choir-rehearsal/2028-08-31/
LOCATION:Music Suite
CATEGORIES:Senior Adults Event
ATTACH;FMTTYPE=image/jpeg:https://shadescrest.org/wp-content/uploads/2025/02/mountainaires.jpg
END:VEVENT
BEGIN:VEVENT
DTSTART;TZID=UTC:20280907T101500
DTEND;TZID=UTC:20280907T111500
DTSTAMP:20260424T160544
CREATED:20250206T202123Z
LAST-MODIFIED:20260107T205006Z
UID:10002038-1851934500-1851938100@shadescrest.org
SUMMARY:Mountainaires Choir Rehearsal
DESCRIPTION:New members are always welcome.
URL:https://shadescrest.org/event/mountainaires-choir-rehearsal/2028-09-07/
LOCATION:Music Suite
CATEGORIES:Senior Adults Event
ATTACH;FMTTYPE=image/jpeg:https://shadescrest.org/wp-content/uploads/2025/02/mountainaires.jpg
END:VEVENT
BEGIN:VEVENT
DTSTART;TZID=UTC:20280914T101500
DTEND;TZID=UTC:20280914T111500
DTSTAMP:20260424T160544
CREATED:20250206T202123Z
LAST-MODIFIED:20260107T205006Z
UID:10002039-1852539300-1852542900@shadescrest.org
SUMMARY:Mountainaires Choir Rehearsal
DESCRIPTION:New members are always welcome.
URL:https://shadescrest.org/event/mountainaires-choir-rehearsal/2028-09-14/
LOCATION:Music Suite
CATEGORIES:Senior Adults Event
ATTACH;FMTTYPE=image/jpeg:https://shadescrest.org/wp-content/uploads/2025/02/mountainaires.jpg
END:VEVENT
BEGIN:VEVENT
DTSTART;TZID=UTC:20280921T101500
DTEND;TZID=UTC:20280921T111500
DTSTAMP:20260424T160544
CREATED:20250206T202123Z
LAST-MODIFIED:20260107T205006Z
UID:10002040-1853144100-1853147700@shadescrest.org
SUMMARY:Mountainaires Choir Rehearsal
DESCRIPTION:New members are always welcome.
URL:https://shadescrest.org/event/mountainaires-choir-rehearsal/2028-09-21/
LOCATION:Music Suite
CATEGORIES:Senior Adults Event
ATTACH;FMTTYPE=image/jpeg:https://shadescrest.org/wp-content/uploads/2025/02/mountainaires.jpg
END:VEVENT
BEGIN:VEVENT
DTSTART;TZID=UTC:20280928T101500
DTEND;TZID=UTC:20280928T111500
DTSTAMP:20260424T160544
CREATED:20250206T202123Z
LAST-MODIFIED:20260107T205006Z
UID:10002041-1853748900-1853752500@shadescrest.org
SUMMARY:Mountainaires Choir Rehearsal
DESCRIPTION:New members are always welcome.
URL:https://shadescrest.org/event/mountainaires-choir-rehearsal/2028-09-28/
LOCATION:Music Suite
CATEGORIES:Senior Adults Event
ATTACH;FMTTYPE=image/jpeg:https://shadescrest.org/wp-content/uploads/2025/02/mountainaires.jpg
END:VEVENT
BEGIN:VEVENT
DTSTART;TZID=UTC:20281005T101500
DTEND;TZID=UTC:20281005T111500
DTSTAMP:20260424T160544
CREATED:20250206T202123Z
LAST-MODIFIED:20260107T205006Z
UID:10002042-1854353700-1854357300@shadescrest.org
SUMMARY:Mountainaires Choir Rehearsal
DESCRIPTION:New members are always welcome.
URL:https://shadescrest.org/event/mountainaires-choir-rehearsal/2028-10-05/
LOCATION:Music Suite
CATEGORIES:Senior Adults Event
ATTACH;FMTTYPE=image/jpeg:https://shadescrest.org/wp-content/uploads/2025/02/mountainaires.jpg
END:VEVENT
BEGIN:VEVENT
DTSTART;TZID=UTC:20281012T101500
DTEND;TZID=UTC:20281012T111500
DTSTAMP:20260424T160544
CREATED:20250206T202123Z
LAST-MODIFIED:20260107T205006Z
UID:10002043-1854958500-1854962100@shadescrest.org
SUMMARY:Mountainaires Choir Rehearsal
DESCRIPTION:New members are always welcome.
URL:https://shadescrest.org/event/mountainaires-choir-rehearsal/2028-10-12/
LOCATION:Music Suite
CATEGORIES:Senior Adults Event
ATTACH;FMTTYPE=image/jpeg:https://shadescrest.org/wp-content/uploads/2025/02/mountainaires.jpg
END:VEVENT
BEGIN:VEVENT
DTSTART;TZID=UTC:20281019T101500
DTEND;TZID=UTC:20281019T111500
DTSTAMP:20260424T160544
CREATED:20250206T202123Z
LAST-MODIFIED:20260107T205006Z
UID:10002044-1855563300-1855566900@shadescrest.org
SUMMARY:Mountainaires Choir Rehearsal
DESCRIPTION:New members are always welcome.
URL:https://shadescrest.org/event/mountainaires-choir-rehearsal/2028-10-19/
LOCATION:Music Suite
CATEGORIES:Senior Adults Event
ATTACH;FMTTYPE=image/jpeg:https://shadescrest.org/wp-content/uploads/2025/02/mountainaires.jpg
END:VEVENT
BEGIN:VEVENT
DTSTART;TZID=UTC:20281026T101500
DTEND;TZID=UTC:20281026T111500
DTSTAMP:20260424T160544
CREATED:20250206T202123Z
LAST-MODIFIED:20260107T205006Z
UID:10002045-1856168100-1856171700@shadescrest.org
SUMMARY:Mountainaires Choir Rehearsal
DESCRIPTION:New members are always welcome.
URL:https://shadescrest.org/event/mountainaires-choir-rehearsal/2028-10-26/
LOCATION:Music Suite
CATEGORIES:Senior Adults Event
ATTACH;FMTTYPE=image/jpeg:https://shadescrest.org/wp-content/uploads/2025/02/mountainaires.jpg
END:VEVENT
BEGIN:VEVENT
DTSTART;TZID=UTC:20281102T101500
DTEND;TZID=UTC:20281102T111500
DTSTAMP:20260424T160544
CREATED:20250206T202123Z
LAST-MODIFIED:20260107T205006Z
UID:10002046-1856772900-1856776500@shadescrest.org
SUMMARY:Mountainaires Choir Rehearsal
DESCRIPTION:New members are always welcome.
URL:https://shadescrest.org/event/mountainaires-choir-rehearsal/2028-11-02/
LOCATION:Music Suite
CATEGORIES:Senior Adults Event
ATTACH;FMTTYPE=image/jpeg:https://shadescrest.org/wp-content/uploads/2025/02/mountainaires.jpg
END:VEVENT
BEGIN:VEVENT
DTSTART;TZID=UTC:20281109T101500
DTEND;TZID=UTC:20281109T111500
DTSTAMP:20260424T160544
CREATED:20250206T202123Z
LAST-MODIFIED:20260107T205006Z
UID:10002047-1857377700-1857381300@shadescrest.org
SUMMARY:Mountainaires Choir Rehearsal
DESCRIPTION:New members are always welcome.
URL:https://shadescrest.org/event/mountainaires-choir-rehearsal/2028-11-09/
LOCATION:Music Suite
CATEGORIES:Senior Adults Event
ATTACH;FMTTYPE=image/jpeg:https://shadescrest.org/wp-content/uploads/2025/02/mountainaires.jpg
END:VEVENT
BEGIN:VEVENT
DTSTART;TZID=UTC:20281116T101500
DTEND;TZID=UTC:20281116T111500
DTSTAMP:20260424T160544
CREATED:20250206T202123Z
LAST-MODIFIED:20260107T205006Z
UID:10002048-1857982500-1857986100@shadescrest.org
SUMMARY:Mountainaires Choir Rehearsal
DESCRIPTION:New members are always welcome.
URL:https://shadescrest.org/event/mountainaires-choir-rehearsal/2028-11-16/
LOCATION:Music Suite
CATEGORIES:Senior Adults Event
ATTACH;FMTTYPE=image/jpeg:https://shadescrest.org/wp-content/uploads/2025/02/mountainaires.jpg
END:VEVENT
BEGIN:VEVENT
DTSTART;TZID=UTC:20281123T101500
DTEND;TZID=UTC:20281123T111500
DTSTAMP:20260424T160544
CREATED:20250206T202123Z
LAST-MODIFIED:20260107T205006Z
UID:10002049-1858587300-1858590900@shadescrest.org
SUMMARY:Mountainaires Choir Rehearsal
DESCRIPTION:New members are always welcome.
URL:https://shadescrest.org/event/mountainaires-choir-rehearsal/2028-11-23/
LOCATION:Music Suite
CATEGORIES:Senior Adults Event
ATTACH;FMTTYPE=image/jpeg:https://shadescrest.org/wp-content/uploads/2025/02/mountainaires.jpg
END:VEVENT
BEGIN:VEVENT
DTSTART;TZID=UTC:20281130T101500
DTEND;TZID=UTC:20281130T111500
DTSTAMP:20260424T160544
CREATED:20250206T202123Z
LAST-MODIFIED:20260107T205006Z
UID:10002050-1859192100-1859195700@shadescrest.org
SUMMARY:Mountainaires Choir Rehearsal
DESCRIPTION:New members are always welcome.
URL:https://shadescrest.org/event/mountainaires-choir-rehearsal/2028-11-30/
LOCATION:Music Suite
CATEGORIES:Senior Adults Event
ATTACH;FMTTYPE=image/jpeg:https://shadescrest.org/wp-content/uploads/2025/02/mountainaires.jpg
END:VEVENT
BEGIN:VEVENT
DTSTART;TZID=UTC:20281207T101500
DTEND;TZID=UTC:20281207T111500
DTSTAMP:20260424T160544
CREATED:20250206T202123Z
LAST-MODIFIED:20260107T205006Z
UID:10002051-1859796900-1859800500@shadescrest.org
SUMMARY:Mountainaires Choir Rehearsal
DESCRIPTION:New members are always welcome.
URL:https://shadescrest.org/event/mountainaires-choir-rehearsal/2028-12-07/
LOCATION:Music Suite
CATEGORIES:Senior Adults Event
ATTACH;FMTTYPE=image/jpeg:https://shadescrest.org/wp-content/uploads/2025/02/mountainaires.jpg
END:VEVENT
BEGIN:VEVENT
DTSTART;TZID=UTC:20281214T101500
DTEND;TZID=UTC:20281214T111500
DTSTAMP:20260424T160544
CREATED:20250206T202123Z
LAST-MODIFIED:20260107T205006Z
UID:10002052-1860401700-1860405300@shadescrest.org
SUMMARY:Mountainaires Choir Rehearsal
DESCRIPTION:New members are always welcome.
URL:https://shadescrest.org/event/mountainaires-choir-rehearsal/2028-12-14/
LOCATION:Music Suite
CATEGORIES:Senior Adults Event
ATTACH;FMTTYPE=image/jpeg:https://shadescrest.org/wp-content/uploads/2025/02/mountainaires.jpg
END:VEVENT
BEGIN:VEVENT
DTSTART;TZID=UTC:20281221T101500
DTEND;TZID=UTC:20281221T111500
DTSTAMP:20260424T160544
CREATED:20250206T202123Z
LAST-MODIFIED:20260107T205006Z
UID:10002053-1861006500-1861010100@shadescrest.org
SUMMARY:Mountainaires Choir Rehearsal
DESCRIPTION:New members are always welcome.
URL:https://shadescrest.org/event/mountainaires-choir-rehearsal/2028-12-21/
LOCATION:Music Suite
CATEGORIES:Senior Adults Event
ATTACH;FMTTYPE=image/jpeg:https://shadescrest.org/wp-content/uploads/2025/02/mountainaires.jpg
END:VEVENT
END:VCALENDAR