BEGIN:VCALENDAR
VERSION:2.0
PRODID:-//Shades Crest Baptist Church - ECPv6.15.20//NONSGML v1.0//EN
CALSCALE:GREGORIAN
METHOD:PUBLISH
X-WR-CALNAME:Shades Crest Baptist Church
X-ORIGINAL-URL:https://shadescrest.org
X-WR-CALDESC:Events for Shades Crest Baptist Church
REFRESH-INTERVAL;VALUE=DURATION:PT1H
X-Robots-Tag:noindex
X-PUBLISHED-TTL:PT1H
BEGIN:VTIMEZONE
TZID:UTC
BEGIN:STANDARD
TZOFFSETFROM:+0000
TZOFFSETTO:+0000
TZNAME:UTC
DTSTART:20270101T000000
END:STANDARD
END:VTIMEZONE
BEGIN:VEVENT
DTSTART;TZID=UTC:20281228T101500
DTEND;TZID=UTC:20281228T111500
DTSTAMP:20260424T213242
CREATED:20250206T202123Z
LAST-MODIFIED:20260107T205006Z
UID:10002054-1861611300-1861614900@shadescrest.org
SUMMARY:Mountainaires Choir Rehearsal
DESCRIPTION:New members are always welcome.
URL:https://shadescrest.org/event/mountainaires-choir-rehearsal/2028-12-28/
LOCATION:Music Suite
CATEGORIES:Senior Adults Event
ATTACH;FMTTYPE=image/jpeg:https://shadescrest.org/wp-content/uploads/2025/02/mountainaires.jpg
END:VEVENT
BEGIN:VEVENT
DTSTART;TZID=UTC:20290104T101500
DTEND;TZID=UTC:20290104T111500
DTSTAMP:20260424T213242
CREATED:20250206T202123Z
LAST-MODIFIED:20260107T205006Z
UID:10002055-1862216100-1862219700@shadescrest.org
SUMMARY:Mountainaires Choir Rehearsal
DESCRIPTION:New members are always welcome.
URL:https://shadescrest.org/event/mountainaires-choir-rehearsal/2029-01-04/
LOCATION:Music Suite
CATEGORIES:Senior Adults Event
ATTACH;FMTTYPE=image/jpeg:https://shadescrest.org/wp-content/uploads/2025/02/mountainaires.jpg
END:VEVENT
BEGIN:VEVENT
DTSTART;TZID=UTC:20290111T101500
DTEND;TZID=UTC:20290111T111500
DTSTAMP:20260424T213242
CREATED:20250206T202123Z
LAST-MODIFIED:20260107T205006Z
UID:10002056-1862820900-1862824500@shadescrest.org
SUMMARY:Mountainaires Choir Rehearsal
DESCRIPTION:New members are always welcome.
URL:https://shadescrest.org/event/mountainaires-choir-rehearsal/2029-01-11/
LOCATION:Music Suite
CATEGORIES:Senior Adults Event
ATTACH;FMTTYPE=image/jpeg:https://shadescrest.org/wp-content/uploads/2025/02/mountainaires.jpg
END:VEVENT
BEGIN:VEVENT
DTSTART;TZID=UTC:20290118T101500
DTEND;TZID=UTC:20290118T111500
DTSTAMP:20260424T213242
CREATED:20250206T202123Z
LAST-MODIFIED:20260107T205006Z
UID:10002057-1863425700-1863429300@shadescrest.org
SUMMARY:Mountainaires Choir Rehearsal
DESCRIPTION:New members are always welcome.
URL:https://shadescrest.org/event/mountainaires-choir-rehearsal/2029-01-18/
LOCATION:Music Suite
CATEGORIES:Senior Adults Event
ATTACH;FMTTYPE=image/jpeg:https://shadescrest.org/wp-content/uploads/2025/02/mountainaires.jpg
END:VEVENT
BEGIN:VEVENT
DTSTART;TZID=UTC:20290125T101500
DTEND;TZID=UTC:20290125T111500
DTSTAMP:20260424T213242
CREATED:20250206T202123Z
LAST-MODIFIED:20260107T205006Z
UID:10002058-1864030500-1864034100@shadescrest.org
SUMMARY:Mountainaires Choir Rehearsal
DESCRIPTION:New members are always welcome.
URL:https://shadescrest.org/event/mountainaires-choir-rehearsal/2029-01-25/
LOCATION:Music Suite
CATEGORIES:Senior Adults Event
ATTACH;FMTTYPE=image/jpeg:https://shadescrest.org/wp-content/uploads/2025/02/mountainaires.jpg
END:VEVENT
BEGIN:VEVENT
DTSTART;TZID=UTC:20290201T101500
DTEND;TZID=UTC:20290201T111500
DTSTAMP:20260424T213242
CREATED:20250206T202123Z
LAST-MODIFIED:20260107T205006Z
UID:10002059-1864635300-1864638900@shadescrest.org
SUMMARY:Mountainaires Choir Rehearsal
DESCRIPTION:New members are always welcome.
URL:https://shadescrest.org/event/mountainaires-choir-rehearsal/2029-02-01/
LOCATION:Music Suite
CATEGORIES:Senior Adults Event
ATTACH;FMTTYPE=image/jpeg:https://shadescrest.org/wp-content/uploads/2025/02/mountainaires.jpg
END:VEVENT
BEGIN:VEVENT
DTSTART;TZID=UTC:20290208T101500
DTEND;TZID=UTC:20290208T111500
DTSTAMP:20260424T213242
CREATED:20250206T202123Z
LAST-MODIFIED:20260107T205006Z
UID:10002060-1865240100-1865243700@shadescrest.org
SUMMARY:Mountainaires Choir Rehearsal
DESCRIPTION:New members are always welcome.
URL:https://shadescrest.org/event/mountainaires-choir-rehearsal/2029-02-08/
LOCATION:Music Suite
CATEGORIES:Senior Adults Event
ATTACH;FMTTYPE=image/jpeg:https://shadescrest.org/wp-content/uploads/2025/02/mountainaires.jpg
END:VEVENT
BEGIN:VEVENT
DTSTART;TZID=UTC:20290215T101500
DTEND;TZID=UTC:20290215T111500
DTSTAMP:20260424T213242
CREATED:20250206T202123Z
LAST-MODIFIED:20260107T205006Z
UID:10002061-1865844900-1865848500@shadescrest.org
SUMMARY:Mountainaires Choir Rehearsal
DESCRIPTION:New members are always welcome.
URL:https://shadescrest.org/event/mountainaires-choir-rehearsal/2029-02-15/
LOCATION:Music Suite
CATEGORIES:Senior Adults Event
ATTACH;FMTTYPE=image/jpeg:https://shadescrest.org/wp-content/uploads/2025/02/mountainaires.jpg
END:VEVENT
BEGIN:VEVENT
DTSTART;TZID=UTC:20290222T101500
DTEND;TZID=UTC:20290222T111500
DTSTAMP:20260424T213242
CREATED:20250206T202123Z
LAST-MODIFIED:20260107T205006Z
UID:10002062-1866449700-1866453300@shadescrest.org
SUMMARY:Mountainaires Choir Rehearsal
DESCRIPTION:New members are always welcome.
URL:https://shadescrest.org/event/mountainaires-choir-rehearsal/2029-02-22/
LOCATION:Music Suite
CATEGORIES:Senior Adults Event
ATTACH;FMTTYPE=image/jpeg:https://shadescrest.org/wp-content/uploads/2025/02/mountainaires.jpg
END:VEVENT
BEGIN:VEVENT
DTSTART;TZID=UTC:20290301T101500
DTEND;TZID=UTC:20290301T111500
DTSTAMP:20260424T213242
CREATED:20250206T202123Z
LAST-MODIFIED:20260107T205006Z
UID:10002063-1867054500-1867058100@shadescrest.org
SUMMARY:Mountainaires Choir Rehearsal
DESCRIPTION:New members are always welcome.
URL:https://shadescrest.org/event/mountainaires-choir-rehearsal/2029-03-01/
LOCATION:Music Suite
CATEGORIES:Senior Adults Event
ATTACH;FMTTYPE=image/jpeg:https://shadescrest.org/wp-content/uploads/2025/02/mountainaires.jpg
END:VEVENT
BEGIN:VEVENT
DTSTART;TZID=UTC:20290308T101500
DTEND;TZID=UTC:20290308T111500
DTSTAMP:20260424T213242
CREATED:20250206T202123Z
LAST-MODIFIED:20260107T205006Z
UID:10002064-1867659300-1867662900@shadescrest.org
SUMMARY:Mountainaires Choir Rehearsal
DESCRIPTION:New members are always welcome.
URL:https://shadescrest.org/event/mountainaires-choir-rehearsal/2029-03-08/
LOCATION:Music Suite
CATEGORIES:Senior Adults Event
ATTACH;FMTTYPE=image/jpeg:https://shadescrest.org/wp-content/uploads/2025/02/mountainaires.jpg
END:VEVENT
BEGIN:VEVENT
DTSTART;TZID=UTC:20290315T101500
DTEND;TZID=UTC:20290315T111500
DTSTAMP:20260424T213242
CREATED:20250206T202123Z
LAST-MODIFIED:20260107T205006Z
UID:10002065-1868264100-1868267700@shadescrest.org
SUMMARY:Mountainaires Choir Rehearsal
DESCRIPTION:New members are always welcome.
URL:https://shadescrest.org/event/mountainaires-choir-rehearsal/2029-03-15/
LOCATION:Music Suite
CATEGORIES:Senior Adults Event
ATTACH;FMTTYPE=image/jpeg:https://shadescrest.org/wp-content/uploads/2025/02/mountainaires.jpg
END:VEVENT
BEGIN:VEVENT
DTSTART;TZID=UTC:20290322T101500
DTEND;TZID=UTC:20290322T111500
DTSTAMP:20260424T213242
CREATED:20250206T202123Z
LAST-MODIFIED:20260107T205006Z
UID:10002066-1868868900-1868872500@shadescrest.org
SUMMARY:Mountainaires Choir Rehearsal
DESCRIPTION:New members are always welcome.
URL:https://shadescrest.org/event/mountainaires-choir-rehearsal/2029-03-22/
LOCATION:Music Suite
CATEGORIES:Senior Adults Event
ATTACH;FMTTYPE=image/jpeg:https://shadescrest.org/wp-content/uploads/2025/02/mountainaires.jpg
END:VEVENT
BEGIN:VEVENT
DTSTART;TZID=UTC:20290329T101500
DTEND;TZID=UTC:20290329T111500
DTSTAMP:20260424T213242
CREATED:20250206T202123Z
LAST-MODIFIED:20260107T205006Z
UID:10002067-1869473700-1869477300@shadescrest.org
SUMMARY:Mountainaires Choir Rehearsal
DESCRIPTION:New members are always welcome.
URL:https://shadescrest.org/event/mountainaires-choir-rehearsal/2029-03-29/
LOCATION:Music Suite
CATEGORIES:Senior Adults Event
ATTACH;FMTTYPE=image/jpeg:https://shadescrest.org/wp-content/uploads/2025/02/mountainaires.jpg
END:VEVENT
BEGIN:VEVENT
DTSTART;TZID=UTC:20290405T101500
DTEND;TZID=UTC:20290405T111500
DTSTAMP:20260424T213242
CREATED:20250206T202123Z
LAST-MODIFIED:20260107T205006Z
UID:10002068-1870078500-1870082100@shadescrest.org
SUMMARY:Mountainaires Choir Rehearsal
DESCRIPTION:New members are always welcome.
URL:https://shadescrest.org/event/mountainaires-choir-rehearsal/2029-04-05/
LOCATION:Music Suite
CATEGORIES:Senior Adults Event
ATTACH;FMTTYPE=image/jpeg:https://shadescrest.org/wp-content/uploads/2025/02/mountainaires.jpg
END:VEVENT
BEGIN:VEVENT
DTSTART;TZID=UTC:20290412T101500
DTEND;TZID=UTC:20290412T111500
DTSTAMP:20260424T213242
CREATED:20250206T202123Z
LAST-MODIFIED:20260107T205006Z
UID:10002069-1870683300-1870686900@shadescrest.org
SUMMARY:Mountainaires Choir Rehearsal
DESCRIPTION:New members are always welcome.
URL:https://shadescrest.org/event/mountainaires-choir-rehearsal/2029-04-12/
LOCATION:Music Suite
CATEGORIES:Senior Adults Event
ATTACH;FMTTYPE=image/jpeg:https://shadescrest.org/wp-content/uploads/2025/02/mountainaires.jpg
END:VEVENT
BEGIN:VEVENT
DTSTART;TZID=UTC:20290419T101500
DTEND;TZID=UTC:20290419T111500
DTSTAMP:20260424T213242
CREATED:20250206T202123Z
LAST-MODIFIED:20260107T205006Z
UID:10002070-1871288100-1871291700@shadescrest.org
SUMMARY:Mountainaires Choir Rehearsal
DESCRIPTION:New members are always welcome.
URL:https://shadescrest.org/event/mountainaires-choir-rehearsal/2029-04-19/
LOCATION:Music Suite
CATEGORIES:Senior Adults Event
ATTACH;FMTTYPE=image/jpeg:https://shadescrest.org/wp-content/uploads/2025/02/mountainaires.jpg
END:VEVENT
BEGIN:VEVENT
DTSTART;TZID=UTC:20290426T101500
DTEND;TZID=UTC:20290426T111500
DTSTAMP:20260424T213242
CREATED:20250206T202123Z
LAST-MODIFIED:20260107T205006Z
UID:10002071-1871892900-1871896500@shadescrest.org
SUMMARY:Mountainaires Choir Rehearsal
DESCRIPTION:New members are always welcome.
URL:https://shadescrest.org/event/mountainaires-choir-rehearsal/2029-04-26/
LOCATION:Music Suite
CATEGORIES:Senior Adults Event
ATTACH;FMTTYPE=image/jpeg:https://shadescrest.org/wp-content/uploads/2025/02/mountainaires.jpg
END:VEVENT
BEGIN:VEVENT
DTSTART;TZID=UTC:20290503T101500
DTEND;TZID=UTC:20290503T111500
DTSTAMP:20260424T213242
CREATED:20250206T202123Z
LAST-MODIFIED:20260107T205006Z
UID:10002072-1872497700-1872501300@shadescrest.org
SUMMARY:Mountainaires Choir Rehearsal
DESCRIPTION:New members are always welcome.
URL:https://shadescrest.org/event/mountainaires-choir-rehearsal/2029-05-03/
LOCATION:Music Suite
CATEGORIES:Senior Adults Event
ATTACH;FMTTYPE=image/jpeg:https://shadescrest.org/wp-content/uploads/2025/02/mountainaires.jpg
END:VEVENT
BEGIN:VEVENT
DTSTART;TZID=UTC:20290510T101500
DTEND;TZID=UTC:20290510T111500
DTSTAMP:20260424T213242
CREATED:20250206T202123Z
LAST-MODIFIED:20260107T205006Z
UID:10002073-1873102500-1873106100@shadescrest.org
SUMMARY:Mountainaires Choir Rehearsal
DESCRIPTION:New members are always welcome.
URL:https://shadescrest.org/event/mountainaires-choir-rehearsal/2029-05-10/
LOCATION:Music Suite
CATEGORIES:Senior Adults Event
ATTACH;FMTTYPE=image/jpeg:https://shadescrest.org/wp-content/uploads/2025/02/mountainaires.jpg
END:VEVENT
BEGIN:VEVENT
DTSTART;TZID=UTC:20290517T101500
DTEND;TZID=UTC:20290517T111500
DTSTAMP:20260424T213242
CREATED:20250206T202123Z
LAST-MODIFIED:20260107T205006Z
UID:10002074-1873707300-1873710900@shadescrest.org
SUMMARY:Mountainaires Choir Rehearsal
DESCRIPTION:New members are always welcome.
URL:https://shadescrest.org/event/mountainaires-choir-rehearsal/2029-05-17/
LOCATION:Music Suite
CATEGORIES:Senior Adults Event
ATTACH;FMTTYPE=image/jpeg:https://shadescrest.org/wp-content/uploads/2025/02/mountainaires.jpg
END:VEVENT
BEGIN:VEVENT
DTSTART;TZID=UTC:20290524T101500
DTEND;TZID=UTC:20290524T111500
DTSTAMP:20260424T213242
CREATED:20250206T202123Z
LAST-MODIFIED:20260107T205006Z
UID:10002075-1874312100-1874315700@shadescrest.org
SUMMARY:Mountainaires Choir Rehearsal
DESCRIPTION:New members are always welcome.
URL:https://shadescrest.org/event/mountainaires-choir-rehearsal/2029-05-24/
LOCATION:Music Suite
CATEGORIES:Senior Adults Event
ATTACH;FMTTYPE=image/jpeg:https://shadescrest.org/wp-content/uploads/2025/02/mountainaires.jpg
END:VEVENT
BEGIN:VEVENT
DTSTART;TZID=UTC:20290531T101500
DTEND;TZID=UTC:20290531T111500
DTSTAMP:20260424T213242
CREATED:20250206T202123Z
LAST-MODIFIED:20260107T205006Z
UID:10002076-1874916900-1874920500@shadescrest.org
SUMMARY:Mountainaires Choir Rehearsal
DESCRIPTION:New members are always welcome.
URL:https://shadescrest.org/event/mountainaires-choir-rehearsal/2029-05-31/
LOCATION:Music Suite
CATEGORIES:Senior Adults Event
ATTACH;FMTTYPE=image/jpeg:https://shadescrest.org/wp-content/uploads/2025/02/mountainaires.jpg
END:VEVENT
BEGIN:VEVENT
DTSTART;TZID=UTC:20290607T101500
DTEND;TZID=UTC:20290607T111500
DTSTAMP:20260424T213242
CREATED:20250206T202123Z
LAST-MODIFIED:20260107T205006Z
UID:10002077-1875521700-1875525300@shadescrest.org
SUMMARY:Mountainaires Choir Rehearsal
DESCRIPTION:New members are always welcome.
URL:https://shadescrest.org/event/mountainaires-choir-rehearsal/2029-06-07/
LOCATION:Music Suite
CATEGORIES:Senior Adults Event
ATTACH;FMTTYPE=image/jpeg:https://shadescrest.org/wp-content/uploads/2025/02/mountainaires.jpg
END:VEVENT
BEGIN:VEVENT
DTSTART;TZID=UTC:20290614T101500
DTEND;TZID=UTC:20290614T111500
DTSTAMP:20260424T213242
CREATED:20250206T202123Z
LAST-MODIFIED:20260107T205006Z
UID:10002078-1876126500-1876130100@shadescrest.org
SUMMARY:Mountainaires Choir Rehearsal
DESCRIPTION:New members are always welcome.
URL:https://shadescrest.org/event/mountainaires-choir-rehearsal/2029-06-14/
LOCATION:Music Suite
CATEGORIES:Senior Adults Event
ATTACH;FMTTYPE=image/jpeg:https://shadescrest.org/wp-content/uploads/2025/02/mountainaires.jpg
END:VEVENT
BEGIN:VEVENT
DTSTART;TZID=UTC:20290621T101500
DTEND;TZID=UTC:20290621T111500
DTSTAMP:20260424T213242
CREATED:20250206T202123Z
LAST-MODIFIED:20260107T205006Z
UID:10002079-1876731300-1876734900@shadescrest.org
SUMMARY:Mountainaires Choir Rehearsal
DESCRIPTION:New members are always welcome.
URL:https://shadescrest.org/event/mountainaires-choir-rehearsal/2029-06-21/
LOCATION:Music Suite
CATEGORIES:Senior Adults Event
ATTACH;FMTTYPE=image/jpeg:https://shadescrest.org/wp-content/uploads/2025/02/mountainaires.jpg
END:VEVENT
BEGIN:VEVENT
DTSTART;TZID=UTC:20290628T101500
DTEND;TZID=UTC:20290628T111500
DTSTAMP:20260424T213242
CREATED:20250206T202123Z
LAST-MODIFIED:20260107T205006Z
UID:10002080-1877336100-1877339700@shadescrest.org
SUMMARY:Mountainaires Choir Rehearsal
DESCRIPTION:New members are always welcome.
URL:https://shadescrest.org/event/mountainaires-choir-rehearsal/2029-06-28/
LOCATION:Music Suite
CATEGORIES:Senior Adults Event
ATTACH;FMTTYPE=image/jpeg:https://shadescrest.org/wp-content/uploads/2025/02/mountainaires.jpg
END:VEVENT
BEGIN:VEVENT
DTSTART;TZID=UTC:20290705T101500
DTEND;TZID=UTC:20290705T111500
DTSTAMP:20260424T213242
CREATED:20250206T202123Z
LAST-MODIFIED:20260107T205006Z
UID:10002081-1877940900-1877944500@shadescrest.org
SUMMARY:Mountainaires Choir Rehearsal
DESCRIPTION:New members are always welcome.
URL:https://shadescrest.org/event/mountainaires-choir-rehearsal/2029-07-05/
LOCATION:Music Suite
CATEGORIES:Senior Adults Event
ATTACH;FMTTYPE=image/jpeg:https://shadescrest.org/wp-content/uploads/2025/02/mountainaires.jpg
END:VEVENT
BEGIN:VEVENT
DTSTART;TZID=UTC:20290712T101500
DTEND;TZID=UTC:20290712T111500
DTSTAMP:20260424T213242
CREATED:20250206T202123Z
LAST-MODIFIED:20260107T205006Z
UID:10002082-1878545700-1878549300@shadescrest.org
SUMMARY:Mountainaires Choir Rehearsal
DESCRIPTION:New members are always welcome.
URL:https://shadescrest.org/event/mountainaires-choir-rehearsal/2029-07-12/
LOCATION:Music Suite
CATEGORIES:Senior Adults Event
ATTACH;FMTTYPE=image/jpeg:https://shadescrest.org/wp-content/uploads/2025/02/mountainaires.jpg
END:VEVENT
BEGIN:VEVENT
DTSTART;TZID=UTC:20290719T101500
DTEND;TZID=UTC:20290719T111500
DTSTAMP:20260424T213242
CREATED:20250206T202123Z
LAST-MODIFIED:20260107T205006Z
UID:10002083-1879150500-1879154100@shadescrest.org
SUMMARY:Mountainaires Choir Rehearsal
DESCRIPTION:New members are always welcome.
URL:https://shadescrest.org/event/mountainaires-choir-rehearsal/2029-07-19/
LOCATION:Music Suite
CATEGORIES:Senior Adults Event
ATTACH;FMTTYPE=image/jpeg:https://shadescrest.org/wp-content/uploads/2025/02/mountainaires.jpg
END:VEVENT
END:VCALENDAR