BEGIN:VCALENDAR
VERSION:2.0
PRODID:-//Shades Crest Baptist Church - ECPv6.15.20//NONSGML v1.0//EN
CALSCALE:GREGORIAN
METHOD:PUBLISH
X-WR-CALNAME:Shades Crest Baptist Church
X-ORIGINAL-URL:https://shadescrest.org
X-WR-CALDESC:Events for Shades Crest Baptist Church
REFRESH-INTERVAL;VALUE=DURATION:PT1H
X-Robots-Tag:noindex
X-PUBLISHED-TTL:PT1H
BEGIN:VTIMEZONE
TZID:UTC
BEGIN:STANDARD
TZOFFSETFROM:+0000
TZOFFSETTO:+0000
TZNAME:UTC
DTSTART:20280101T000000
END:STANDARD
END:VTIMEZONE
BEGIN:VEVENT
DTSTART;TZID=UTC:20290726T101500
DTEND;TZID=UTC:20290726T111500
DTSTAMP:20260425T021830
CREATED:20250206T202123Z
LAST-MODIFIED:20260107T205006Z
UID:10002084-1879755300-1879758900@shadescrest.org
SUMMARY:Mountainaires Choir Rehearsal
DESCRIPTION:New members are always welcome.
URL:https://shadescrest.org/event/mountainaires-choir-rehearsal/2029-07-26/
LOCATION:Music Suite
CATEGORIES:Senior Adults Event
ATTACH;FMTTYPE=image/jpeg:https://shadescrest.org/wp-content/uploads/2025/02/mountainaires.jpg
END:VEVENT
BEGIN:VEVENT
DTSTART;TZID=UTC:20290802T101500
DTEND;TZID=UTC:20290802T111500
DTSTAMP:20260425T021830
CREATED:20250206T202123Z
LAST-MODIFIED:20260107T205006Z
UID:10002085-1880360100-1880363700@shadescrest.org
SUMMARY:Mountainaires Choir Rehearsal
DESCRIPTION:New members are always welcome.
URL:https://shadescrest.org/event/mountainaires-choir-rehearsal/2029-08-02/
LOCATION:Music Suite
CATEGORIES:Senior Adults Event
ATTACH;FMTTYPE=image/jpeg:https://shadescrest.org/wp-content/uploads/2025/02/mountainaires.jpg
END:VEVENT
BEGIN:VEVENT
DTSTART;TZID=UTC:20290809T101500
DTEND;TZID=UTC:20290809T111500
DTSTAMP:20260425T021830
CREATED:20250206T202123Z
LAST-MODIFIED:20260107T205006Z
UID:10002086-1880964900-1880968500@shadescrest.org
SUMMARY:Mountainaires Choir Rehearsal
DESCRIPTION:New members are always welcome.
URL:https://shadescrest.org/event/mountainaires-choir-rehearsal/2029-08-09/
LOCATION:Music Suite
CATEGORIES:Senior Adults Event
ATTACH;FMTTYPE=image/jpeg:https://shadescrest.org/wp-content/uploads/2025/02/mountainaires.jpg
END:VEVENT
BEGIN:VEVENT
DTSTART;TZID=UTC:20290816T101500
DTEND;TZID=UTC:20290816T111500
DTSTAMP:20260425T021830
CREATED:20250206T202123Z
LAST-MODIFIED:20260107T205006Z
UID:10002087-1881569700-1881573300@shadescrest.org
SUMMARY:Mountainaires Choir Rehearsal
DESCRIPTION:New members are always welcome.
URL:https://shadescrest.org/event/mountainaires-choir-rehearsal/2029-08-16/
LOCATION:Music Suite
CATEGORIES:Senior Adults Event
ATTACH;FMTTYPE=image/jpeg:https://shadescrest.org/wp-content/uploads/2025/02/mountainaires.jpg
END:VEVENT
BEGIN:VEVENT
DTSTART;TZID=UTC:20290823T101500
DTEND;TZID=UTC:20290823T111500
DTSTAMP:20260425T021830
CREATED:20250206T202123Z
LAST-MODIFIED:20260107T205006Z
UID:10002088-1882174500-1882178100@shadescrest.org
SUMMARY:Mountainaires Choir Rehearsal
DESCRIPTION:New members are always welcome.
URL:https://shadescrest.org/event/mountainaires-choir-rehearsal/2029-08-23/
LOCATION:Music Suite
CATEGORIES:Senior Adults Event
ATTACH;FMTTYPE=image/jpeg:https://shadescrest.org/wp-content/uploads/2025/02/mountainaires.jpg
END:VEVENT
BEGIN:VEVENT
DTSTART;TZID=UTC:20290830T101500
DTEND;TZID=UTC:20290830T111500
DTSTAMP:20260425T021830
CREATED:20250206T202123Z
LAST-MODIFIED:20260107T205006Z
UID:10002089-1882779300-1882782900@shadescrest.org
SUMMARY:Mountainaires Choir Rehearsal
DESCRIPTION:New members are always welcome.
URL:https://shadescrest.org/event/mountainaires-choir-rehearsal/2029-08-30/
LOCATION:Music Suite
CATEGORIES:Senior Adults Event
ATTACH;FMTTYPE=image/jpeg:https://shadescrest.org/wp-content/uploads/2025/02/mountainaires.jpg
END:VEVENT
BEGIN:VEVENT
DTSTART;TZID=UTC:20290906T101500
DTEND;TZID=UTC:20290906T111500
DTSTAMP:20260425T021830
CREATED:20250206T202123Z
LAST-MODIFIED:20260107T205006Z
UID:10002090-1883384100-1883387700@shadescrest.org
SUMMARY:Mountainaires Choir Rehearsal
DESCRIPTION:New members are always welcome.
URL:https://shadescrest.org/event/mountainaires-choir-rehearsal/2029-09-06/
LOCATION:Music Suite
CATEGORIES:Senior Adults Event
ATTACH;FMTTYPE=image/jpeg:https://shadescrest.org/wp-content/uploads/2025/02/mountainaires.jpg
END:VEVENT
BEGIN:VEVENT
DTSTART;TZID=UTC:20290913T101500
DTEND;TZID=UTC:20290913T111500
DTSTAMP:20260425T021830
CREATED:20250206T202123Z
LAST-MODIFIED:20260107T205006Z
UID:10002091-1883988900-1883992500@shadescrest.org
SUMMARY:Mountainaires Choir Rehearsal
DESCRIPTION:New members are always welcome.
URL:https://shadescrest.org/event/mountainaires-choir-rehearsal/2029-09-13/
LOCATION:Music Suite
CATEGORIES:Senior Adults Event
ATTACH;FMTTYPE=image/jpeg:https://shadescrest.org/wp-content/uploads/2025/02/mountainaires.jpg
END:VEVENT
BEGIN:VEVENT
DTSTART;TZID=UTC:20290920T101500
DTEND;TZID=UTC:20290920T111500
DTSTAMP:20260425T021830
CREATED:20250206T202123Z
LAST-MODIFIED:20260107T205006Z
UID:10002092-1884593700-1884597300@shadescrest.org
SUMMARY:Mountainaires Choir Rehearsal
DESCRIPTION:New members are always welcome.
URL:https://shadescrest.org/event/mountainaires-choir-rehearsal/2029-09-20/
LOCATION:Music Suite
CATEGORIES:Senior Adults Event
ATTACH;FMTTYPE=image/jpeg:https://shadescrest.org/wp-content/uploads/2025/02/mountainaires.jpg
END:VEVENT
BEGIN:VEVENT
DTSTART;TZID=UTC:20290927T101500
DTEND;TZID=UTC:20290927T111500
DTSTAMP:20260425T021830
CREATED:20250206T202123Z
LAST-MODIFIED:20260107T205006Z
UID:10002093-1885198500-1885202100@shadescrest.org
SUMMARY:Mountainaires Choir Rehearsal
DESCRIPTION:New members are always welcome.
URL:https://shadescrest.org/event/mountainaires-choir-rehearsal/2029-09-27/
LOCATION:Music Suite
CATEGORIES:Senior Adults Event
ATTACH;FMTTYPE=image/jpeg:https://shadescrest.org/wp-content/uploads/2025/02/mountainaires.jpg
END:VEVENT
BEGIN:VEVENT
DTSTART;TZID=UTC:20291004T101500
DTEND;TZID=UTC:20291004T111500
DTSTAMP:20260425T021830
CREATED:20250206T202123Z
LAST-MODIFIED:20260107T205006Z
UID:10002094-1885803300-1885806900@shadescrest.org
SUMMARY:Mountainaires Choir Rehearsal
DESCRIPTION:New members are always welcome.
URL:https://shadescrest.org/event/mountainaires-choir-rehearsal/2029-10-04/
LOCATION:Music Suite
CATEGORIES:Senior Adults Event
ATTACH;FMTTYPE=image/jpeg:https://shadescrest.org/wp-content/uploads/2025/02/mountainaires.jpg
END:VEVENT
BEGIN:VEVENT
DTSTART;TZID=UTC:20291011T101500
DTEND;TZID=UTC:20291011T111500
DTSTAMP:20260425T021830
CREATED:20250206T202123Z
LAST-MODIFIED:20260107T205006Z
UID:10002095-1886408100-1886411700@shadescrest.org
SUMMARY:Mountainaires Choir Rehearsal
DESCRIPTION:New members are always welcome.
URL:https://shadescrest.org/event/mountainaires-choir-rehearsal/2029-10-11/
LOCATION:Music Suite
CATEGORIES:Senior Adults Event
ATTACH;FMTTYPE=image/jpeg:https://shadescrest.org/wp-content/uploads/2025/02/mountainaires.jpg
END:VEVENT
BEGIN:VEVENT
DTSTART;TZID=UTC:20291018T101500
DTEND;TZID=UTC:20291018T111500
DTSTAMP:20260425T021830
CREATED:20250206T202123Z
LAST-MODIFIED:20260107T205006Z
UID:10002096-1887012900-1887016500@shadescrest.org
SUMMARY:Mountainaires Choir Rehearsal
DESCRIPTION:New members are always welcome.
URL:https://shadescrest.org/event/mountainaires-choir-rehearsal/2029-10-18/
LOCATION:Music Suite
CATEGORIES:Senior Adults Event
ATTACH;FMTTYPE=image/jpeg:https://shadescrest.org/wp-content/uploads/2025/02/mountainaires.jpg
END:VEVENT
BEGIN:VEVENT
DTSTART;TZID=UTC:20291025T101500
DTEND;TZID=UTC:20291025T111500
DTSTAMP:20260425T021830
CREATED:20250206T202123Z
LAST-MODIFIED:20260107T205006Z
UID:10002097-1887617700-1887621300@shadescrest.org
SUMMARY:Mountainaires Choir Rehearsal
DESCRIPTION:New members are always welcome.
URL:https://shadescrest.org/event/mountainaires-choir-rehearsal/2029-10-25/
LOCATION:Music Suite
CATEGORIES:Senior Adults Event
ATTACH;FMTTYPE=image/jpeg:https://shadescrest.org/wp-content/uploads/2025/02/mountainaires.jpg
END:VEVENT
BEGIN:VEVENT
DTSTART;TZID=UTC:20291101T101500
DTEND;TZID=UTC:20291101T111500
DTSTAMP:20260425T021830
CREATED:20250206T202123Z
LAST-MODIFIED:20260107T205006Z
UID:10002098-1888222500-1888226100@shadescrest.org
SUMMARY:Mountainaires Choir Rehearsal
DESCRIPTION:New members are always welcome.
URL:https://shadescrest.org/event/mountainaires-choir-rehearsal/2029-11-01/
LOCATION:Music Suite
CATEGORIES:Senior Adults Event
ATTACH;FMTTYPE=image/jpeg:https://shadescrest.org/wp-content/uploads/2025/02/mountainaires.jpg
END:VEVENT
BEGIN:VEVENT
DTSTART;TZID=UTC:20291108T101500
DTEND;TZID=UTC:20291108T111500
DTSTAMP:20260425T021830
CREATED:20250206T202123Z
LAST-MODIFIED:20260107T205006Z
UID:10002099-1888827300-1888830900@shadescrest.org
SUMMARY:Mountainaires Choir Rehearsal
DESCRIPTION:New members are always welcome.
URL:https://shadescrest.org/event/mountainaires-choir-rehearsal/2029-11-08/
LOCATION:Music Suite
CATEGORIES:Senior Adults Event
ATTACH;FMTTYPE=image/jpeg:https://shadescrest.org/wp-content/uploads/2025/02/mountainaires.jpg
END:VEVENT
BEGIN:VEVENT
DTSTART;TZID=UTC:20291115T101500
DTEND;TZID=UTC:20291115T111500
DTSTAMP:20260425T021830
CREATED:20250206T202123Z
LAST-MODIFIED:20260107T205006Z
UID:10002100-1889432100-1889435700@shadescrest.org
SUMMARY:Mountainaires Choir Rehearsal
DESCRIPTION:New members are always welcome.
URL:https://shadescrest.org/event/mountainaires-choir-rehearsal/2029-11-15/
LOCATION:Music Suite
CATEGORIES:Senior Adults Event
ATTACH;FMTTYPE=image/jpeg:https://shadescrest.org/wp-content/uploads/2025/02/mountainaires.jpg
END:VEVENT
BEGIN:VEVENT
DTSTART;TZID=UTC:20291122T101500
DTEND;TZID=UTC:20291122T111500
DTSTAMP:20260425T021830
CREATED:20250206T202123Z
LAST-MODIFIED:20260107T205006Z
UID:10002101-1890036900-1890040500@shadescrest.org
SUMMARY:Mountainaires Choir Rehearsal
DESCRIPTION:New members are always welcome.
URL:https://shadescrest.org/event/mountainaires-choir-rehearsal/2029-11-22/
LOCATION:Music Suite
CATEGORIES:Senior Adults Event
ATTACH;FMTTYPE=image/jpeg:https://shadescrest.org/wp-content/uploads/2025/02/mountainaires.jpg
END:VEVENT
BEGIN:VEVENT
DTSTART;TZID=UTC:20291129T101500
DTEND;TZID=UTC:20291129T111500
DTSTAMP:20260425T021830
CREATED:20250206T202123Z
LAST-MODIFIED:20260107T205006Z
UID:10002102-1890641700-1890645300@shadescrest.org
SUMMARY:Mountainaires Choir Rehearsal
DESCRIPTION:New members are always welcome.
URL:https://shadescrest.org/event/mountainaires-choir-rehearsal/2029-11-29/
LOCATION:Music Suite
CATEGORIES:Senior Adults Event
ATTACH;FMTTYPE=image/jpeg:https://shadescrest.org/wp-content/uploads/2025/02/mountainaires.jpg
END:VEVENT
BEGIN:VEVENT
DTSTART;TZID=UTC:20291206T101500
DTEND;TZID=UTC:20291206T111500
DTSTAMP:20260425T021830
CREATED:20250206T202123Z
LAST-MODIFIED:20260107T205006Z
UID:10002103-1891246500-1891250100@shadescrest.org
SUMMARY:Mountainaires Choir Rehearsal
DESCRIPTION:New members are always welcome.
URL:https://shadescrest.org/event/mountainaires-choir-rehearsal/2029-12-06/
LOCATION:Music Suite
CATEGORIES:Senior Adults Event
ATTACH;FMTTYPE=image/jpeg:https://shadescrest.org/wp-content/uploads/2025/02/mountainaires.jpg
END:VEVENT
BEGIN:VEVENT
DTSTART;TZID=UTC:20291213T101500
DTEND;TZID=UTC:20291213T111500
DTSTAMP:20260425T021830
CREATED:20250206T202123Z
LAST-MODIFIED:20260107T205006Z
UID:10002104-1891851300-1891854900@shadescrest.org
SUMMARY:Mountainaires Choir Rehearsal
DESCRIPTION:New members are always welcome.
URL:https://shadescrest.org/event/mountainaires-choir-rehearsal/2029-12-13/
LOCATION:Music Suite
CATEGORIES:Senior Adults Event
ATTACH;FMTTYPE=image/jpeg:https://shadescrest.org/wp-content/uploads/2025/02/mountainaires.jpg
END:VEVENT
BEGIN:VEVENT
DTSTART;TZID=UTC:20291220T101500
DTEND;TZID=UTC:20291220T111500
DTSTAMP:20260425T021830
CREATED:20250206T202123Z
LAST-MODIFIED:20260107T205006Z
UID:10002105-1892456100-1892459700@shadescrest.org
SUMMARY:Mountainaires Choir Rehearsal
DESCRIPTION:New members are always welcome.
URL:https://shadescrest.org/event/mountainaires-choir-rehearsal/2029-12-20/
LOCATION:Music Suite
CATEGORIES:Senior Adults Event
ATTACH;FMTTYPE=image/jpeg:https://shadescrest.org/wp-content/uploads/2025/02/mountainaires.jpg
END:VEVENT
BEGIN:VEVENT
DTSTART;TZID=UTC:20291227T101500
DTEND;TZID=UTC:20291227T111500
DTSTAMP:20260425T021830
CREATED:20250206T202123Z
LAST-MODIFIED:20260107T205006Z
UID:10002106-1893060900-1893064500@shadescrest.org
SUMMARY:Mountainaires Choir Rehearsal
DESCRIPTION:New members are always welcome.
URL:https://shadescrest.org/event/mountainaires-choir-rehearsal/2029-12-27/
LOCATION:Music Suite
CATEGORIES:Senior Adults Event
ATTACH;FMTTYPE=image/jpeg:https://shadescrest.org/wp-content/uploads/2025/02/mountainaires.jpg
END:VEVENT
BEGIN:VEVENT
DTSTART;TZID=UTC:20300103T101500
DTEND;TZID=UTC:20300103T111500
DTSTAMP:20260425T021830
CREATED:20250206T202123Z
LAST-MODIFIED:20260107T205006Z
UID:10002107-1893665700-1893669300@shadescrest.org
SUMMARY:Mountainaires Choir Rehearsal
DESCRIPTION:New members are always welcome.
URL:https://shadescrest.org/event/mountainaires-choir-rehearsal/2030-01-03/
LOCATION:Music Suite
CATEGORIES:Senior Adults Event
ATTACH;FMTTYPE=image/jpeg:https://shadescrest.org/wp-content/uploads/2025/02/mountainaires.jpg
END:VEVENT
BEGIN:VEVENT
DTSTART;TZID=UTC:20300110T101500
DTEND;TZID=UTC:20300110T111500
DTSTAMP:20260425T021830
CREATED:20250206T202123Z
LAST-MODIFIED:20260107T205006Z
UID:10002108-1894270500-1894274100@shadescrest.org
SUMMARY:Mountainaires Choir Rehearsal
DESCRIPTION:New members are always welcome.
URL:https://shadescrest.org/event/mountainaires-choir-rehearsal/2030-01-10/
LOCATION:Music Suite
CATEGORIES:Senior Adults Event
ATTACH;FMTTYPE=image/jpeg:https://shadescrest.org/wp-content/uploads/2025/02/mountainaires.jpg
END:VEVENT
BEGIN:VEVENT
DTSTART;TZID=UTC:20300117T101500
DTEND;TZID=UTC:20300117T111500
DTSTAMP:20260425T021830
CREATED:20250206T202123Z
LAST-MODIFIED:20260107T205006Z
UID:10002109-1894875300-1894878900@shadescrest.org
SUMMARY:Mountainaires Choir Rehearsal
DESCRIPTION:New members are always welcome.
URL:https://shadescrest.org/event/mountainaires-choir-rehearsal/2030-01-17/
LOCATION:Music Suite
CATEGORIES:Senior Adults Event
ATTACH;FMTTYPE=image/jpeg:https://shadescrest.org/wp-content/uploads/2025/02/mountainaires.jpg
END:VEVENT
BEGIN:VEVENT
DTSTART;TZID=UTC:20300124T101500
DTEND;TZID=UTC:20300124T111500
DTSTAMP:20260425T021830
CREATED:20250206T202123Z
LAST-MODIFIED:20260107T205006Z
UID:10002110-1895480100-1895483700@shadescrest.org
SUMMARY:Mountainaires Choir Rehearsal
DESCRIPTION:New members are always welcome.
URL:https://shadescrest.org/event/mountainaires-choir-rehearsal/2030-01-24/
LOCATION:Music Suite
CATEGORIES:Senior Adults Event
ATTACH;FMTTYPE=image/jpeg:https://shadescrest.org/wp-content/uploads/2025/02/mountainaires.jpg
END:VEVENT
BEGIN:VEVENT
DTSTART;TZID=UTC:20300131T101500
DTEND;TZID=UTC:20300131T111500
DTSTAMP:20260425T021830
CREATED:20250206T202123Z
LAST-MODIFIED:20260107T205006Z
UID:10002111-1896084900-1896088500@shadescrest.org
SUMMARY:Mountainaires Choir Rehearsal
DESCRIPTION:New members are always welcome.
URL:https://shadescrest.org/event/mountainaires-choir-rehearsal/2030-01-31/
LOCATION:Music Suite
CATEGORIES:Senior Adults Event
ATTACH;FMTTYPE=image/jpeg:https://shadescrest.org/wp-content/uploads/2025/02/mountainaires.jpg
END:VEVENT
BEGIN:VEVENT
DTSTART;TZID=UTC:20300207T101500
DTEND;TZID=UTC:20300207T111500
DTSTAMP:20260425T021830
CREATED:20250206T202123Z
LAST-MODIFIED:20260107T205006Z
UID:10003186-1896689700-1896693300@shadescrest.org
SUMMARY:Mountainaires Choir Rehearsal
DESCRIPTION:New members are always welcome.
URL:https://shadescrest.org/event/mountainaires-choir-rehearsal/2030-02-07/
LOCATION:Music Suite
CATEGORIES:Senior Adults Event
ATTACH;FMTTYPE=image/jpeg:https://shadescrest.org/wp-content/uploads/2025/02/mountainaires.jpg
END:VEVENT
BEGIN:VEVENT
DTSTART;TZID=UTC:20300214T101500
DTEND;TZID=UTC:20300214T111500
DTSTAMP:20260425T021830
CREATED:20250206T202123Z
LAST-MODIFIED:20260107T205006Z
UID:10003187-1897294500-1897298100@shadescrest.org
SUMMARY:Mountainaires Choir Rehearsal
DESCRIPTION:New members are always welcome.
URL:https://shadescrest.org/event/mountainaires-choir-rehearsal/2030-02-14/
LOCATION:Music Suite
CATEGORIES:Senior Adults Event
ATTACH;FMTTYPE=image/jpeg:https://shadescrest.org/wp-content/uploads/2025/02/mountainaires.jpg
END:VEVENT
END:VCALENDAR