BEGIN:VCALENDAR
VERSION:2.0
PRODID:-//Shades Crest Baptist Church - ECPv6.15.20//NONSGML v1.0//EN
CALSCALE:GREGORIAN
METHOD:PUBLISH
X-WR-CALNAME:Shades Crest Baptist Church
X-ORIGINAL-URL:https://shadescrest.org
X-WR-CALDESC:Events for Shades Crest Baptist Church
REFRESH-INTERVAL;VALUE=DURATION:PT1H
X-Robots-Tag:noindex
X-PUBLISHED-TTL:PT1H
BEGIN:VTIMEZONE
TZID:UTC
BEGIN:STANDARD
TZOFFSETFROM:+0000
TZOFFSETTO:+0000
TZNAME:UTC
DTSTART:20290101T000000
END:STANDARD
END:VTIMEZONE
BEGIN:VEVENT
DTSTART;TZID=UTC:20300711T101500
DTEND;TZID=UTC:20300711T111500
DTSTAMP:20260425T104039
CREATED:20250206T202123Z
LAST-MODIFIED:20260107T205006Z
UID:10003208-1909995300-1909998900@shadescrest.org
SUMMARY:Mountainaires Choir Rehearsal
DESCRIPTION:New members are always welcome.
URL:https://shadescrest.org/event/mountainaires-choir-rehearsal/2030-07-11/
LOCATION:Music Suite
CATEGORIES:Senior Adults Event
ATTACH;FMTTYPE=image/jpeg:https://shadescrest.org/wp-content/uploads/2025/02/mountainaires.jpg
END:VEVENT
BEGIN:VEVENT
DTSTART;TZID=UTC:20300718T101500
DTEND;TZID=UTC:20300718T111500
DTSTAMP:20260425T104039
CREATED:20250206T202123Z
LAST-MODIFIED:20260107T205006Z
UID:10003209-1910600100-1910603700@shadescrest.org
SUMMARY:Mountainaires Choir Rehearsal
DESCRIPTION:New members are always welcome.
URL:https://shadescrest.org/event/mountainaires-choir-rehearsal/2030-07-18/
LOCATION:Music Suite
CATEGORIES:Senior Adults Event
ATTACH;FMTTYPE=image/jpeg:https://shadescrest.org/wp-content/uploads/2025/02/mountainaires.jpg
END:VEVENT
BEGIN:VEVENT
DTSTART;TZID=UTC:20300725T101500
DTEND;TZID=UTC:20300725T111500
DTSTAMP:20260425T104039
CREATED:20250206T202123Z
LAST-MODIFIED:20260107T205006Z
UID:10003210-1911204900-1911208500@shadescrest.org
SUMMARY:Mountainaires Choir Rehearsal
DESCRIPTION:New members are always welcome.
URL:https://shadescrest.org/event/mountainaires-choir-rehearsal/2030-07-25/
LOCATION:Music Suite
CATEGORIES:Senior Adults Event
ATTACH;FMTTYPE=image/jpeg:https://shadescrest.org/wp-content/uploads/2025/02/mountainaires.jpg
END:VEVENT
BEGIN:VEVENT
DTSTART;TZID=UTC:20300801T101500
DTEND;TZID=UTC:20300801T111500
DTSTAMP:20260425T104039
CREATED:20250206T202123Z
LAST-MODIFIED:20260107T205006Z
UID:10003211-1911809700-1911813300@shadescrest.org
SUMMARY:Mountainaires Choir Rehearsal
DESCRIPTION:New members are always welcome.
URL:https://shadescrest.org/event/mountainaires-choir-rehearsal/2030-08-01/
LOCATION:Music Suite
CATEGORIES:Senior Adults Event
ATTACH;FMTTYPE=image/jpeg:https://shadescrest.org/wp-content/uploads/2025/02/mountainaires.jpg
END:VEVENT
BEGIN:VEVENT
DTSTART;TZID=UTC:20300808T101500
DTEND;TZID=UTC:20300808T111500
DTSTAMP:20260425T104039
CREATED:20250206T202123Z
LAST-MODIFIED:20260107T205006Z
UID:10003212-1912414500-1912418100@shadescrest.org
SUMMARY:Mountainaires Choir Rehearsal
DESCRIPTION:New members are always welcome.
URL:https://shadescrest.org/event/mountainaires-choir-rehearsal/2030-08-08/
LOCATION:Music Suite
CATEGORIES:Senior Adults Event
ATTACH;FMTTYPE=image/jpeg:https://shadescrest.org/wp-content/uploads/2025/02/mountainaires.jpg
END:VEVENT
BEGIN:VEVENT
DTSTART;TZID=UTC:20300815T101500
DTEND;TZID=UTC:20300815T111500
DTSTAMP:20260425T104039
CREATED:20250206T202123Z
LAST-MODIFIED:20260107T205006Z
UID:10003213-1913019300-1913022900@shadescrest.org
SUMMARY:Mountainaires Choir Rehearsal
DESCRIPTION:New members are always welcome.
URL:https://shadescrest.org/event/mountainaires-choir-rehearsal/2030-08-15/
LOCATION:Music Suite
CATEGORIES:Senior Adults Event
ATTACH;FMTTYPE=image/jpeg:https://shadescrest.org/wp-content/uploads/2025/02/mountainaires.jpg
END:VEVENT
BEGIN:VEVENT
DTSTART;TZID=UTC:20300822T101500
DTEND;TZID=UTC:20300822T111500
DTSTAMP:20260425T104039
CREATED:20250206T202123Z
LAST-MODIFIED:20260107T205006Z
UID:10003214-1913624100-1913627700@shadescrest.org
SUMMARY:Mountainaires Choir Rehearsal
DESCRIPTION:New members are always welcome.
URL:https://shadescrest.org/event/mountainaires-choir-rehearsal/2030-08-22/
LOCATION:Music Suite
CATEGORIES:Senior Adults Event
ATTACH;FMTTYPE=image/jpeg:https://shadescrest.org/wp-content/uploads/2025/02/mountainaires.jpg
END:VEVENT
BEGIN:VEVENT
DTSTART;TZID=UTC:20300829T101500
DTEND;TZID=UTC:20300829T111500
DTSTAMP:20260425T104039
CREATED:20250206T202123Z
LAST-MODIFIED:20260107T205006Z
UID:10003215-1914228900-1914232500@shadescrest.org
SUMMARY:Mountainaires Choir Rehearsal
DESCRIPTION:New members are always welcome.
URL:https://shadescrest.org/event/mountainaires-choir-rehearsal/2030-08-29/
LOCATION:Music Suite
CATEGORIES:Senior Adults Event
ATTACH;FMTTYPE=image/jpeg:https://shadescrest.org/wp-content/uploads/2025/02/mountainaires.jpg
END:VEVENT
BEGIN:VEVENT
DTSTART;TZID=UTC:20300905T101500
DTEND;TZID=UTC:20300905T111500
DTSTAMP:20260425T104039
CREATED:20250206T202123Z
LAST-MODIFIED:20260107T205006Z
UID:10003216-1914833700-1914837300@shadescrest.org
SUMMARY:Mountainaires Choir Rehearsal
DESCRIPTION:New members are always welcome.
URL:https://shadescrest.org/event/mountainaires-choir-rehearsal/2030-09-05/
LOCATION:Music Suite
CATEGORIES:Senior Adults Event
ATTACH;FMTTYPE=image/jpeg:https://shadescrest.org/wp-content/uploads/2025/02/mountainaires.jpg
END:VEVENT
BEGIN:VEVENT
DTSTART;TZID=UTC:20300912T101500
DTEND;TZID=UTC:20300912T111500
DTSTAMP:20260425T104039
CREATED:20250206T202123Z
LAST-MODIFIED:20260107T205006Z
UID:10003217-1915438500-1915442100@shadescrest.org
SUMMARY:Mountainaires Choir Rehearsal
DESCRIPTION:New members are always welcome.
URL:https://shadescrest.org/event/mountainaires-choir-rehearsal/2030-09-12/
LOCATION:Music Suite
CATEGORIES:Senior Adults Event
ATTACH;FMTTYPE=image/jpeg:https://shadescrest.org/wp-content/uploads/2025/02/mountainaires.jpg
END:VEVENT
BEGIN:VEVENT
DTSTART;TZID=UTC:20300919T101500
DTEND;TZID=UTC:20300919T111500
DTSTAMP:20260425T104039
CREATED:20250206T202123Z
LAST-MODIFIED:20260107T205006Z
UID:10003218-1916043300-1916046900@shadescrest.org
SUMMARY:Mountainaires Choir Rehearsal
DESCRIPTION:New members are always welcome.
URL:https://shadescrest.org/event/mountainaires-choir-rehearsal/2030-09-19/
LOCATION:Music Suite
CATEGORIES:Senior Adults Event
ATTACH;FMTTYPE=image/jpeg:https://shadescrest.org/wp-content/uploads/2025/02/mountainaires.jpg
END:VEVENT
BEGIN:VEVENT
DTSTART;TZID=UTC:20300926T101500
DTEND;TZID=UTC:20300926T111500
DTSTAMP:20260425T104039
CREATED:20250206T202123Z
LAST-MODIFIED:20260107T205006Z
UID:10003219-1916648100-1916651700@shadescrest.org
SUMMARY:Mountainaires Choir Rehearsal
DESCRIPTION:New members are always welcome.
URL:https://shadescrest.org/event/mountainaires-choir-rehearsal/2030-09-26/
LOCATION:Music Suite
CATEGORIES:Senior Adults Event
ATTACH;FMTTYPE=image/jpeg:https://shadescrest.org/wp-content/uploads/2025/02/mountainaires.jpg
END:VEVENT
BEGIN:VEVENT
DTSTART;TZID=UTC:20301003T101500
DTEND;TZID=UTC:20301003T111500
DTSTAMP:20260425T104039
CREATED:20250206T202123Z
LAST-MODIFIED:20260107T205006Z
UID:10003220-1917252900-1917256500@shadescrest.org
SUMMARY:Mountainaires Choir Rehearsal
DESCRIPTION:New members are always welcome.
URL:https://shadescrest.org/event/mountainaires-choir-rehearsal/2030-10-03/
LOCATION:Music Suite
CATEGORIES:Senior Adults Event
ATTACH;FMTTYPE=image/jpeg:https://shadescrest.org/wp-content/uploads/2025/02/mountainaires.jpg
END:VEVENT
BEGIN:VEVENT
DTSTART;TZID=UTC:20301010T101500
DTEND;TZID=UTC:20301010T111500
DTSTAMP:20260425T104039
CREATED:20250206T202123Z
LAST-MODIFIED:20260107T205006Z
UID:10003221-1917857700-1917861300@shadescrest.org
SUMMARY:Mountainaires Choir Rehearsal
DESCRIPTION:New members are always welcome.
URL:https://shadescrest.org/event/mountainaires-choir-rehearsal/2030-10-10/
LOCATION:Music Suite
CATEGORIES:Senior Adults Event
ATTACH;FMTTYPE=image/jpeg:https://shadescrest.org/wp-content/uploads/2025/02/mountainaires.jpg
END:VEVENT
BEGIN:VEVENT
DTSTART;TZID=UTC:20301017T101500
DTEND;TZID=UTC:20301017T111500
DTSTAMP:20260425T104039
CREATED:20250206T202123Z
LAST-MODIFIED:20260107T205006Z
UID:10003222-1918462500-1918466100@shadescrest.org
SUMMARY:Mountainaires Choir Rehearsal
DESCRIPTION:New members are always welcome.
URL:https://shadescrest.org/event/mountainaires-choir-rehearsal/2030-10-17/
LOCATION:Music Suite
CATEGORIES:Senior Adults Event
ATTACH;FMTTYPE=image/jpeg:https://shadescrest.org/wp-content/uploads/2025/02/mountainaires.jpg
END:VEVENT
BEGIN:VEVENT
DTSTART;TZID=UTC:20301024T101500
DTEND;TZID=UTC:20301024T111500
DTSTAMP:20260425T104039
CREATED:20250206T202123Z
LAST-MODIFIED:20260107T205006Z
UID:10003223-1919067300-1919070900@shadescrest.org
SUMMARY:Mountainaires Choir Rehearsal
DESCRIPTION:New members are always welcome.
URL:https://shadescrest.org/event/mountainaires-choir-rehearsal/2030-10-24/
LOCATION:Music Suite
CATEGORIES:Senior Adults Event
ATTACH;FMTTYPE=image/jpeg:https://shadescrest.org/wp-content/uploads/2025/02/mountainaires.jpg
END:VEVENT
BEGIN:VEVENT
DTSTART;TZID=UTC:20301031T101500
DTEND;TZID=UTC:20301031T111500
DTSTAMP:20260425T104039
CREATED:20250206T202123Z
LAST-MODIFIED:20260107T205006Z
UID:10003224-1919672100-1919675700@shadescrest.org
SUMMARY:Mountainaires Choir Rehearsal
DESCRIPTION:New members are always welcome.
URL:https://shadescrest.org/event/mountainaires-choir-rehearsal/2030-10-31/
LOCATION:Music Suite
CATEGORIES:Senior Adults Event
ATTACH;FMTTYPE=image/jpeg:https://shadescrest.org/wp-content/uploads/2025/02/mountainaires.jpg
END:VEVENT
BEGIN:VEVENT
DTSTART;TZID=UTC:20301107T101500
DTEND;TZID=UTC:20301107T111500
DTSTAMP:20260425T104039
CREATED:20250206T202123Z
LAST-MODIFIED:20260107T205006Z
UID:10003225-1920276900-1920280500@shadescrest.org
SUMMARY:Mountainaires Choir Rehearsal
DESCRIPTION:New members are always welcome.
URL:https://shadescrest.org/event/mountainaires-choir-rehearsal/2030-11-07/
LOCATION:Music Suite
CATEGORIES:Senior Adults Event
ATTACH;FMTTYPE=image/jpeg:https://shadescrest.org/wp-content/uploads/2025/02/mountainaires.jpg
END:VEVENT
BEGIN:VEVENT
DTSTART;TZID=UTC:20301114T101500
DTEND;TZID=UTC:20301114T111500
DTSTAMP:20260425T104039
CREATED:20250206T202123Z
LAST-MODIFIED:20260107T205006Z
UID:10003226-1920881700-1920885300@shadescrest.org
SUMMARY:Mountainaires Choir Rehearsal
DESCRIPTION:New members are always welcome.
URL:https://shadescrest.org/event/mountainaires-choir-rehearsal/2030-11-14/
LOCATION:Music Suite
CATEGORIES:Senior Adults Event
ATTACH;FMTTYPE=image/jpeg:https://shadescrest.org/wp-content/uploads/2025/02/mountainaires.jpg
END:VEVENT
BEGIN:VEVENT
DTSTART;TZID=UTC:20301121T101500
DTEND;TZID=UTC:20301121T111500
DTSTAMP:20260425T104039
CREATED:20250206T202123Z
LAST-MODIFIED:20260107T205006Z
UID:10004798-1921486500-1921490100@shadescrest.org
SUMMARY:Mountainaires Choir Rehearsal
DESCRIPTION:New members are always welcome.
URL:https://shadescrest.org/event/mountainaires-choir-rehearsal/2030-11-21/
LOCATION:Music Suite
CATEGORIES:Senior Adults Event
ATTACH;FMTTYPE=image/jpeg:https://shadescrest.org/wp-content/uploads/2025/02/mountainaires.jpg
END:VEVENT
BEGIN:VEVENT
DTSTART;TZID=UTC:20301128T101500
DTEND;TZID=UTC:20301128T111500
DTSTAMP:20260425T104039
CREATED:20250206T202123Z
LAST-MODIFIED:20260107T205006Z
UID:10004799-1922091300-1922094900@shadescrest.org
SUMMARY:Mountainaires Choir Rehearsal
DESCRIPTION:New members are always welcome.
URL:https://shadescrest.org/event/mountainaires-choir-rehearsal/2030-11-28/
LOCATION:Music Suite
CATEGORIES:Senior Adults Event
ATTACH;FMTTYPE=image/jpeg:https://shadescrest.org/wp-content/uploads/2025/02/mountainaires.jpg
END:VEVENT
BEGIN:VEVENT
DTSTART;TZID=UTC:20301205T101500
DTEND;TZID=UTC:20301205T111500
DTSTAMP:20260425T104039
CREATED:20250206T202123Z
LAST-MODIFIED:20260107T205006Z
UID:10004800-1922696100-1922699700@shadescrest.org
SUMMARY:Mountainaires Choir Rehearsal
DESCRIPTION:New members are always welcome.
URL:https://shadescrest.org/event/mountainaires-choir-rehearsal/2030-12-05/
LOCATION:Music Suite
CATEGORIES:Senior Adults Event
ATTACH;FMTTYPE=image/jpeg:https://shadescrest.org/wp-content/uploads/2025/02/mountainaires.jpg
END:VEVENT
BEGIN:VEVENT
DTSTART;TZID=UTC:20301212T101500
DTEND;TZID=UTC:20301212T111500
DTSTAMP:20260425T104039
CREATED:20250206T202123Z
LAST-MODIFIED:20260107T205006Z
UID:10004801-1923300900-1923304500@shadescrest.org
SUMMARY:Mountainaires Choir Rehearsal
DESCRIPTION:New members are always welcome.
URL:https://shadescrest.org/event/mountainaires-choir-rehearsal/2030-12-12/
LOCATION:Music Suite
CATEGORIES:Senior Adults Event
ATTACH;FMTTYPE=image/jpeg:https://shadescrest.org/wp-content/uploads/2025/02/mountainaires.jpg
END:VEVENT
BEGIN:VEVENT
DTSTART;TZID=UTC:20301219T101500
DTEND;TZID=UTC:20301219T111500
DTSTAMP:20260425T104039
CREATED:20250206T202123Z
LAST-MODIFIED:20260107T205006Z
UID:10004802-1923905700-1923909300@shadescrest.org
SUMMARY:Mountainaires Choir Rehearsal
DESCRIPTION:New members are always welcome.
URL:https://shadescrest.org/event/mountainaires-choir-rehearsal/2030-12-19/
LOCATION:Music Suite
CATEGORIES:Senior Adults Event
ATTACH;FMTTYPE=image/jpeg:https://shadescrest.org/wp-content/uploads/2025/02/mountainaires.jpg
END:VEVENT
BEGIN:VEVENT
DTSTART;TZID=UTC:20301226T101500
DTEND;TZID=UTC:20301226T111500
DTSTAMP:20260425T104039
CREATED:20250206T202123Z
LAST-MODIFIED:20260107T205006Z
UID:10004803-1924510500-1924514100@shadescrest.org
SUMMARY:Mountainaires Choir Rehearsal
DESCRIPTION:New members are always welcome.
URL:https://shadescrest.org/event/mountainaires-choir-rehearsal/2030-12-26/
LOCATION:Music Suite
CATEGORIES:Senior Adults Event
ATTACH;FMTTYPE=image/jpeg:https://shadescrest.org/wp-content/uploads/2025/02/mountainaires.jpg
END:VEVENT
BEGIN:VEVENT
DTSTART;TZID=UTC:20310102T101500
DTEND;TZID=UTC:20310102T111500
DTSTAMP:20260425T104039
CREATED:20250206T202123Z
LAST-MODIFIED:20260107T205006Z
UID:10004804-1925115300-1925118900@shadescrest.org
SUMMARY:Mountainaires Choir Rehearsal
DESCRIPTION:New members are always welcome.
URL:https://shadescrest.org/event/mountainaires-choir-rehearsal/2031-01-02/
LOCATION:Music Suite
CATEGORIES:Senior Adults Event
ATTACH;FMTTYPE=image/jpeg:https://shadescrest.org/wp-content/uploads/2025/02/mountainaires.jpg
END:VEVENT
END:VCALENDAR