BEGIN:VCALENDAR
VERSION:2.0
PRODID:-//Shades Crest Baptist Church - ECPv6.15.20//NONSGML v1.0//EN
CALSCALE:GREGORIAN
METHOD:PUBLISH
X-ORIGINAL-URL:https://shadescrest.org
X-WR-CALDESC:Events for Shades Crest Baptist Church
REFRESH-INTERVAL;VALUE=DURATION:PT1H
X-Robots-Tag:noindex
X-PUBLISHED-TTL:PT1H
BEGIN:VTIMEZONE
TZID:UTC
BEGIN:STANDARD
TZOFFSETFROM:+0000
TZOFFSETTO:+0000
TZNAME:UTC
DTSTART:20260101T000000
END:STANDARD
END:VTIMEZONE
BEGIN:VEVENT
DTSTART;TZID=UTC:20270819T101500
DTEND;TZID=UTC:20270819T111500
DTSTAMP:20260424T093153
CREATED:20250206T202123Z
LAST-MODIFIED:20260107T205006Z
UID:10001983-1818670500-1818674100@shadescrest.org
SUMMARY:Mountainaires Choir Rehearsal
DESCRIPTION:New members are always welcome.
URL:https://shadescrest.org/event/mountainaires-choir-rehearsal/2027-08-19/
LOCATION:Music Suite
CATEGORIES:Senior Adults Event
ATTACH;FMTTYPE=image/jpeg:https://shadescrest.org/wp-content/uploads/2025/02/mountainaires.jpg
END:VEVENT
BEGIN:VEVENT
DTSTART;TZID=UTC:20270826T101500
DTEND;TZID=UTC:20270826T111500
DTSTAMP:20260424T093153
CREATED:20250206T202123Z
LAST-MODIFIED:20260107T205006Z
UID:10001984-1819275300-1819278900@shadescrest.org
SUMMARY:Mountainaires Choir Rehearsal
DESCRIPTION:New members are always welcome.
URL:https://shadescrest.org/event/mountainaires-choir-rehearsal/2027-08-26/
LOCATION:Music Suite
CATEGORIES:Senior Adults Event
ATTACH;FMTTYPE=image/jpeg:https://shadescrest.org/wp-content/uploads/2025/02/mountainaires.jpg
END:VEVENT
BEGIN:VEVENT
DTSTART;TZID=UTC:20270902T101500
DTEND;TZID=UTC:20270902T111500
DTSTAMP:20260424T093153
CREATED:20250206T202123Z
LAST-MODIFIED:20260107T205006Z
UID:10001985-1819880100-1819883700@shadescrest.org
SUMMARY:Mountainaires Choir Rehearsal
DESCRIPTION:New members are always welcome.
URL:https://shadescrest.org/event/mountainaires-choir-rehearsal/2027-09-02/
LOCATION:Music Suite
CATEGORIES:Senior Adults Event
ATTACH;FMTTYPE=image/jpeg:https://shadescrest.org/wp-content/uploads/2025/02/mountainaires.jpg
END:VEVENT
BEGIN:VEVENT
DTSTART;TZID=UTC:20270909T101500
DTEND;TZID=UTC:20270909T111500
DTSTAMP:20260424T093153
CREATED:20250206T202123Z
LAST-MODIFIED:20260107T205006Z
UID:10001986-1820484900-1820488500@shadescrest.org
SUMMARY:Mountainaires Choir Rehearsal
DESCRIPTION:New members are always welcome.
URL:https://shadescrest.org/event/mountainaires-choir-rehearsal/2027-09-09/
LOCATION:Music Suite
CATEGORIES:Senior Adults Event
ATTACH;FMTTYPE=image/jpeg:https://shadescrest.org/wp-content/uploads/2025/02/mountainaires.jpg
END:VEVENT
BEGIN:VEVENT
DTSTART;TZID=UTC:20270916T101500
DTEND;TZID=UTC:20270916T111500
DTSTAMP:20260424T093153
CREATED:20250206T202123Z
LAST-MODIFIED:20260107T205006Z
UID:10001987-1821089700-1821093300@shadescrest.org
SUMMARY:Mountainaires Choir Rehearsal
DESCRIPTION:New members are always welcome.
URL:https://shadescrest.org/event/mountainaires-choir-rehearsal/2027-09-16/
LOCATION:Music Suite
CATEGORIES:Senior Adults Event
ATTACH;FMTTYPE=image/jpeg:https://shadescrest.org/wp-content/uploads/2025/02/mountainaires.jpg
END:VEVENT
BEGIN:VEVENT
DTSTART;TZID=UTC:20270923T101500
DTEND;TZID=UTC:20270923T111500
DTSTAMP:20260424T093153
CREATED:20250206T202123Z
LAST-MODIFIED:20260107T205006Z
UID:10001988-1821694500-1821698100@shadescrest.org
SUMMARY:Mountainaires Choir Rehearsal
DESCRIPTION:New members are always welcome.
URL:https://shadescrest.org/event/mountainaires-choir-rehearsal/2027-09-23/
LOCATION:Music Suite
CATEGORIES:Senior Adults Event
ATTACH;FMTTYPE=image/jpeg:https://shadescrest.org/wp-content/uploads/2025/02/mountainaires.jpg
END:VEVENT
BEGIN:VEVENT
DTSTART;TZID=UTC:20270930T101500
DTEND;TZID=UTC:20270930T111500
DTSTAMP:20260424T093153
CREATED:20250206T202123Z
LAST-MODIFIED:20260107T205006Z
UID:10001989-1822299300-1822302900@shadescrest.org
SUMMARY:Mountainaires Choir Rehearsal
DESCRIPTION:New members are always welcome.
URL:https://shadescrest.org/event/mountainaires-choir-rehearsal/2027-09-30/
LOCATION:Music Suite
CATEGORIES:Senior Adults Event
ATTACH;FMTTYPE=image/jpeg:https://shadescrest.org/wp-content/uploads/2025/02/mountainaires.jpg
END:VEVENT
BEGIN:VEVENT
DTSTART;TZID=UTC:20271007T101500
DTEND;TZID=UTC:20271007T111500
DTSTAMP:20260424T093153
CREATED:20250206T202123Z
LAST-MODIFIED:20260107T205006Z
UID:10001990-1822904100-1822907700@shadescrest.org
SUMMARY:Mountainaires Choir Rehearsal
DESCRIPTION:New members are always welcome.
URL:https://shadescrest.org/event/mountainaires-choir-rehearsal/2027-10-07/
LOCATION:Music Suite
CATEGORIES:Senior Adults Event
ATTACH;FMTTYPE=image/jpeg:https://shadescrest.org/wp-content/uploads/2025/02/mountainaires.jpg
END:VEVENT
BEGIN:VEVENT
DTSTART;TZID=UTC:20271014T101500
DTEND;TZID=UTC:20271014T111500
DTSTAMP:20260424T093153
CREATED:20250206T202123Z
LAST-MODIFIED:20260107T205006Z
UID:10001991-1823508900-1823512500@shadescrest.org
SUMMARY:Mountainaires Choir Rehearsal
DESCRIPTION:New members are always welcome.
URL:https://shadescrest.org/event/mountainaires-choir-rehearsal/2027-10-14/
LOCATION:Music Suite
CATEGORIES:Senior Adults Event
ATTACH;FMTTYPE=image/jpeg:https://shadescrest.org/wp-content/uploads/2025/02/mountainaires.jpg
END:VEVENT
BEGIN:VEVENT
DTSTART;TZID=UTC:20271021T101500
DTEND;TZID=UTC:20271021T111500
DTSTAMP:20260424T093153
CREATED:20250206T202123Z
LAST-MODIFIED:20260107T205006Z
UID:10001992-1824113700-1824117300@shadescrest.org
SUMMARY:Mountainaires Choir Rehearsal
DESCRIPTION:New members are always welcome.
URL:https://shadescrest.org/event/mountainaires-choir-rehearsal/2027-10-21/
LOCATION:Music Suite
CATEGORIES:Senior Adults Event
ATTACH;FMTTYPE=image/jpeg:https://shadescrest.org/wp-content/uploads/2025/02/mountainaires.jpg
END:VEVENT
BEGIN:VEVENT
DTSTART;TZID=UTC:20271028T101500
DTEND;TZID=UTC:20271028T111500
DTSTAMP:20260424T093153
CREATED:20250206T202123Z
LAST-MODIFIED:20260107T205006Z
UID:10001993-1824718500-1824722100@shadescrest.org
SUMMARY:Mountainaires Choir Rehearsal
DESCRIPTION:New members are always welcome.
URL:https://shadescrest.org/event/mountainaires-choir-rehearsal/2027-10-28/
LOCATION:Music Suite
CATEGORIES:Senior Adults Event
ATTACH;FMTTYPE=image/jpeg:https://shadescrest.org/wp-content/uploads/2025/02/mountainaires.jpg
END:VEVENT
BEGIN:VEVENT
DTSTART;TZID=UTC:20271104T101500
DTEND;TZID=UTC:20271104T111500
DTSTAMP:20260424T093153
CREATED:20250206T202123Z
LAST-MODIFIED:20260107T205006Z
UID:10001994-1825323300-1825326900@shadescrest.org
SUMMARY:Mountainaires Choir Rehearsal
DESCRIPTION:New members are always welcome.
URL:https://shadescrest.org/event/mountainaires-choir-rehearsal/2027-11-04/
LOCATION:Music Suite
CATEGORIES:Senior Adults Event
ATTACH;FMTTYPE=image/jpeg:https://shadescrest.org/wp-content/uploads/2025/02/mountainaires.jpg
END:VEVENT
BEGIN:VEVENT
DTSTART;TZID=UTC:20271111T101500
DTEND;TZID=UTC:20271111T111500
DTSTAMP:20260424T093153
CREATED:20250206T202123Z
LAST-MODIFIED:20260107T205006Z
UID:10001995-1825928100-1825931700@shadescrest.org
SUMMARY:Mountainaires Choir Rehearsal
DESCRIPTION:New members are always welcome.
URL:https://shadescrest.org/event/mountainaires-choir-rehearsal/2027-11-11/
LOCATION:Music Suite
CATEGORIES:Senior Adults Event
ATTACH;FMTTYPE=image/jpeg:https://shadescrest.org/wp-content/uploads/2025/02/mountainaires.jpg
END:VEVENT
BEGIN:VEVENT
DTSTART;TZID=UTC:20271118T101500
DTEND;TZID=UTC:20271118T111500
DTSTAMP:20260424T093153
CREATED:20250206T202123Z
LAST-MODIFIED:20260107T205006Z
UID:10001996-1826532900-1826536500@shadescrest.org
SUMMARY:Mountainaires Choir Rehearsal
DESCRIPTION:New members are always welcome.
URL:https://shadescrest.org/event/mountainaires-choir-rehearsal/2027-11-18/
LOCATION:Music Suite
CATEGORIES:Senior Adults Event
ATTACH;FMTTYPE=image/jpeg:https://shadescrest.org/wp-content/uploads/2025/02/mountainaires.jpg
END:VEVENT
BEGIN:VEVENT
DTSTART;TZID=UTC:20271125T101500
DTEND;TZID=UTC:20271125T111500
DTSTAMP:20260424T093153
CREATED:20250206T202123Z
LAST-MODIFIED:20260107T205006Z
UID:10001997-1827137700-1827141300@shadescrest.org
SUMMARY:Mountainaires Choir Rehearsal
DESCRIPTION:New members are always welcome.
URL:https://shadescrest.org/event/mountainaires-choir-rehearsal/2027-11-25/
LOCATION:Music Suite
CATEGORIES:Senior Adults Event
ATTACH;FMTTYPE=image/jpeg:https://shadescrest.org/wp-content/uploads/2025/02/mountainaires.jpg
END:VEVENT
BEGIN:VEVENT
DTSTART;TZID=UTC:20271202T101500
DTEND;TZID=UTC:20271202T111500
DTSTAMP:20260424T093153
CREATED:20250206T202123Z
LAST-MODIFIED:20260107T205006Z
UID:10001998-1827742500-1827746100@shadescrest.org
SUMMARY:Mountainaires Choir Rehearsal
DESCRIPTION:New members are always welcome.
URL:https://shadescrest.org/event/mountainaires-choir-rehearsal/2027-12-02/
LOCATION:Music Suite
CATEGORIES:Senior Adults Event
ATTACH;FMTTYPE=image/jpeg:https://shadescrest.org/wp-content/uploads/2025/02/mountainaires.jpg
END:VEVENT
BEGIN:VEVENT
DTSTART;TZID=UTC:20271209T101500
DTEND;TZID=UTC:20271209T111500
DTSTAMP:20260424T093153
CREATED:20250206T202123Z
LAST-MODIFIED:20260107T205006Z
UID:10001999-1828347300-1828350900@shadescrest.org
SUMMARY:Mountainaires Choir Rehearsal
DESCRIPTION:New members are always welcome.
URL:https://shadescrest.org/event/mountainaires-choir-rehearsal/2027-12-09/
LOCATION:Music Suite
CATEGORIES:Senior Adults Event
ATTACH;FMTTYPE=image/jpeg:https://shadescrest.org/wp-content/uploads/2025/02/mountainaires.jpg
END:VEVENT
BEGIN:VEVENT
DTSTART;TZID=UTC:20271216T101500
DTEND;TZID=UTC:20271216T111500
DTSTAMP:20260424T093153
CREATED:20250206T202123Z
LAST-MODIFIED:20260107T205006Z
UID:10002000-1828952100-1828955700@shadescrest.org
SUMMARY:Mountainaires Choir Rehearsal
DESCRIPTION:New members are always welcome.
URL:https://shadescrest.org/event/mountainaires-choir-rehearsal/2027-12-16/
LOCATION:Music Suite
CATEGORIES:Senior Adults Event
ATTACH;FMTTYPE=image/jpeg:https://shadescrest.org/wp-content/uploads/2025/02/mountainaires.jpg
END:VEVENT
BEGIN:VEVENT
DTSTART;TZID=UTC:20271223T101500
DTEND;TZID=UTC:20271223T111500
DTSTAMP:20260424T093153
CREATED:20250206T202123Z
LAST-MODIFIED:20260107T205006Z
UID:10002001-1829556900-1829560500@shadescrest.org
SUMMARY:Mountainaires Choir Rehearsal
DESCRIPTION:New members are always welcome.
URL:https://shadescrest.org/event/mountainaires-choir-rehearsal/2027-12-23/
LOCATION:Music Suite
CATEGORIES:Senior Adults Event
ATTACH;FMTTYPE=image/jpeg:https://shadescrest.org/wp-content/uploads/2025/02/mountainaires.jpg
END:VEVENT
BEGIN:VEVENT
DTSTART;TZID=UTC:20271230T101500
DTEND;TZID=UTC:20271230T111500
DTSTAMP:20260424T093153
CREATED:20250206T202123Z
LAST-MODIFIED:20260107T205006Z
UID:10002002-1830161700-1830165300@shadescrest.org
SUMMARY:Mountainaires Choir Rehearsal
DESCRIPTION:New members are always welcome.
URL:https://shadescrest.org/event/mountainaires-choir-rehearsal/2027-12-30/
LOCATION:Music Suite
CATEGORIES:Senior Adults Event
ATTACH;FMTTYPE=image/jpeg:https://shadescrest.org/wp-content/uploads/2025/02/mountainaires.jpg
END:VEVENT
BEGIN:VEVENT
DTSTART;TZID=UTC:20280106T101500
DTEND;TZID=UTC:20280106T111500
DTSTAMP:20260424T093153
CREATED:20250206T202123Z
LAST-MODIFIED:20260107T205006Z
UID:10002003-1830766500-1830770100@shadescrest.org
SUMMARY:Mountainaires Choir Rehearsal
DESCRIPTION:New members are always welcome.
URL:https://shadescrest.org/event/mountainaires-choir-rehearsal/2028-01-06/
LOCATION:Music Suite
CATEGORIES:Senior Adults Event
ATTACH;FMTTYPE=image/jpeg:https://shadescrest.org/wp-content/uploads/2025/02/mountainaires.jpg
END:VEVENT
BEGIN:VEVENT
DTSTART;TZID=UTC:20280113T101500
DTEND;TZID=UTC:20280113T111500
DTSTAMP:20260424T093153
CREATED:20250206T202123Z
LAST-MODIFIED:20260107T205006Z
UID:10002004-1831371300-1831374900@shadescrest.org
SUMMARY:Mountainaires Choir Rehearsal
DESCRIPTION:New members are always welcome.
URL:https://shadescrest.org/event/mountainaires-choir-rehearsal/2028-01-13/
LOCATION:Music Suite
CATEGORIES:Senior Adults Event
ATTACH;FMTTYPE=image/jpeg:https://shadescrest.org/wp-content/uploads/2025/02/mountainaires.jpg
END:VEVENT
BEGIN:VEVENT
DTSTART;TZID=UTC:20280120T101500
DTEND;TZID=UTC:20280120T111500
DTSTAMP:20260424T093153
CREATED:20250206T202123Z
LAST-MODIFIED:20260107T205006Z
UID:10002005-1831976100-1831979700@shadescrest.org
SUMMARY:Mountainaires Choir Rehearsal
DESCRIPTION:New members are always welcome.
URL:https://shadescrest.org/event/mountainaires-choir-rehearsal/2028-01-20/
LOCATION:Music Suite
CATEGORIES:Senior Adults Event
ATTACH;FMTTYPE=image/jpeg:https://shadescrest.org/wp-content/uploads/2025/02/mountainaires.jpg
END:VEVENT
BEGIN:VEVENT
DTSTART;TZID=UTC:20280127T101500
DTEND;TZID=UTC:20280127T111500
DTSTAMP:20260424T093153
CREATED:20250206T202123Z
LAST-MODIFIED:20260107T205006Z
UID:10002006-1832580900-1832584500@shadescrest.org
SUMMARY:Mountainaires Choir Rehearsal
DESCRIPTION:New members are always welcome.
URL:https://shadescrest.org/event/mountainaires-choir-rehearsal/2028-01-27/
LOCATION:Music Suite
CATEGORIES:Senior Adults Event
ATTACH;FMTTYPE=image/jpeg:https://shadescrest.org/wp-content/uploads/2025/02/mountainaires.jpg
END:VEVENT
BEGIN:VEVENT
DTSTART;TZID=UTC:20280203T101500
DTEND;TZID=UTC:20280203T111500
DTSTAMP:20260424T093153
CREATED:20250206T202123Z
LAST-MODIFIED:20260107T205006Z
UID:10002007-1833185700-1833189300@shadescrest.org
SUMMARY:Mountainaires Choir Rehearsal
DESCRIPTION:New members are always welcome.
URL:https://shadescrest.org/event/mountainaires-choir-rehearsal/2028-02-03/
LOCATION:Music Suite
CATEGORIES:Senior Adults Event
ATTACH;FMTTYPE=image/jpeg:https://shadescrest.org/wp-content/uploads/2025/02/mountainaires.jpg
END:VEVENT
BEGIN:VEVENT
DTSTART;TZID=UTC:20280210T101500
DTEND;TZID=UTC:20280210T111500
DTSTAMP:20260424T093153
CREATED:20250206T202123Z
LAST-MODIFIED:20260107T205006Z
UID:10002008-1833790500-1833794100@shadescrest.org
SUMMARY:Mountainaires Choir Rehearsal
DESCRIPTION:New members are always welcome.
URL:https://shadescrest.org/event/mountainaires-choir-rehearsal/2028-02-10/
LOCATION:Music Suite
CATEGORIES:Senior Adults Event
ATTACH;FMTTYPE=image/jpeg:https://shadescrest.org/wp-content/uploads/2025/02/mountainaires.jpg
END:VEVENT
BEGIN:VEVENT
DTSTART;TZID=UTC:20280217T101500
DTEND;TZID=UTC:20280217T111500
DTSTAMP:20260424T093153
CREATED:20250206T202123Z
LAST-MODIFIED:20260107T205006Z
UID:10002009-1834395300-1834398900@shadescrest.org
SUMMARY:Mountainaires Choir Rehearsal
DESCRIPTION:New members are always welcome.
URL:https://shadescrest.org/event/mountainaires-choir-rehearsal/2028-02-17/
LOCATION:Music Suite
CATEGORIES:Senior Adults Event
ATTACH;FMTTYPE=image/jpeg:https://shadescrest.org/wp-content/uploads/2025/02/mountainaires.jpg
END:VEVENT
BEGIN:VEVENT
DTSTART;TZID=UTC:20280224T101500
DTEND;TZID=UTC:20280224T111500
DTSTAMP:20260424T093153
CREATED:20250206T202123Z
LAST-MODIFIED:20260107T205006Z
UID:10002010-1835000100-1835003700@shadescrest.org
SUMMARY:Mountainaires Choir Rehearsal
DESCRIPTION:New members are always welcome.
URL:https://shadescrest.org/event/mountainaires-choir-rehearsal/2028-02-24/
LOCATION:Music Suite
CATEGORIES:Senior Adults Event
ATTACH;FMTTYPE=image/jpeg:https://shadescrest.org/wp-content/uploads/2025/02/mountainaires.jpg
END:VEVENT
BEGIN:VEVENT
DTSTART;TZID=UTC:20280302T101500
DTEND;TZID=UTC:20280302T111500
DTSTAMP:20260424T093153
CREATED:20250206T202123Z
LAST-MODIFIED:20260107T205006Z
UID:10002011-1835604900-1835608500@shadescrest.org
SUMMARY:Mountainaires Choir Rehearsal
DESCRIPTION:New members are always welcome.
URL:https://shadescrest.org/event/mountainaires-choir-rehearsal/2028-03-02/
LOCATION:Music Suite
CATEGORIES:Senior Adults Event
ATTACH;FMTTYPE=image/jpeg:https://shadescrest.org/wp-content/uploads/2025/02/mountainaires.jpg
END:VEVENT
BEGIN:VEVENT
DTSTART;TZID=UTC:20280309T101500
DTEND;TZID=UTC:20280309T111500
DTSTAMP:20260424T093153
CREATED:20250206T202123Z
LAST-MODIFIED:20260107T205006Z
UID:10002012-1836209700-1836213300@shadescrest.org
SUMMARY:Mountainaires Choir Rehearsal
DESCRIPTION:New members are always welcome.
URL:https://shadescrest.org/event/mountainaires-choir-rehearsal/2028-03-09/
LOCATION:Music Suite
CATEGORIES:Senior Adults Event
ATTACH;FMTTYPE=image/jpeg:https://shadescrest.org/wp-content/uploads/2025/02/mountainaires.jpg
END:VEVENT
END:VCALENDAR