BEGIN:VCALENDAR
VERSION:2.0
PRODID:-//Shades Crest Baptist Church - ECPv6.15.20//NONSGML v1.0//EN
CALSCALE:GREGORIAN
METHOD:PUBLISH
X-ORIGINAL-URL:https://shadescrest.org
X-WR-CALDESC:Events for Shades Crest Baptist Church
REFRESH-INTERVAL;VALUE=DURATION:PT1H
X-Robots-Tag:noindex
X-PUBLISHED-TTL:PT1H
BEGIN:VTIMEZONE
TZID:UTC
BEGIN:STANDARD
TZOFFSETFROM:+0000
TZOFFSETTO:+0000
TZNAME:UTC
DTSTART:20230101T000000
END:STANDARD
END:VTIMEZONE
BEGIN:VEVENT
DTSTART;TZID=UTC:20241006T121500
DTEND;TZID=UTC:20241006T163000
DTSTAMP:20260425T121204
CREATED:20241002T180025Z
LAST-MODIFIED:20241002T180025Z
UID:10001810-1728216900-1728232200@shadescrest.org
SUMMARY:Miracle League - Youth Event
DESCRIPTION:Youth will help with Miracle League on Sunday\, October 6.\nGames are at 1:30 and 2:30 PM. Meet at 12:15 PM at the FLC for lunch\n(bring money)\, or meet at the Hoover East ballpark by 1:15 PM. \nArrive 15 minutes early if you are volunteering.\nAny adults who are willing to help please let Denis know.
URL:https://shadescrest.org/event/miracle-league-youth-event/
CATEGORIES:Youth Event
ATTACH;FMTTYPE=image/jpeg:https://shadescrest.org/wp-content/uploads/2024/10/miracle-league.jpg
END:VEVENT
END:VCALENDAR