BEGIN:VCALENDAR
VERSION:2.0
PRODID:-//Shades Crest Baptist Church - ECPv6.15.20//NONSGML v1.0//EN
CALSCALE:GREGORIAN
METHOD:PUBLISH
X-ORIGINAL-URL:https://shadescrest.org
X-WR-CALDESC:Events for Shades Crest Baptist Church
REFRESH-INTERVAL;VALUE=DURATION:PT1H
X-Robots-Tag:noindex
X-PUBLISHED-TTL:PT1H
BEGIN:VTIMEZONE
TZID:UTC
BEGIN:STANDARD
TZOFFSETFROM:+0000
TZOFFSETTO:+0000
TZNAME:UTC
DTSTART:20230101T000000
END:STANDARD
END:VTIMEZONE
BEGIN:VEVENT
DTSTART;TZID=UTC:20260419T121500
DTEND;TZID=UTC:20260419T140000
DTSTAMP:20260424T042918
CREATED:20260203T232943Z
LAST-MODIFIED:20260203T232943Z
UID:10004880-1776600900-1776607200@shadescrest.org
SUMMARY:Youth Singers Rehearsals
DESCRIPTION:
URL:https://shadescrest.org/event/youth-singers-rehearsals/2026-04-19/
CATEGORIES:Youth Event
ATTACH;FMTTYPE=image/png:https://shadescrest.org/wp-content/uploads/2026/02/Screenshot-2026-02-03-165741.png
END:VEVENT
BEGIN:VEVENT
DTSTART;TZID=UTC:20260412T121500
DTEND;TZID=UTC:20260412T140000
DTSTAMP:20260424T042918
CREATED:20260203T232943Z
LAST-MODIFIED:20260203T232943Z
UID:10004879-1775996100-1776002400@shadescrest.org
SUMMARY:Youth Singers Rehearsals
DESCRIPTION:
URL:https://shadescrest.org/event/youth-singers-rehearsals/2026-04-12/
CATEGORIES:Youth Event
ATTACH;FMTTYPE=image/png:https://shadescrest.org/wp-content/uploads/2026/02/Screenshot-2026-02-03-165741.png
END:VEVENT
BEGIN:VEVENT
DTSTART;TZID=UTC:20260405T121500
DTEND;TZID=UTC:20260405T140000
DTSTAMP:20260424T042918
CREATED:20260203T232943Z
LAST-MODIFIED:20260203T232943Z
UID:10004878-1775391300-1775397600@shadescrest.org
SUMMARY:Youth Singers Rehearsals
DESCRIPTION:
URL:https://shadescrest.org/event/youth-singers-rehearsals/2026-04-05/
CATEGORIES:Youth Event
ATTACH;FMTTYPE=image/png:https://shadescrest.org/wp-content/uploads/2026/02/Screenshot-2026-02-03-165741.png
END:VEVENT
BEGIN:VEVENT
DTSTART;TZID=UTC:20260329T121500
DTEND;TZID=UTC:20260329T140000
DTSTAMP:20260424T042918
CREATED:20260203T232943Z
LAST-MODIFIED:20260203T232943Z
UID:10004877-1774786500-1774792800@shadescrest.org
SUMMARY:Youth Singers Rehearsals
DESCRIPTION:
URL:https://shadescrest.org/event/youth-singers-rehearsals/2026-03-29/
CATEGORIES:Youth Event
ATTACH;FMTTYPE=image/png:https://shadescrest.org/wp-content/uploads/2026/02/Screenshot-2026-02-03-165741.png
END:VEVENT
BEGIN:VEVENT
DTSTART;TZID=UTC:20260322T121500
DTEND;TZID=UTC:20260322T140000
DTSTAMP:20260424T042918
CREATED:20260203T232943Z
LAST-MODIFIED:20260203T232943Z
UID:10004876-1774181700-1774188000@shadescrest.org
SUMMARY:Youth Singers Rehearsals
DESCRIPTION:
URL:https://shadescrest.org/event/youth-singers-rehearsals/2026-03-22/
CATEGORIES:Youth Event
ATTACH;FMTTYPE=image/png:https://shadescrest.org/wp-content/uploads/2026/02/Screenshot-2026-02-03-165741.png
END:VEVENT
BEGIN:VEVENT
DTSTART;TZID=UTC:20260315T121500
DTEND;TZID=UTC:20260315T140000
DTSTAMP:20260424T042918
CREATED:20260203T232943Z
LAST-MODIFIED:20260203T232943Z
UID:10004875-1773576900-1773583200@shadescrest.org
SUMMARY:Youth Singers Rehearsals
DESCRIPTION:
URL:https://shadescrest.org/event/youth-singers-rehearsals/2026-03-15/
CATEGORIES:Youth Event
ATTACH;FMTTYPE=image/png:https://shadescrest.org/wp-content/uploads/2026/02/Screenshot-2026-02-03-165741.png
END:VEVENT
BEGIN:VEVENT
DTSTART;TZID=UTC:20260310T193000
DTEND;TZID=UTC:20260310T220000
DTSTAMP:20260424T042918
CREATED:20260227T012031Z
LAST-MODIFIED:20260227T012034Z
UID:10004834-1773171000-1773180000@shadescrest.org
SUMMARY:SCBC High School Girls Basketball-Championship Night
DESCRIPTION:
URL:https://shadescrest.org/event/scbc-high-school-girls-basketball-2-2/
LOCATION:Family Life Center\, 2028 Rockland Drive\, Hoover\, AL\, 35226\, United States
CATEGORIES:Youth Event
ATTACH;FMTTYPE=image/jpeg:https://shadescrest.org/wp-content/uploads/2026/02/basketball-girls-champiuon.jpg
END:VEVENT
BEGIN:VEVENT
DTSTART;TZID=UTC:20260303T193000
DTEND;TZID=UTC:20260303T220000
DTSTAMP:20260424T042918
CREATED:20260209T215951Z
LAST-MODIFIED:20260212T163456Z
UID:10004833-1772566200-1772575200@shadescrest.org
SUMMARY:SCBC High School Girls Basketball
DESCRIPTION:
URL:https://shadescrest.org/event/scbc-high-school-girls-basketball-2/2026-03-03/
LOCATION:Family Life Center\, 2028 Rockland Drive\, Hoover\, AL\, 35226\, United States
CATEGORIES:Youth Event
ATTACH;FMTTYPE=image/jpeg:https://shadescrest.org/wp-content/uploads/2026/01/basketball.jpg
END:VEVENT
BEGIN:VEVENT
DTSTART;TZID=UTC:20260301T121500
DTEND;TZID=UTC:20260301T140000
DTSTAMP:20260424T042918
CREATED:20260203T232943Z
LAST-MODIFIED:20260203T232943Z
UID:10004873-1772367300-1772373600@shadescrest.org
SUMMARY:Youth Singers Rehearsals
DESCRIPTION:
URL:https://shadescrest.org/event/youth-singers-rehearsals/2026-03-01/
CATEGORIES:Youth Event
ATTACH;FMTTYPE=image/png:https://shadescrest.org/wp-content/uploads/2026/02/Screenshot-2026-02-03-165741.png
END:VEVENT
BEGIN:VEVENT
DTSTART;TZID=UTC:20260224T193000
DTEND;TZID=UTC:20260224T220000
DTSTAMP:20260424T042918
CREATED:20260209T215951Z
LAST-MODIFIED:20260212T163456Z
UID:10004832-1771961400-1771970400@shadescrest.org
SUMMARY:SCBC High School Girls Basketball
DESCRIPTION:
URL:https://shadescrest.org/event/scbc-high-school-girls-basketball-2/2026-02-24/
LOCATION:Family Life Center\, 2028 Rockland Drive\, Hoover\, AL\, 35226\, United States
CATEGORIES:Youth Event
ATTACH;FMTTYPE=image/jpeg:https://shadescrest.org/wp-content/uploads/2026/01/basketball.jpg
END:VEVENT
BEGIN:VEVENT
DTSTART;TZID=UTC:20260222T121500
DTEND;TZID=UTC:20260222T140000
DTSTAMP:20260424T042918
CREATED:20260203T232943Z
LAST-MODIFIED:20260203T232943Z
UID:10004872-1771762500-1771768800@shadescrest.org
SUMMARY:Youth Singers Rehearsals
DESCRIPTION:
URL:https://shadescrest.org/event/youth-singers-rehearsals/2026-02-22/
CATEGORIES:Youth Event
ATTACH;FMTTYPE=image/png:https://shadescrest.org/wp-content/uploads/2026/02/Screenshot-2026-02-03-165741.png
END:VEVENT
BEGIN:VEVENT
DTSTART;TZID=UTC:20260217T193000
DTEND;TZID=UTC:20260217T220000
DTSTAMP:20260424T042918
CREATED:20260209T215951Z
LAST-MODIFIED:20260212T163456Z
UID:10004831-1771356600-1771365600@shadescrest.org
SUMMARY:SCBC High School Girls Basketball
DESCRIPTION:
URL:https://shadescrest.org/event/scbc-high-school-girls-basketball-2/2026-02-17/
LOCATION:Family Life Center\, 2028 Rockland Drive\, Hoover\, AL\, 35226\, United States
CATEGORIES:Youth Event
ATTACH;FMTTYPE=image/jpeg:https://shadescrest.org/wp-content/uploads/2026/01/basketball.jpg
END:VEVENT
BEGIN:VEVENT
DTSTART;TZID=UTC:20260215T121500
DTEND;TZID=UTC:20260215T140000
DTSTAMP:20260424T042918
CREATED:20260203T232943Z
LAST-MODIFIED:20260203T232943Z
UID:10004871-1771157700-1771164000@shadescrest.org
SUMMARY:Youth Singers Rehearsals
DESCRIPTION:
URL:https://shadescrest.org/event/youth-singers-rehearsals/2026-02-15/
CATEGORIES:Youth Event
ATTACH;FMTTYPE=image/png:https://shadescrest.org/wp-content/uploads/2026/02/Screenshot-2026-02-03-165741.png
END:VEVENT
BEGIN:VEVENT
DTSTART;TZID=UTC:20260210T193000
DTEND;TZID=UTC:20260210T220000
DTSTAMP:20260424T042918
CREATED:20260209T215951Z
LAST-MODIFIED:20260212T163456Z
UID:10004830-1770751800-1770760800@shadescrest.org
SUMMARY:SCBC High School Girls Basketball
DESCRIPTION:
URL:https://shadescrest.org/event/scbc-high-school-girls-basketball-2/2026-02-10/
LOCATION:Family Life Center\, 2028 Rockland Drive\, Hoover\, AL\, 35226\, United States
CATEGORIES:Youth Event
ATTACH;FMTTYPE=image/jpeg:https://shadescrest.org/wp-content/uploads/2026/01/basketball.jpg
END:VEVENT
BEGIN:VEVENT
DTSTART;TZID=UTC:20260208T121500
DTEND;TZID=UTC:20260208T140000
DTSTAMP:20260424T042918
CREATED:20260203T232943Z
LAST-MODIFIED:20260203T232943Z
UID:10004870-1770552900-1770559200@shadescrest.org
SUMMARY:Youth Singers Rehearsals
DESCRIPTION:
URL:https://shadescrest.org/event/youth-singers-rehearsals/2026-02-08/
CATEGORIES:Youth Event
ATTACH;FMTTYPE=image/png:https://shadescrest.org/wp-content/uploads/2026/02/Screenshot-2026-02-03-165741.png
END:VEVENT
BEGIN:VEVENT
DTSTART;TZID=UTC:20260203T193000
DTEND;TZID=UTC:20260203T220000
DTSTAMP:20260424T042918
CREATED:20260131T230401Z
LAST-MODIFIED:20260131T230401Z
UID:10004829-1770147000-1770156000@shadescrest.org
SUMMARY:SCBC High School Girls Basketball
DESCRIPTION:
URL:https://shadescrest.org/event/scbc-high-school-girls-basketball/
LOCATION:Family Life Center\, 2028 Rockland Drive\, Hoover\, AL\, 35226\, United States
CATEGORIES:Youth Event
ATTACH;FMTTYPE=image/jpeg:https://shadescrest.org/wp-content/uploads/2026/01/basketball.jpg
END:VEVENT
BEGIN:VEVENT
DTSTART;TZID=UTC:20251207T100000
DTEND;TZID=UTC:20251207T110000
DTSTAMP:20260424T042918
CREATED:20251118T162239Z
LAST-MODIFIED:20251118T162536Z
UID:10003323-1765101600-1765105200@shadescrest.org
SUMMARY:Youth Christmas Breakfast
DESCRIPTION:
URL:https://shadescrest.org/event/youth-christmas-breakfast/
LOCATION:Youth Room\, 452 Park Avenue\, Hoover\, United States
CATEGORIES:Youth Event
END:VEVENT
BEGIN:VEVENT
DTSTART;TZID=UTC:20250523T080000
DTEND;TZID=UTC:20250530T170000
DTSTAMP:20260424T042918
CREATED:20250123T174617Z
LAST-MODIFIED:20250123T174617Z
UID:10001847-1747987200-1748624400@shadescrest.org
SUMMARY:Youth Mission Trip
DESCRIPTION:Florence\, Alabama
URL:https://shadescrest.org/event/youth-mission-trip/
CATEGORIES:Youth Event
ATTACH;FMTTYPE=image/jpeg:https://shadescrest.org/wp-content/uploads/2025/01/youth-Mission-trio-25-26.jpg
END:VEVENT
BEGIN:VEVENT
DTSTART;TZID=UTC:20250117T170000
DTEND;TZID=UTC:20250119T233000
DTSTAMP:20260424T042918
CREATED:20250113T184903Z
LAST-MODIFIED:20250113T185240Z
UID:10001846-1737133200-1737329400@shadescrest.org
SUMMARY:DNow Weekend
DESCRIPTION:Students will be at various locations doing community service during the weekend.
URL:https://shadescrest.org/event/dnow-weekend/
CATEGORIES:Youth Event
END:VEVENT
BEGIN:VEVENT
DTSTART;TZID=UTC:20250115T170000
DTEND;TZID=UTC:20250115T220000
DTSTAMP:20260424T042918
CREATED:20250113T184508Z
LAST-MODIFIED:20250113T185033Z
UID:10001845-1736960400-1736978400@shadescrest.org
SUMMARY:DNow Kickoff
DESCRIPTION:
URL:https://shadescrest.org/event/dnow-kickoff/
LOCATION:Family Life Center\, 2028 Rockland Drive\, Hoover\, AL\, 35226\, United States
CATEGORIES:Youth Event
END:VEVENT
BEGIN:VEVENT
DTSTART;TZID=UTC:20241110T121000
DTEND;TZID=UTC:20241110T140000
DTSTAMP:20260424T042918
CREATED:20241023T173837Z
LAST-MODIFIED:20241023T173837Z
UID:10001815-1731240600-1731247200@shadescrest.org
SUMMARY:Veterans Appreciation Luncheon
DESCRIPTION:All Veterans are Welcome. Please call the Church office to RSVP
URL:https://shadescrest.org/event/veterans-appreciation-luncheon/
LOCATION:Fellowship Hall\, 452 Park Avenue\, Hoover\, AL\, 35226\, United States
CATEGORIES:Church Event,Youth Event
ATTACH;FMTTYPE=image/jpeg:https://shadescrest.org/wp-content/uploads/2024/10/veterans-luncheon.jpg
END:VEVENT
BEGIN:VEVENT
DTSTART;TZID=UTC:20241011T160000
DTEND;TZID=UTC:20241012T170000
DTSTAMP:20260424T042918
CREATED:20241007T205450Z
LAST-MODIFIED:20241007T205450Z
UID:10001811-1728662400-1728752400@shadescrest.org
SUMMARY:Retreat 78 - Youth Event
DESCRIPTION:
URL:https://shadescrest.org/event/retreat-78-youth-event/
CATEGORIES:Youth Event
ATTACH;FMTTYPE=image/jpeg:https://shadescrest.org/wp-content/uploads/2024/08/retreat-78-2024.jpg
END:VEVENT
BEGIN:VEVENT
DTSTART;TZID=UTC:20241006T121500
DTEND;TZID=UTC:20241006T163000
DTSTAMP:20260424T042918
CREATED:20241002T180025Z
LAST-MODIFIED:20241002T180025Z
UID:10001810-1728216900-1728232200@shadescrest.org
SUMMARY:Miracle League - Youth Event
DESCRIPTION:Youth will help with Miracle League on Sunday\, October 6.\nGames are at 1:30 and 2:30 PM. Meet at 12:15 PM at the FLC for lunch\n(bring money)\, or meet at the Hoover East ballpark by 1:15 PM. \nArrive 15 minutes early if you are volunteering.\nAny adults who are willing to help please let Denis know.
URL:https://shadescrest.org/event/miracle-league-youth-event/
CATEGORIES:Youth Event
ATTACH;FMTTYPE=image/jpeg:https://shadescrest.org/wp-content/uploads/2024/10/miracle-league.jpg
END:VEVENT
BEGIN:VEVENT
DTSTART;TZID=UTC:20241004T090000
DTEND;TZID=UTC:20241004T223000
DTSTAMP:20260424T042918
CREATED:20241002T174953Z
LAST-MODIFIED:20241002T175626Z
UID:10001809-1728032400-1728081000@shadescrest.org
SUMMARY:5th Quarter - Shades Crest Youth
DESCRIPTION:
URL:https://shadescrest.org/event/5th-quarter-shades-crest-youth/
LOCATION:Family Life Center\, 2028 Rockland Drive\, Hoover\, AL\, 35226\, United States
CATEGORIES:FLC Event,Youth Event
END:VEVENT
BEGIN:VEVENT
DTSTART;TZID=UTC:20240927T173000
DTEND;TZID=UTC:20240927T190000
DTSTAMP:20260424T042918
CREATED:20240909T184236Z
LAST-MODIFIED:20240909T184236Z
UID:10001799-1727458200-1727463600@shadescrest.org
SUMMARY:SCBC Tailgate
DESCRIPTION:
URL:https://shadescrest.org/event/scbc-tailgate/
CATEGORIES:Church Event,Youth Event
ATTACH;FMTTYPE=image/jpeg:https://shadescrest.org/wp-content/uploads/2024/09/tailgate.jpg
END:VEVENT
BEGIN:VEVENT
DTSTART;TZID=UTC:20240729T190000
DTEND;TZID=UTC:20240729T220000
DTSTAMP:20260424T042918
CREATED:20240523T175801Z
LAST-MODIFIED:20240610T154419Z
UID:10000016-1722279600-1722290400@shadescrest.org
SUMMARY:Magnificent Mondays
DESCRIPTION:
URL:https://shadescrest.org/event/magnificent-mondays-7/
CATEGORIES:FLC Event,Youth Event
END:VEVENT
BEGIN:VEVENT
DTSTART;TZID=UTC:20240722T190000
DTEND;TZID=UTC:20240722T220000
DTSTAMP:20260424T042918
CREATED:20240523T175715Z
LAST-MODIFIED:20240610T154407Z
UID:10000015-1721674800-1721685600@shadescrest.org
SUMMARY:Magnificent Mondays
DESCRIPTION:
URL:https://shadescrest.org/event/magnificent-mondays-6/
CATEGORIES:FLC Event,Youth Event
END:VEVENT
BEGIN:VEVENT
DTSTART;TZID=UTC:20240715T190000
DTEND;TZID=UTC:20240715T220000
DTSTAMP:20260424T042918
CREATED:20240523T175627Z
LAST-MODIFIED:20240610T154358Z
UID:10000014-1721070000-1721080800@shadescrest.org
SUMMARY:Magnificent Mondays
DESCRIPTION:
URL:https://shadescrest.org/event/magnificent-mondays-5/
CATEGORIES:FLC Event,Youth Event
END:VEVENT
BEGIN:VEVENT
DTSTART;TZID=UTC:20240708T120000
DTEND;TZID=UTC:20240712T130000
DTSTAMP:20260424T042918
CREATED:20240523T154055Z
LAST-MODIFIED:20240610T154434Z
UID:10000006-1720440000-1720789200@shadescrest.org
SUMMARY:Super Summer 2024: July 8-12
DESCRIPTION:Super Summer is for students completing grades 8-12\, involved with weekly Bible study/discipleship groups at Shades Crest\, and showing a Christian maturity.
URL:https://shadescrest.org/event/super-summer-2024-july-8-12/
LOCATION:University of Mobile\, Mobile\, Alabama
CATEGORIES:Youth Event
ATTACH;FMTTYPE=image/jpeg:https://shadescrest.org/wp-content/uploads/2024/02/super-summer-e1774999009256.jpg
END:VEVENT
BEGIN:VEVENT
DTSTART;TZID=UTC:20240624T190000
DTEND;TZID=UTC:20240624T220000
DTSTAMP:20260424T042918
CREATED:20240523T175524Z
LAST-MODIFIED:20240618T183909Z
UID:10000013-1719255600-1719266400@shadescrest.org
SUMMARY:Magnificent Mondays
DESCRIPTION:Activities for Shades Crest Baptist youth
URL:https://shadescrest.org/event/magnificent-mondays-4/
LOCATION:Family Life Center\, 2028 Rockland Drive\, Hoover\, AL\, 35226\, United States
CATEGORIES:FLC Event,Youth Event
ATTACH;FMTTYPE=image/jpeg:https://shadescrest.org/wp-content/uploads/2024/06/MMonday.jpg
END:VEVENT
END:VCALENDAR