BEGIN:VCALENDAR
VERSION:2.0
PRODID:-//Shades Crest Baptist Church - ECPv6.15.20//NONSGML v1.0//EN
CALSCALE:GREGORIAN
METHOD:PUBLISH
X-WR-CALNAME:Shades Crest Baptist Church
X-ORIGINAL-URL:https://shadescrest.org
X-WR-CALDESC:Events for Shades Crest Baptist Church
REFRESH-INTERVAL;VALUE=DURATION:PT1H
X-Robots-Tag:noindex
X-PUBLISHED-TTL:PT1H
BEGIN:VTIMEZONE
TZID:UTC
BEGIN:STANDARD
TZOFFSETFROM:+0000
TZOFFSETTO:+0000
TZNAME:UTC
DTSTART:20230101T000000
END:STANDARD
END:VTIMEZONE
BEGIN:VEVENT
DTSTART;TZID=UTC:20240905T160000
DTEND;TZID=UTC:20240905T170000
DTSTAMP:20260425T124831
CREATED:20240730T174724Z
LAST-MODIFIED:20240730T174724Z
UID:10001267-1725552000-1725555600@shadescrest.org
SUMMARY:Fitness Workouts
DESCRIPTION:Fitness Workouts for all ages led by Abby Allen.
URL:https://shadescrest.org/event/fitness-workouts/2024-09-05/
LOCATION:Family Life Center\, 2028 Rockland Drive\, Hoover\, AL\, 35226\, United States
CATEGORIES:FLC Event
END:VEVENT
BEGIN:VEVENT
DTSTART;TZID=UTC:20240905T103000
DTEND;TZID=UTC:20240905T120000
DTSTAMP:20260425T124831
CREATED:20240821T205047Z
LAST-MODIFIED:20240821T205047Z
UID:10001526-1725532200-1725537600@shadescrest.org
SUMMARY:The Mountainaires Senior Adult Choir
DESCRIPTION:On September 5 we will have the first rehearsal of The Mountainaires of this season. Come to a wonderful time of preparation to share the message of Jesus through music with our community.
URL:https://shadescrest.org/event/the-mountainaires-senior-adult-choir/
LOCATION:Music Suite
ATTACH;FMTTYPE=image/jpeg:https://shadescrest.org/wp-content/uploads/2024/08/mountainaires.jpg
END:VEVENT
BEGIN:VEVENT
DTSTART;TZID=UTC:20240904T164500
DTEND;TZID=UTC:20240904T200000
DTSTAMP:20260425T124831
CREATED:20240723T191342Z
LAST-MODIFIED:20260216T213352Z
UID:10000732-1725468300-1725480000@shadescrest.org
SUMMARY:Midpoint Wednesday Evening Activities
DESCRIPTION:Join us each Wednesday evening for activities and Bible Study for all ages beginning with dinner at 4:45pm in the Fellowship Hall.
URL:https://shadescrest.org/event/midpoint-wednesday-evening-activities/2024-09-04/
LOCATION:Entire Church Campus\, 452 Park Avenue\, Hoover\, AL\, 35226
CATEGORIES:Church Event
ATTACH;FMTTYPE=image/jpeg:https://shadescrest.org/wp-content/uploads/2026/02/midpoint-new.jpg
END:VEVENT
BEGIN:VEVENT
DTSTART;TZID=UTC:20240904T160000
DTEND;TZID=UTC:20240904T170000
DTSTAMP:20260425T124831
CREATED:20240730T174724Z
LAST-MODIFIED:20240730T174724Z
UID:10001266-1725465600-1725469200@shadescrest.org
SUMMARY:Fitness Workouts
DESCRIPTION:Fitness Workouts for all ages led by Abby Allen.
URL:https://shadescrest.org/event/fitness-workouts/2024-09-04/
LOCATION:Family Life Center\, 2028 Rockland Drive\, Hoover\, AL\, 35226\, United States
CATEGORIES:FLC Event
END:VEVENT
BEGIN:VEVENT
DTSTART;TZID=UTC:20240903T183000
DTEND;TZID=UTC:20240903T203000
DTSTAMP:20260425T124831
CREATED:20240613T172439Z
LAST-MODIFIED:20240613T172439Z
UID:10000068-1725388200-1725395400@shadescrest.org
SUMMARY:Wellness Bible Study
DESCRIPTION:
URL:https://shadescrest.org/event/wellness-bible-study/2024-09-03/
LOCATION:Family Life Center\, 2028 Rockland Drive\, Hoover\, AL\, 35226\, United States
CATEGORIES:FLC Event
ATTACH;FMTTYPE=image/jpeg:https://shadescrest.org/wp-content/uploads/2022/09/FLC-1.jpeg
END:VEVENT
BEGIN:VEVENT
DTSTART;TZID=UTC:20240903T113000
DTEND;TZID=UTC:20240903T130000
DTSTAMP:20260425T124831
CREATED:20240807T172809Z
LAST-MODIFIED:20240807T173504Z
UID:10001506-1725363000-1725368400@shadescrest.org
SUMMARY:WMU Program - Lunch & Learn
DESCRIPTION:Lunch and learn with missionaries Ken and Jonja Jacks.
URL:https://shadescrest.org/event/wmu-program-lunch-learn/
LOCATION:Family Life Center\, 2028 Rockland Drive\, Hoover\, AL\, 35226\, United States
CATEGORIES:Church Event,FLC Event
ATTACH;FMTTYPE=image/jpeg:https://shadescrest.org/wp-content/uploads/2024/08/lunch-and-learn2.jpg
END:VEVENT
BEGIN:VEVENT
DTSTART;TZID=UTC:20240902T160000
DTEND;TZID=UTC:20240902T170000
DTSTAMP:20260425T124831
CREATED:20240730T174724Z
LAST-MODIFIED:20240730T174724Z
UID:10001265-1725292800-1725296400@shadescrest.org
SUMMARY:Fitness Workouts
DESCRIPTION:Fitness Workouts for all ages led by Abby Allen.
URL:https://shadescrest.org/event/fitness-workouts/2024-09-02/
LOCATION:Family Life Center\, 2028 Rockland Drive\, Hoover\, AL\, 35226\, United States
CATEGORIES:FLC Event
END:VEVENT
BEGIN:VEVENT
DTSTART;TZID=UTC:20240902T090000
DTEND;TZID=UTC:20240902T120000
DTSTAMP:20260425T124831
CREATED:20240606T173300Z
LAST-MODIFIED:20260223T195015Z
UID:10000473-1725267600-1725278400@shadescrest.org
SUMMARY:Retired and Moving
DESCRIPTION:The senior adults gather every Monday at 9 AM in the FLC for games\, fellowship\, and crafts. On the 1st Monday of each month\, a lunch is served. Bring $5 to cover the cost.
URL:https://shadescrest.org/event/retired-and-moving-3/2024-09-02/
LOCATION:Family Life Center\, 2028 Rockland Drive\, Hoover\, AL\, 35226\, United States
CATEGORIES:FLC Event
ATTACH;FMTTYPE=image/jpeg:https://shadescrest.org/wp-content/uploads/2026/02/moving-2-1.jpg
END:VEVENT
BEGIN:VEVENT
DTSTART;TZID=UTC:20240901T090000
DTEND;TZID=UTC:20240901T120000
DTSTAMP:20260425T124831
CREATED:20240821T203747Z
LAST-MODIFIED:20240821T203957Z
UID:10000408-1725181200-1725192000@shadescrest.org
SUMMARY:Sunday Services
DESCRIPTION:Sunday services consist of Rising service (Modern) at 9 pm in Fellowship Hall\, One combined Connect Group for Adults at 10 am in Fellowship Hall\, and Majestic service (Traditional) at 11 pm in Sanctuary. Both services are Livestreamed.
URL:https://shadescrest.org/event/sunday-services-8-4-2/
LOCATION:Entire Church Campus\, 452 Park Avenue\, Hoover\, AL\, 35226
CATEGORIES:Church Event
ATTACH;FMTTYPE=image/jpeg:https://shadescrest.org/wp-content/uploads/2024/08/laborday-services.jpg
END:VEVENT
BEGIN:VEVENT
DTSTART;TZID=UTC:20240829T160000
DTEND;TZID=UTC:20240829T170000
DTSTAMP:20260425T124831
CREATED:20240730T174724Z
LAST-MODIFIED:20240730T174724Z
UID:10001264-1724947200-1724950800@shadescrest.org
SUMMARY:Fitness Workouts
DESCRIPTION:Fitness Workouts for all ages led by Abby Allen.
URL:https://shadescrest.org/event/fitness-workouts/2024-08-29/
LOCATION:Family Life Center\, 2028 Rockland Drive\, Hoover\, AL\, 35226\, United States
CATEGORIES:FLC Event
END:VEVENT
BEGIN:VEVENT
DTSTART;TZID=UTC:20240829T100000
DTEND;TZID=UTC:20240829T130000
DTSTAMP:20260425T124831
CREATED:20240724T172601Z
LAST-MODIFIED:20240724T172606Z
UID:10000385-1724925600-1724936400@shadescrest.org
SUMMARY:Pickleball-Open Play
DESCRIPTION:All participants must initially complete a participation form before playing.
URL:https://shadescrest.org/event/pickleball-open-play-2-2/2024-08-29/
LOCATION:Family Life Center\, 2028 Rockland Drive\, Hoover\, AL\, 35226\, United States
CATEGORIES:FLC Event
ATTACH;FMTTYPE=image/jpeg:https://shadescrest.org/wp-content/uploads/2024/07/pickleball-NEW.jpg
END:VEVENT
BEGIN:VEVENT
DTSTART;TZID=UTC:20240828T164500
DTEND;TZID=UTC:20240828T200000
DTSTAMP:20260425T124831
CREATED:20240723T191342Z
LAST-MODIFIED:20260216T213352Z
UID:10000731-1724863500-1724875200@shadescrest.org
SUMMARY:Midpoint Wednesday Evening Activities
DESCRIPTION:Join us each Wednesday evening for activities and Bible Study for all ages beginning with dinner at 4:45pm in the Fellowship Hall.
URL:https://shadescrest.org/event/midpoint-wednesday-evening-activities/2024-08-28/
LOCATION:Entire Church Campus\, 452 Park Avenue\, Hoover\, AL\, 35226
CATEGORIES:Church Event
ATTACH;FMTTYPE=image/jpeg:https://shadescrest.org/wp-content/uploads/2026/02/midpoint-new.jpg
END:VEVENT
BEGIN:VEVENT
DTSTART;TZID=UTC:20240828T160000
DTEND;TZID=UTC:20240828T170000
DTSTAMP:20260425T124831
CREATED:20240730T174724Z
LAST-MODIFIED:20240730T174724Z
UID:10001263-1724860800-1724864400@shadescrest.org
SUMMARY:Fitness Workouts
DESCRIPTION:Fitness Workouts for all ages led by Abby Allen.
URL:https://shadescrest.org/event/fitness-workouts/2024-08-28/
LOCATION:Family Life Center\, 2028 Rockland Drive\, Hoover\, AL\, 35226\, United States
CATEGORIES:FLC Event
END:VEVENT
BEGIN:VEVENT
DTSTART;TZID=UTC:20240827T183000
DTEND;TZID=UTC:20240827T203000
DTSTAMP:20260425T124831
CREATED:20240613T172439Z
LAST-MODIFIED:20240613T172439Z
UID:10000067-1724783400-1724790600@shadescrest.org
SUMMARY:Wellness Bible Study
DESCRIPTION:
URL:https://shadescrest.org/event/wellness-bible-study/2024-08-27/
LOCATION:Family Life Center\, 2028 Rockland Drive\, Hoover\, AL\, 35226\, United States
CATEGORIES:FLC Event
ATTACH;FMTTYPE=image/jpeg:https://shadescrest.org/wp-content/uploads/2022/09/FLC-1.jpeg
END:VEVENT
BEGIN:VEVENT
DTSTART;TZID=UTC:20240826T160000
DTEND;TZID=UTC:20240826T170000
DTSTAMP:20260425T124831
CREATED:20240730T174724Z
LAST-MODIFIED:20240730T174724Z
UID:10001262-1724688000-1724691600@shadescrest.org
SUMMARY:Fitness Workouts
DESCRIPTION:Fitness Workouts for all ages led by Abby Allen.
URL:https://shadescrest.org/event/fitness-workouts/2024-08-26/
LOCATION:Family Life Center\, 2028 Rockland Drive\, Hoover\, AL\, 35226\, United States
CATEGORIES:FLC Event
END:VEVENT
BEGIN:VEVENT
DTSTART;TZID=UTC:20240826T090000
DTEND;TZID=UTC:20240826T120000
DTSTAMP:20260425T124831
CREATED:20240606T173300Z
LAST-MODIFIED:20260223T195015Z
UID:10000472-1724662800-1724673600@shadescrest.org
SUMMARY:Retired and Moving
DESCRIPTION:The senior adults gather every Monday at 9 AM in the FLC for games\, fellowship\, and crafts. On the 1st Monday of each month\, a lunch is served. Bring $5 to cover the cost.
URL:https://shadescrest.org/event/retired-and-moving-3/2024-08-26/
LOCATION:Family Life Center\, 2028 Rockland Drive\, Hoover\, AL\, 35226\, United States
CATEGORIES:FLC Event
ATTACH;FMTTYPE=image/jpeg:https://shadescrest.org/wp-content/uploads/2026/02/moving-2-1.jpg
END:VEVENT
BEGIN:VEVENT
DTSTART;TZID=UTC:20240825T090000
DTEND;TZID=UTC:20240825T120000
DTSTAMP:20260425T124831
CREATED:20240724T175410Z
LAST-MODIFIED:20240724T175412Z
UID:10000407-1724576400-1724587200@shadescrest.org
SUMMARY:Sunday Services
DESCRIPTION:Sunday services consist of Rising service (Modern) at 9 pm in Fellowship Hall\, Connect Groups at 10 am in classrooms\, and Majestic service (Traditional) at 11 pm in Sanctuary. Both services are Livestreamed.
URL:https://shadescrest.org/event/sunday-services-8-4/2024-08-25/
LOCATION:Entire Church Campus\, 452 Park Avenue\, Hoover\, AL\, 35226
CATEGORIES:Church Event
ATTACH;FMTTYPE=image/jpeg:https://shadescrest.org/wp-content/uploads/2024/07/sunday-service.jpg
END:VEVENT
BEGIN:VEVENT
DTSTART;TZID=UTC:20240824T093000
DTEND;TZID=UTC:20240824T120000
DTSTAMP:20260425T124831
CREATED:20240724T211135Z
LAST-MODIFIED:20240724T212331Z
UID:10001249-1724491800-1724500800@shadescrest.org
SUMMARY:Christmas Choir Kickoff
DESCRIPTION:Come and sing with the Sanctuary Choir as we begin rehearsing for our Christmas Program. You do not have to be a member of the regular Sanctuary choir to participate\, All are welcome!
URL:https://shadescrest.org/event/christmas-choir-kickoff/
LOCATION:Music Suite
ATTACH;FMTTYPE=image/jpeg:https://shadescrest.org/wp-content/uploads/2023/12/christmas-mosaic.jpg
END:VEVENT
BEGIN:VEVENT
DTSTART;TZID=UTC:20240822T160000
DTEND;TZID=UTC:20240822T170000
DTSTAMP:20260425T124831
CREATED:20240730T174724Z
LAST-MODIFIED:20240730T174724Z
UID:10001261-1724342400-1724346000@shadescrest.org
SUMMARY:Fitness Workouts
DESCRIPTION:Fitness Workouts for all ages led by Abby Allen.
URL:https://shadescrest.org/event/fitness-workouts/2024-08-22/
LOCATION:Family Life Center\, 2028 Rockland Drive\, Hoover\, AL\, 35226\, United States
CATEGORIES:FLC Event
END:VEVENT
BEGIN:VEVENT
DTSTART;TZID=UTC:20240822T100000
DTEND;TZID=UTC:20240822T130000
DTSTAMP:20260425T124831
CREATED:20240724T172601Z
LAST-MODIFIED:20240724T172606Z
UID:10000384-1724320800-1724331600@shadescrest.org
SUMMARY:Pickleball-Open Play
DESCRIPTION:All participants must initially complete a participation form before playing.
URL:https://shadescrest.org/event/pickleball-open-play-2-2/2024-08-22/
LOCATION:Family Life Center\, 2028 Rockland Drive\, Hoover\, AL\, 35226\, United States
CATEGORIES:FLC Event
ATTACH;FMTTYPE=image/jpeg:https://shadescrest.org/wp-content/uploads/2024/07/pickleball-NEW.jpg
END:VEVENT
BEGIN:VEVENT
DTSTART;TZID=UTC:20240821T164500
DTEND;TZID=UTC:20240821T200000
DTSTAMP:20260425T124831
CREATED:20240723T191342Z
LAST-MODIFIED:20260216T213352Z
UID:10000730-1724258700-1724270400@shadescrest.org
SUMMARY:Midpoint Wednesday Evening Activities
DESCRIPTION:Join us each Wednesday evening for activities and Bible Study for all ages beginning with dinner at 4:45pm in the Fellowship Hall.
URL:https://shadescrest.org/event/midpoint-wednesday-evening-activities/2024-08-21/
LOCATION:Entire Church Campus\, 452 Park Avenue\, Hoover\, AL\, 35226
CATEGORIES:Church Event
ATTACH;FMTTYPE=image/jpeg:https://shadescrest.org/wp-content/uploads/2026/02/midpoint-new.jpg
END:VEVENT
BEGIN:VEVENT
DTSTART;TZID=UTC:20240821T160000
DTEND;TZID=UTC:20240821T170000
DTSTAMP:20260425T124831
CREATED:20240730T174724Z
LAST-MODIFIED:20240730T174724Z
UID:10001260-1724256000-1724259600@shadescrest.org
SUMMARY:Fitness Workouts
DESCRIPTION:Fitness Workouts for all ages led by Abby Allen.
URL:https://shadescrest.org/event/fitness-workouts/2024-08-21/
LOCATION:Family Life Center\, 2028 Rockland Drive\, Hoover\, AL\, 35226\, United States
CATEGORIES:FLC Event
END:VEVENT
BEGIN:VEVENT
DTSTART;TZID=UTC:20240820T183000
DTEND;TZID=UTC:20240820T203000
DTSTAMP:20260425T124831
CREATED:20240613T172439Z
LAST-MODIFIED:20240613T172439Z
UID:10000066-1724178600-1724185800@shadescrest.org
SUMMARY:Wellness Bible Study
DESCRIPTION:
URL:https://shadescrest.org/event/wellness-bible-study/2024-08-20/
LOCATION:Family Life Center\, 2028 Rockland Drive\, Hoover\, AL\, 35226\, United States
CATEGORIES:FLC Event
ATTACH;FMTTYPE=image/jpeg:https://shadescrest.org/wp-content/uploads/2022/09/FLC-1.jpeg
END:VEVENT
BEGIN:VEVENT
DTSTART;TZID=UTC:20240819T160000
DTEND;TZID=UTC:20240819T170000
DTSTAMP:20260425T124831
CREATED:20240730T174724Z
LAST-MODIFIED:20240730T174724Z
UID:10001259-1724083200-1724086800@shadescrest.org
SUMMARY:Fitness Workouts
DESCRIPTION:Fitness Workouts for all ages led by Abby Allen.
URL:https://shadescrest.org/event/fitness-workouts/2024-08-19/
LOCATION:Family Life Center\, 2028 Rockland Drive\, Hoover\, AL\, 35226\, United States
CATEGORIES:FLC Event
END:VEVENT
BEGIN:VEVENT
DTSTART;TZID=UTC:20240819T090000
DTEND;TZID=UTC:20240819T120000
DTSTAMP:20260425T124831
CREATED:20240606T173300Z
LAST-MODIFIED:20260223T195015Z
UID:10000471-1724058000-1724068800@shadescrest.org
SUMMARY:Retired and Moving
DESCRIPTION:The senior adults gather every Monday at 9 AM in the FLC for games\, fellowship\, and crafts. On the 1st Monday of each month\, a lunch is served. Bring $5 to cover the cost.
URL:https://shadescrest.org/event/retired-and-moving-3/2024-08-19/
LOCATION:Family Life Center\, 2028 Rockland Drive\, Hoover\, AL\, 35226\, United States
CATEGORIES:FLC Event
ATTACH;FMTTYPE=image/jpeg:https://shadescrest.org/wp-content/uploads/2026/02/moving-2-1.jpg
END:VEVENT
BEGIN:VEVENT
DTSTART;TZID=UTC:20240818T090000
DTEND;TZID=UTC:20240818T120000
DTSTAMP:20260425T124831
CREATED:20240724T175410Z
LAST-MODIFIED:20240724T175412Z
UID:10000406-1723971600-1723982400@shadescrest.org
SUMMARY:Sunday Services
DESCRIPTION:Sunday services consist of Rising service (Modern) at 9 pm in Fellowship Hall\, Connect Groups at 10 am in classrooms\, and Majestic service (Traditional) at 11 pm in Sanctuary. Both services are Livestreamed.
URL:https://shadescrest.org/event/sunday-services-8-4/2024-08-18/
LOCATION:Entire Church Campus\, 452 Park Avenue\, Hoover\, AL\, 35226
CATEGORIES:Church Event
ATTACH;FMTTYPE=image/jpeg:https://shadescrest.org/wp-content/uploads/2024/07/sunday-service.jpg
END:VEVENT
BEGIN:VEVENT
DTSTART;TZID=UTC:20240815T160000
DTEND;TZID=UTC:20240815T170000
DTSTAMP:20260425T124831
CREATED:20240730T174724Z
LAST-MODIFIED:20240730T174724Z
UID:10001258-1723737600-1723741200@shadescrest.org
SUMMARY:Fitness Workouts
DESCRIPTION:Fitness Workouts for all ages led by Abby Allen.
URL:https://shadescrest.org/event/fitness-workouts/2024-08-15/
LOCATION:Family Life Center\, 2028 Rockland Drive\, Hoover\, AL\, 35226\, United States
CATEGORIES:FLC Event
END:VEVENT
BEGIN:VEVENT
DTSTART;TZID=UTC:20240815T100000
DTEND;TZID=UTC:20240815T130000
DTSTAMP:20260425T124831
CREATED:20240724T172601Z
LAST-MODIFIED:20240724T172606Z
UID:10000383-1723716000-1723726800@shadescrest.org
SUMMARY:Pickleball-Open Play
DESCRIPTION:All participants must initially complete a participation form before playing.
URL:https://shadescrest.org/event/pickleball-open-play-2-2/2024-08-15/
LOCATION:Family Life Center\, 2028 Rockland Drive\, Hoover\, AL\, 35226\, United States
CATEGORIES:FLC Event
ATTACH;FMTTYPE=image/jpeg:https://shadescrest.org/wp-content/uploads/2024/07/pickleball-NEW.jpg
END:VEVENT
BEGIN:VEVENT
DTSTART;TZID=UTC:20240815T093000
DTEND;TZID=UTC:20240815T153000
DTSTAMP:20260425T124831
CREATED:20240725T172200Z
LAST-MODIFIED:20240725T172830Z
UID:10001250-1723714200-1723735800@shadescrest.org
SUMMARY:Visit Temple Emanu-El for Senior Adults
DESCRIPTION:Senior adults will be headed to Temple Emanu-El for a tour and then to lunch. Make your plans now to join us.
URL:https://shadescrest.org/event/visit-temple-emanu-el-for-seniors/
CATEGORIES:Senior Adults Event
END:VEVENT
BEGIN:VEVENT
DTSTART;TZID=UTC:20240814T171500
DTEND;TZID=UTC:20240814T190000
DTSTAMP:20260425T124831
CREATED:20240731T175922Z
LAST-MODIFIED:20240805T195137Z
UID:10001436-1723655700-1723662000@shadescrest.org
SUMMARY:SJ Jam Kids Music Kickoff
DESCRIPTION:
URL:https://shadescrest.org/event/sj-jam-kids-music-kickoff/
LOCATION:Family Life Center\, 2028 Rockland Drive\, Hoover\, AL\, 35226\, United States
CATEGORIES:FLC Event
ATTACH;FMTTYPE=image/png:https://shadescrest.org/wp-content/uploads/2024/08/childrens-choir-fall-2024.png
END:VEVENT
END:VCALENDAR