BEGIN:VCALENDAR
VERSION:2.0
PRODID:-//Shades Crest Baptist Church - ECPv6.15.20//NONSGML v1.0//EN
CALSCALE:GREGORIAN
METHOD:PUBLISH
X-ORIGINAL-URL:https://shadescrest.org
X-WR-CALDESC:Events for Shades Crest Baptist Church
REFRESH-INTERVAL;VALUE=DURATION:PT1H
X-Robots-Tag:noindex
X-PUBLISHED-TTL:PT1H
BEGIN:VTIMEZONE
TZID:UTC
BEGIN:STANDARD
TZOFFSETFROM:+0000
TZOFFSETTO:+0000
TZNAME:UTC
DTSTART:20260101T000000
END:STANDARD
END:VTIMEZONE
BEGIN:VEVENT
DTSTART;TZID=UTC:20270511T073000
DTEND;TZID=UTC:20270511T083000
DTSTAMP:20260425T131820
CREATED:20260218T005012Z
LAST-MODIFIED:20260218T005012Z
UID:10004969-1810020600-1810024200@shadescrest.org
SUMMARY:Men's Prayer Team
DESCRIPTION:
URL:https://shadescrest.org/event/mens-prayer-team/2027-05-11/
LOCATION:Family Life Center\, 2028 Rockland Drive\, Hoover\, AL\, 35226\, United States
CATEGORIES:Church Event,FLC Event
ATTACH;FMTTYPE=image/jpeg:https://shadescrest.org/wp-content/uploads/2026/02/mens-prayer-team.jpg
END:VEVENT
BEGIN:VEVENT
DTSTART;TZID=UTC:20270511T183000
DTEND;TZID=UTC:20270511T203000
DTSTAMP:20260425T131820
CREATED:20260224T190743Z
LAST-MODIFIED:20260224T225850Z
UID:10005104-1810060200-1810067400@shadescrest.org
SUMMARY:Ladies Fitness Bible Study
DESCRIPTION:
URL:https://shadescrest.org/event/ladies-fitness-bible-study/2027-05-11/
LOCATION:Family Life Center\, 2028 Rockland Drive\, Hoover\, AL\, 35226\, United States
CATEGORIES:FLC Event
ATTACH;FMTTYPE=image/jpeg:https://shadescrest.org/wp-content/uploads/2026/02/ladies-fitbess-bible-study2.jpg
END:VEVENT
BEGIN:VEVENT
DTSTART;TZID=UTC:20270512T164500
DTEND;TZID=UTC:20270512T200000
DTSTAMP:20260425T131820
CREATED:20240723T191342Z
LAST-MODIFIED:20260216T213352Z
UID:10000872-1810140300-1810152000@shadescrest.org
SUMMARY:Midpoint Wednesday Evening Activities
DESCRIPTION:Join us each Wednesday evening for activities and Bible Study for all ages beginning with dinner at 4:45pm in the Fellowship Hall.
URL:https://shadescrest.org/event/midpoint-wednesday-evening-activities/2027-05-12/
LOCATION:Entire Church Campus\, 452 Park Avenue\, Hoover\, AL\, 35226
CATEGORIES:Church Event
ATTACH;FMTTYPE=image/jpeg:https://shadescrest.org/wp-content/uploads/2026/02/midpoint-new.jpg
END:VEVENT
BEGIN:VEVENT
DTSTART;TZID=UTC:20270513T101500
DTEND;TZID=UTC:20270513T111500
DTSTAMP:20260425T131820
CREATED:20250206T202123Z
LAST-MODIFIED:20260107T205006Z
UID:10001969-1810203300-1810206900@shadescrest.org
SUMMARY:Mountainaires Choir Rehearsal
DESCRIPTION:New members are always welcome.
URL:https://shadescrest.org/event/mountainaires-choir-rehearsal/2027-05-13/
LOCATION:Music Suite
CATEGORIES:Senior Adults Event
ATTACH;FMTTYPE=image/jpeg:https://shadescrest.org/wp-content/uploads/2025/02/mountainaires.jpg
END:VEVENT
BEGIN:VEVENT
DTSTART;TZID=UTC:20270513T130000
DTEND;TZID=UTC:20270513T140000
DTSTAMP:20260425T131820
CREATED:20260221T232005Z
LAST-MODIFIED:20260221T232554Z
UID:10005035-1810213200-1810216800@shadescrest.org
SUMMARY:Women's Prayer Team
DESCRIPTION:
URL:https://shadescrest.org/event/womens-prayer-team/2027-05-13/
LOCATION:Family Life Center\, 2028 Rockland Drive\, Hoover\, AL\, 35226\, United States
CATEGORIES:Church Event,FLC Event
ATTACH;FMTTYPE=image/jpeg:https://shadescrest.org/wp-content/uploads/2026/02/womens-prayer-team.jpg
END:VEVENT
BEGIN:VEVENT
DTSTART;TZID=UTC:20270516T090000
DTEND;TZID=UTC:20270516T100000
DTSTAMP:20260425T131820
CREATED:20251114T164510Z
LAST-MODIFIED:20260220T002019Z
UID:10002741-1810458000-1810461600@shadescrest.org
SUMMARY:RISING Worship Service
DESCRIPTION:Come to our modern worship service\, Rising\, at 9:00 a.m. In the Rising service\, you’ll worship with our praise team and band in our church fellowship hall. You’ll see song lyrics and scripture passages projected on a screen\, and watch videos related to that day’s worship focus. Baskets are passed during this service\, offering you the opportunity to give. \nThe fellowship hall at Shades Crest is a multi-purpose space where we have meals as a church family\, host large churchwide and community events\, and have our weekly Rising worship service. \nOur speaker will preach on the same passage of scripture in this worship service as he does in the 11:00 a.m. service.
URL:https://shadescrest.org/event/rising-worship-service/2027-05-16/
LOCATION:Fellowship Hall\, 452 Park Avenue\, Hoover\, AL\, 35226\, United States
CATEGORIES:Church Event
ATTACH;FMTTYPE=image/jpeg:https://shadescrest.org/wp-content/uploads/2026/02/main-worship-slide-1.jpg
END:VEVENT
BEGIN:VEVENT
DTSTART;TZID=UTC:20270516T110000
DTEND;TZID=UTC:20270516T120000
DTSTAMP:20260425T131820
CREATED:20251114T164638Z
LAST-MODIFIED:20260220T002101Z
UID:10003002-1810465200-1810468800@shadescrest.org
SUMMARY:MAJESTIC Worship Service
DESCRIPTION:Majestic is our conventional worship service\, located in our church sanctuary. In this service\, you will worship with our sanctuary choir\, sing hymns and occasional choruses accompanied by piano\, pipe organ\, and sometimes our church orchestra. You will receive a printed bulletin as a guide for this worship service. Offering plates are passed during this service\, providing you the opportunity to give. \nOur speaker will preach on the same passage of scripture in this service as he does in the 9:00 a.m. service.
URL:https://shadescrest.org/event/majestic-worship-service/2027-05-16/
LOCATION:Church Sanctuary\, 452 Park Avenue\, Hoover\, AL\, 35226\, United States
CATEGORIES:Church Event
ATTACH;FMTTYPE=image/jpeg:https://shadescrest.org/wp-content/uploads/2026/02/main-worship-slide-1.jpg
END:VEVENT
BEGIN:VEVENT
DTSTART;TZID=UTC:20270517T090000
DTEND;TZID=UTC:20270517T120000
DTSTAMP:20260425T131820
CREATED:20240606T173300Z
LAST-MODIFIED:20260223T195015Z
UID:10000614-1810544400-1810555200@shadescrest.org
SUMMARY:Retired and Moving
DESCRIPTION:The senior adults gather every Monday at 9 AM in the FLC for games\, fellowship\, and crafts. On the 1st Monday of each month\, a lunch is served. Bring $5 to cover the cost.
URL:https://shadescrest.org/event/retired-and-moving-3/2027-05-17/
LOCATION:Family Life Center\, 2028 Rockland Drive\, Hoover\, AL\, 35226\, United States
CATEGORIES:FLC Event
ATTACH;FMTTYPE=image/jpeg:https://shadescrest.org/wp-content/uploads/2026/02/moving-2-1.jpg
END:VEVENT
BEGIN:VEVENT
DTSTART;TZID=UTC:20270518T073000
DTEND;TZID=UTC:20270518T083000
DTSTAMP:20260425T131820
CREATED:20260218T005012Z
LAST-MODIFIED:20260218T005012Z
UID:10004970-1810625400-1810629000@shadescrest.org
SUMMARY:Men's Prayer Team
DESCRIPTION:
URL:https://shadescrest.org/event/mens-prayer-team/2027-05-18/
LOCATION:Family Life Center\, 2028 Rockland Drive\, Hoover\, AL\, 35226\, United States
CATEGORIES:Church Event,FLC Event
ATTACH;FMTTYPE=image/jpeg:https://shadescrest.org/wp-content/uploads/2026/02/mens-prayer-team.jpg
END:VEVENT
BEGIN:VEVENT
DTSTART;TZID=UTC:20270518T183000
DTEND;TZID=UTC:20270518T203000
DTSTAMP:20260425T131820
CREATED:20260224T190743Z
LAST-MODIFIED:20260224T225850Z
UID:10005105-1810665000-1810672200@shadescrest.org
SUMMARY:Ladies Fitness Bible Study
DESCRIPTION:
URL:https://shadescrest.org/event/ladies-fitness-bible-study/2027-05-18/
LOCATION:Family Life Center\, 2028 Rockland Drive\, Hoover\, AL\, 35226\, United States
CATEGORIES:FLC Event
ATTACH;FMTTYPE=image/jpeg:https://shadescrest.org/wp-content/uploads/2026/02/ladies-fitbess-bible-study2.jpg
END:VEVENT
BEGIN:VEVENT
DTSTART;TZID=UTC:20270519T164500
DTEND;TZID=UTC:20270519T200000
DTSTAMP:20260425T131820
CREATED:20240723T191342Z
LAST-MODIFIED:20260216T213352Z
UID:10000873-1810745100-1810756800@shadescrest.org
SUMMARY:Midpoint Wednesday Evening Activities
DESCRIPTION:Join us each Wednesday evening for activities and Bible Study for all ages beginning with dinner at 4:45pm in the Fellowship Hall.
URL:https://shadescrest.org/event/midpoint-wednesday-evening-activities/2027-05-19/
LOCATION:Entire Church Campus\, 452 Park Avenue\, Hoover\, AL\, 35226
CATEGORIES:Church Event
ATTACH;FMTTYPE=image/jpeg:https://shadescrest.org/wp-content/uploads/2026/02/midpoint-new.jpg
END:VEVENT
BEGIN:VEVENT
DTSTART;TZID=UTC:20270520T101500
DTEND;TZID=UTC:20270520T111500
DTSTAMP:20260425T131820
CREATED:20250206T202123Z
LAST-MODIFIED:20260107T205006Z
UID:10001970-1810808100-1810811700@shadescrest.org
SUMMARY:Mountainaires Choir Rehearsal
DESCRIPTION:New members are always welcome.
URL:https://shadescrest.org/event/mountainaires-choir-rehearsal/2027-05-20/
LOCATION:Music Suite
CATEGORIES:Senior Adults Event
ATTACH;FMTTYPE=image/jpeg:https://shadescrest.org/wp-content/uploads/2025/02/mountainaires.jpg
END:VEVENT
BEGIN:VEVENT
DTSTART;TZID=UTC:20270520T130000
DTEND;TZID=UTC:20270520T140000
DTSTAMP:20260425T131820
CREATED:20260221T232005Z
LAST-MODIFIED:20260221T232554Z
UID:10005036-1810818000-1810821600@shadescrest.org
SUMMARY:Women's Prayer Team
DESCRIPTION:
URL:https://shadescrest.org/event/womens-prayer-team/2027-05-20/
LOCATION:Family Life Center\, 2028 Rockland Drive\, Hoover\, AL\, 35226\, United States
CATEGORIES:Church Event,FLC Event
ATTACH;FMTTYPE=image/jpeg:https://shadescrest.org/wp-content/uploads/2026/02/womens-prayer-team.jpg
END:VEVENT
BEGIN:VEVENT
DTSTART;TZID=UTC:20270523T090000
DTEND;TZID=UTC:20270523T100000
DTSTAMP:20260425T131820
CREATED:20251114T164510Z
LAST-MODIFIED:20260220T002019Z
UID:10002742-1811062800-1811066400@shadescrest.org
SUMMARY:RISING Worship Service
DESCRIPTION:Come to our modern worship service\, Rising\, at 9:00 a.m. In the Rising service\, you’ll worship with our praise team and band in our church fellowship hall. You’ll see song lyrics and scripture passages projected on a screen\, and watch videos related to that day’s worship focus. Baskets are passed during this service\, offering you the opportunity to give. \nThe fellowship hall at Shades Crest is a multi-purpose space where we have meals as a church family\, host large churchwide and community events\, and have our weekly Rising worship service. \nOur speaker will preach on the same passage of scripture in this worship service as he does in the 11:00 a.m. service.
URL:https://shadescrest.org/event/rising-worship-service/2027-05-23/
LOCATION:Fellowship Hall\, 452 Park Avenue\, Hoover\, AL\, 35226\, United States
CATEGORIES:Church Event
ATTACH;FMTTYPE=image/jpeg:https://shadescrest.org/wp-content/uploads/2026/02/main-worship-slide-1.jpg
END:VEVENT
BEGIN:VEVENT
DTSTART;TZID=UTC:20270523T110000
DTEND;TZID=UTC:20270523T120000
DTSTAMP:20260425T131820
CREATED:20251114T164638Z
LAST-MODIFIED:20260220T002101Z
UID:10003003-1811070000-1811073600@shadescrest.org
SUMMARY:MAJESTIC Worship Service
DESCRIPTION:Majestic is our conventional worship service\, located in our church sanctuary. In this service\, you will worship with our sanctuary choir\, sing hymns and occasional choruses accompanied by piano\, pipe organ\, and sometimes our church orchestra. You will receive a printed bulletin as a guide for this worship service. Offering plates are passed during this service\, providing you the opportunity to give. \nOur speaker will preach on the same passage of scripture in this service as he does in the 9:00 a.m. service.
URL:https://shadescrest.org/event/majestic-worship-service/2027-05-23/
LOCATION:Church Sanctuary\, 452 Park Avenue\, Hoover\, AL\, 35226\, United States
CATEGORIES:Church Event
ATTACH;FMTTYPE=image/jpeg:https://shadescrest.org/wp-content/uploads/2026/02/main-worship-slide-1.jpg
END:VEVENT
BEGIN:VEVENT
DTSTART;TZID=UTC:20270524T090000
DTEND;TZID=UTC:20270524T120000
DTSTAMP:20260425T131820
CREATED:20240606T173300Z
LAST-MODIFIED:20260223T195015Z
UID:10000615-1811149200-1811160000@shadescrest.org
SUMMARY:Retired and Moving
DESCRIPTION:The senior adults gather every Monday at 9 AM in the FLC for games\, fellowship\, and crafts. On the 1st Monday of each month\, a lunch is served. Bring $5 to cover the cost.
URL:https://shadescrest.org/event/retired-and-moving-3/2027-05-24/
LOCATION:Family Life Center\, 2028 Rockland Drive\, Hoover\, AL\, 35226\, United States
CATEGORIES:FLC Event
ATTACH;FMTTYPE=image/jpeg:https://shadescrest.org/wp-content/uploads/2026/02/moving-2-1.jpg
END:VEVENT
BEGIN:VEVENT
DTSTART;TZID=UTC:20270525T073000
DTEND;TZID=UTC:20270525T083000
DTSTAMP:20260425T131820
CREATED:20260218T005012Z
LAST-MODIFIED:20260218T005012Z
UID:10004971-1811230200-1811233800@shadescrest.org
SUMMARY:Men's Prayer Team
DESCRIPTION:
URL:https://shadescrest.org/event/mens-prayer-team/2027-05-25/
LOCATION:Family Life Center\, 2028 Rockland Drive\, Hoover\, AL\, 35226\, United States
CATEGORIES:Church Event,FLC Event
ATTACH;FMTTYPE=image/jpeg:https://shadescrest.org/wp-content/uploads/2026/02/mens-prayer-team.jpg
END:VEVENT
BEGIN:VEVENT
DTSTART;TZID=UTC:20270525T183000
DTEND;TZID=UTC:20270525T203000
DTSTAMP:20260425T131820
CREATED:20260224T190743Z
LAST-MODIFIED:20260224T225850Z
UID:10005106-1811269800-1811277000@shadescrest.org
SUMMARY:Ladies Fitness Bible Study
DESCRIPTION:
URL:https://shadescrest.org/event/ladies-fitness-bible-study/2027-05-25/
LOCATION:Family Life Center\, 2028 Rockland Drive\, Hoover\, AL\, 35226\, United States
CATEGORIES:FLC Event
ATTACH;FMTTYPE=image/jpeg:https://shadescrest.org/wp-content/uploads/2026/02/ladies-fitbess-bible-study2.jpg
END:VEVENT
BEGIN:VEVENT
DTSTART;TZID=UTC:20270526T164500
DTEND;TZID=UTC:20270526T200000
DTSTAMP:20260425T131820
CREATED:20240723T191342Z
LAST-MODIFIED:20260216T213352Z
UID:10000874-1811349900-1811361600@shadescrest.org
SUMMARY:Midpoint Wednesday Evening Activities
DESCRIPTION:Join us each Wednesday evening for activities and Bible Study for all ages beginning with dinner at 4:45pm in the Fellowship Hall.
URL:https://shadescrest.org/event/midpoint-wednesday-evening-activities/2027-05-26/
LOCATION:Entire Church Campus\, 452 Park Avenue\, Hoover\, AL\, 35226
CATEGORIES:Church Event
ATTACH;FMTTYPE=image/jpeg:https://shadescrest.org/wp-content/uploads/2026/02/midpoint-new.jpg
END:VEVENT
BEGIN:VEVENT
DTSTART;TZID=UTC:20270527T101500
DTEND;TZID=UTC:20270527T111500
DTSTAMP:20260425T131820
CREATED:20250206T202123Z
LAST-MODIFIED:20260107T205006Z
UID:10001971-1811412900-1811416500@shadescrest.org
SUMMARY:Mountainaires Choir Rehearsal
DESCRIPTION:New members are always welcome.
URL:https://shadescrest.org/event/mountainaires-choir-rehearsal/2027-05-27/
LOCATION:Music Suite
CATEGORIES:Senior Adults Event
ATTACH;FMTTYPE=image/jpeg:https://shadescrest.org/wp-content/uploads/2025/02/mountainaires.jpg
END:VEVENT
BEGIN:VEVENT
DTSTART;TZID=UTC:20270527T130000
DTEND;TZID=UTC:20270527T140000
DTSTAMP:20260425T131820
CREATED:20260221T232005Z
LAST-MODIFIED:20260221T232554Z
UID:10005037-1811422800-1811426400@shadescrest.org
SUMMARY:Women's Prayer Team
DESCRIPTION:
URL:https://shadescrest.org/event/womens-prayer-team/2027-05-27/
LOCATION:Family Life Center\, 2028 Rockland Drive\, Hoover\, AL\, 35226\, United States
CATEGORIES:Church Event,FLC Event
ATTACH;FMTTYPE=image/jpeg:https://shadescrest.org/wp-content/uploads/2026/02/womens-prayer-team.jpg
END:VEVENT
BEGIN:VEVENT
DTSTART;TZID=UTC:20270530T090000
DTEND;TZID=UTC:20270530T100000
DTSTAMP:20260425T131820
CREATED:20251114T164510Z
LAST-MODIFIED:20260220T002019Z
UID:10002743-1811667600-1811671200@shadescrest.org
SUMMARY:RISING Worship Service
DESCRIPTION:Come to our modern worship service\, Rising\, at 9:00 a.m. In the Rising service\, you’ll worship with our praise team and band in our church fellowship hall. You’ll see song lyrics and scripture passages projected on a screen\, and watch videos related to that day’s worship focus. Baskets are passed during this service\, offering you the opportunity to give. \nThe fellowship hall at Shades Crest is a multi-purpose space where we have meals as a church family\, host large churchwide and community events\, and have our weekly Rising worship service. \nOur speaker will preach on the same passage of scripture in this worship service as he does in the 11:00 a.m. service.
URL:https://shadescrest.org/event/rising-worship-service/2027-05-30/
LOCATION:Fellowship Hall\, 452 Park Avenue\, Hoover\, AL\, 35226\, United States
CATEGORIES:Church Event
ATTACH;FMTTYPE=image/jpeg:https://shadescrest.org/wp-content/uploads/2026/02/main-worship-slide-1.jpg
END:VEVENT
BEGIN:VEVENT
DTSTART;TZID=UTC:20270530T110000
DTEND;TZID=UTC:20270530T120000
DTSTAMP:20260425T131820
CREATED:20251114T164638Z
LAST-MODIFIED:20260220T002101Z
UID:10003004-1811674800-1811678400@shadescrest.org
SUMMARY:MAJESTIC Worship Service
DESCRIPTION:Majestic is our conventional worship service\, located in our church sanctuary. In this service\, you will worship with our sanctuary choir\, sing hymns and occasional choruses accompanied by piano\, pipe organ\, and sometimes our church orchestra. You will receive a printed bulletin as a guide for this worship service. Offering plates are passed during this service\, providing you the opportunity to give. \nOur speaker will preach on the same passage of scripture in this service as he does in the 9:00 a.m. service.
URL:https://shadescrest.org/event/majestic-worship-service/2027-05-30/
LOCATION:Church Sanctuary\, 452 Park Avenue\, Hoover\, AL\, 35226\, United States
CATEGORIES:Church Event
ATTACH;FMTTYPE=image/jpeg:https://shadescrest.org/wp-content/uploads/2026/02/main-worship-slide-1.jpg
END:VEVENT
BEGIN:VEVENT
DTSTART;TZID=UTC:20270531T090000
DTEND;TZID=UTC:20270531T120000
DTSTAMP:20260425T131820
CREATED:20240606T173300Z
LAST-MODIFIED:20260223T195015Z
UID:10000616-1811754000-1811764800@shadescrest.org
SUMMARY:Retired and Moving
DESCRIPTION:The senior adults gather every Monday at 9 AM in the FLC for games\, fellowship\, and crafts. On the 1st Monday of each month\, a lunch is served. Bring $5 to cover the cost.
URL:https://shadescrest.org/event/retired-and-moving-3/2027-05-31/
LOCATION:Family Life Center\, 2028 Rockland Drive\, Hoover\, AL\, 35226\, United States
CATEGORIES:FLC Event
ATTACH;FMTTYPE=image/jpeg:https://shadescrest.org/wp-content/uploads/2026/02/moving-2-1.jpg
END:VEVENT
BEGIN:VEVENT
DTSTART;TZID=UTC:20270602T164500
DTEND;TZID=UTC:20270602T200000
DTSTAMP:20260425T131820
CREATED:20240723T191342Z
LAST-MODIFIED:20260216T213352Z
UID:10000875-1811954700-1811966400@shadescrest.org
SUMMARY:Midpoint Wednesday Evening Activities
DESCRIPTION:Join us each Wednesday evening for activities and Bible Study for all ages beginning with dinner at 4:45pm in the Fellowship Hall.
URL:https://shadescrest.org/event/midpoint-wednesday-evening-activities/2027-06-02/
LOCATION:Entire Church Campus\, 452 Park Avenue\, Hoover\, AL\, 35226
CATEGORIES:Church Event
ATTACH;FMTTYPE=image/jpeg:https://shadescrest.org/wp-content/uploads/2026/02/midpoint-new.jpg
END:VEVENT
BEGIN:VEVENT
DTSTART;TZID=UTC:20270603T101500
DTEND;TZID=UTC:20270603T111500
DTSTAMP:20260425T131820
CREATED:20250206T202123Z
LAST-MODIFIED:20260107T205006Z
UID:10001972-1812017700-1812021300@shadescrest.org
SUMMARY:Mountainaires Choir Rehearsal
DESCRIPTION:New members are always welcome.
URL:https://shadescrest.org/event/mountainaires-choir-rehearsal/2027-06-03/
LOCATION:Music Suite
CATEGORIES:Senior Adults Event
ATTACH;FMTTYPE=image/jpeg:https://shadescrest.org/wp-content/uploads/2025/02/mountainaires.jpg
END:VEVENT
BEGIN:VEVENT
DTSTART;TZID=UTC:20270606T090000
DTEND;TZID=UTC:20270606T100000
DTSTAMP:20260425T131820
CREATED:20251114T164510Z
LAST-MODIFIED:20260220T002019Z
UID:10002744-1812272400-1812276000@shadescrest.org
SUMMARY:RISING Worship Service
DESCRIPTION:Come to our modern worship service\, Rising\, at 9:00 a.m. In the Rising service\, you’ll worship with our praise team and band in our church fellowship hall. You’ll see song lyrics and scripture passages projected on a screen\, and watch videos related to that day’s worship focus. Baskets are passed during this service\, offering you the opportunity to give. \nThe fellowship hall at Shades Crest is a multi-purpose space where we have meals as a church family\, host large churchwide and community events\, and have our weekly Rising worship service. \nOur speaker will preach on the same passage of scripture in this worship service as he does in the 11:00 a.m. service.
URL:https://shadescrest.org/event/rising-worship-service/2027-06-06/
LOCATION:Fellowship Hall\, 452 Park Avenue\, Hoover\, AL\, 35226\, United States
CATEGORIES:Church Event
ATTACH;FMTTYPE=image/jpeg:https://shadescrest.org/wp-content/uploads/2026/02/main-worship-slide-1.jpg
END:VEVENT
BEGIN:VEVENT
DTSTART;TZID=UTC:20270606T110000
DTEND;TZID=UTC:20270606T120000
DTSTAMP:20260425T131820
CREATED:20251114T164638Z
LAST-MODIFIED:20260220T002101Z
UID:10003005-1812279600-1812283200@shadescrest.org
SUMMARY:MAJESTIC Worship Service
DESCRIPTION:Majestic is our conventional worship service\, located in our church sanctuary. In this service\, you will worship with our sanctuary choir\, sing hymns and occasional choruses accompanied by piano\, pipe organ\, and sometimes our church orchestra. You will receive a printed bulletin as a guide for this worship service. Offering plates are passed during this service\, providing you the opportunity to give. \nOur speaker will preach on the same passage of scripture in this service as he does in the 9:00 a.m. service.
URL:https://shadescrest.org/event/majestic-worship-service/2027-06-06/
LOCATION:Church Sanctuary\, 452 Park Avenue\, Hoover\, AL\, 35226\, United States
CATEGORIES:Church Event
ATTACH;FMTTYPE=image/jpeg:https://shadescrest.org/wp-content/uploads/2026/02/main-worship-slide-1.jpg
END:VEVENT
BEGIN:VEVENT
DTSTART;TZID=UTC:20270607T090000
DTEND;TZID=UTC:20270607T120000
DTSTAMP:20260425T131820
CREATED:20240606T173300Z
LAST-MODIFIED:20260223T195015Z
UID:10000617-1812358800-1812369600@shadescrest.org
SUMMARY:Retired and Moving
DESCRIPTION:The senior adults gather every Monday at 9 AM in the FLC for games\, fellowship\, and crafts. On the 1st Monday of each month\, a lunch is served. Bring $5 to cover the cost.
URL:https://shadescrest.org/event/retired-and-moving-3/2027-06-07/
LOCATION:Family Life Center\, 2028 Rockland Drive\, Hoover\, AL\, 35226\, United States
CATEGORIES:FLC Event
ATTACH;FMTTYPE=image/jpeg:https://shadescrest.org/wp-content/uploads/2026/02/moving-2-1.jpg
END:VEVENT
BEGIN:VEVENT
DTSTART;TZID=UTC:20270609T164500
DTEND;TZID=UTC:20270609T200000
DTSTAMP:20260425T131820
CREATED:20240723T191342Z
LAST-MODIFIED:20260216T213352Z
UID:10000876-1812559500-1812571200@shadescrest.org
SUMMARY:Midpoint Wednesday Evening Activities
DESCRIPTION:Join us each Wednesday evening for activities and Bible Study for all ages beginning with dinner at 4:45pm in the Fellowship Hall.
URL:https://shadescrest.org/event/midpoint-wednesday-evening-activities/2027-06-09/
LOCATION:Entire Church Campus\, 452 Park Avenue\, Hoover\, AL\, 35226
CATEGORIES:Church Event
ATTACH;FMTTYPE=image/jpeg:https://shadescrest.org/wp-content/uploads/2026/02/midpoint-new.jpg
END:VEVENT
END:VCALENDAR