BEGIN:VCALENDAR
VERSION:2.0
PRODID:-//Shades Crest Baptist Church - ECPv6.15.20//NONSGML v1.0//EN
CALSCALE:GREGORIAN
METHOD:PUBLISH
X-WR-CALNAME:Shades Crest Baptist Church
X-ORIGINAL-URL:https://shadescrest.org
X-WR-CALDESC:Events for Shades Crest Baptist Church
REFRESH-INTERVAL;VALUE=DURATION:PT1H
X-Robots-Tag:noindex
X-PUBLISHED-TTL:PT1H
BEGIN:VTIMEZONE
TZID:UTC
BEGIN:STANDARD
TZOFFSETFROM:+0000
TZOFFSETTO:+0000
TZNAME:UTC
DTSTART:20260101T000000
END:STANDARD
END:VTIMEZONE
BEGIN:VEVENT
DTSTART;TZID=UTC:20270412T090000
DTEND;TZID=UTC:20270412T120000
DTSTAMP:20260425T145254
CREATED:20240606T173300Z
LAST-MODIFIED:20260223T195015Z
UID:10000609-1807520400-1807531200@shadescrest.org
SUMMARY:Retired and Moving
DESCRIPTION:The senior adults gather every Monday at 9 AM in the FLC for games\, fellowship\, and crafts. On the 1st Monday of each month\, a lunch is served. Bring $5 to cover the cost.
URL:https://shadescrest.org/event/retired-and-moving-3/2027-04-12/
LOCATION:Family Life Center\, 2028 Rockland Drive\, Hoover\, AL\, 35226\, United States
CATEGORIES:FLC Event
ATTACH;FMTTYPE=image/jpeg:https://shadescrest.org/wp-content/uploads/2026/02/moving-2-1.jpg
END:VEVENT
BEGIN:VEVENT
DTSTART;TZID=UTC:20270413T073000
DTEND;TZID=UTC:20270413T083000
DTSTAMP:20260425T145254
CREATED:20260218T005012Z
LAST-MODIFIED:20260218T005012Z
UID:10004965-1807601400-1807605000@shadescrest.org
SUMMARY:Men's Prayer Team
DESCRIPTION:
URL:https://shadescrest.org/event/mens-prayer-team/2027-04-13/
LOCATION:Family Life Center\, 2028 Rockland Drive\, Hoover\, AL\, 35226\, United States
CATEGORIES:Church Event,FLC Event
ATTACH;FMTTYPE=image/jpeg:https://shadescrest.org/wp-content/uploads/2026/02/mens-prayer-team.jpg
END:VEVENT
BEGIN:VEVENT
DTSTART;TZID=UTC:20270413T183000
DTEND;TZID=UTC:20270413T203000
DTSTAMP:20260425T145254
CREATED:20260224T190743Z
LAST-MODIFIED:20260224T225850Z
UID:10005100-1807641000-1807648200@shadescrest.org
SUMMARY:Ladies Fitness Bible Study
DESCRIPTION:
URL:https://shadescrest.org/event/ladies-fitness-bible-study/2027-04-13/
LOCATION:Family Life Center\, 2028 Rockland Drive\, Hoover\, AL\, 35226\, United States
CATEGORIES:FLC Event
ATTACH;FMTTYPE=image/jpeg:https://shadescrest.org/wp-content/uploads/2026/02/ladies-fitbess-bible-study2.jpg
END:VEVENT
BEGIN:VEVENT
DTSTART;TZID=UTC:20270414T164500
DTEND;TZID=UTC:20270414T200000
DTSTAMP:20260425T145254
CREATED:20240723T191342Z
LAST-MODIFIED:20260216T213352Z
UID:10000868-1807721100-1807732800@shadescrest.org
SUMMARY:Midpoint Wednesday Evening Activities
DESCRIPTION:Join us each Wednesday evening for activities and Bible Study for all ages beginning with dinner at 4:45pm in the Fellowship Hall.
URL:https://shadescrest.org/event/midpoint-wednesday-evening-activities/2027-04-14/
LOCATION:Entire Church Campus\, 452 Park Avenue\, Hoover\, AL\, 35226
CATEGORIES:Church Event
ATTACH;FMTTYPE=image/jpeg:https://shadescrest.org/wp-content/uploads/2026/02/midpoint-new.jpg
END:VEVENT
BEGIN:VEVENT
DTSTART;TZID=UTC:20270415T101500
DTEND;TZID=UTC:20270415T111500
DTSTAMP:20260425T145254
CREATED:20250206T202123Z
LAST-MODIFIED:20260107T205006Z
UID:10001965-1807784100-1807787700@shadescrest.org
SUMMARY:Mountainaires Choir Rehearsal
DESCRIPTION:New members are always welcome.
URL:https://shadescrest.org/event/mountainaires-choir-rehearsal/2027-04-15/
LOCATION:Music Suite
CATEGORIES:Senior Adults Event
ATTACH;FMTTYPE=image/jpeg:https://shadescrest.org/wp-content/uploads/2025/02/mountainaires.jpg
END:VEVENT
BEGIN:VEVENT
DTSTART;TZID=UTC:20270415T130000
DTEND;TZID=UTC:20270415T140000
DTSTAMP:20260425T145254
CREATED:20260221T232005Z
LAST-MODIFIED:20260221T232554Z
UID:10005031-1807794000-1807797600@shadescrest.org
SUMMARY:Women's Prayer Team
DESCRIPTION:
URL:https://shadescrest.org/event/womens-prayer-team/2027-04-15/
LOCATION:Family Life Center\, 2028 Rockland Drive\, Hoover\, AL\, 35226\, United States
CATEGORIES:Church Event,FLC Event
ATTACH;FMTTYPE=image/jpeg:https://shadescrest.org/wp-content/uploads/2026/02/womens-prayer-team.jpg
END:VEVENT
BEGIN:VEVENT
DTSTART;TZID=UTC:20270418T090000
DTEND;TZID=UTC:20270418T100000
DTSTAMP:20260425T145255
CREATED:20251114T164510Z
LAST-MODIFIED:20260220T002019Z
UID:10002737-1808038800-1808042400@shadescrest.org
SUMMARY:RISING Worship Service
DESCRIPTION:Come to our modern worship service\, Rising\, at 9:00 a.m. In the Rising service\, you’ll worship with our praise team and band in our church fellowship hall. You’ll see song lyrics and scripture passages projected on a screen\, and watch videos related to that day’s worship focus. Baskets are passed during this service\, offering you the opportunity to give. \nThe fellowship hall at Shades Crest is a multi-purpose space where we have meals as a church family\, host large churchwide and community events\, and have our weekly Rising worship service. \nOur speaker will preach on the same passage of scripture in this worship service as he does in the 11:00 a.m. service.
URL:https://shadescrest.org/event/rising-worship-service/2027-04-18/
LOCATION:Fellowship Hall\, 452 Park Avenue\, Hoover\, AL\, 35226\, United States
CATEGORIES:Church Event
ATTACH;FMTTYPE=image/jpeg:https://shadescrest.org/wp-content/uploads/2026/02/main-worship-slide-1.jpg
END:VEVENT
BEGIN:VEVENT
DTSTART;TZID=UTC:20270418T110000
DTEND;TZID=UTC:20270418T120000
DTSTAMP:20260425T145255
CREATED:20251114T164638Z
LAST-MODIFIED:20260220T002101Z
UID:10002998-1808046000-1808049600@shadescrest.org
SUMMARY:MAJESTIC Worship Service
DESCRIPTION:Majestic is our conventional worship service\, located in our church sanctuary. In this service\, you will worship with our sanctuary choir\, sing hymns and occasional choruses accompanied by piano\, pipe organ\, and sometimes our church orchestra. You will receive a printed bulletin as a guide for this worship service. Offering plates are passed during this service\, providing you the opportunity to give. \nOur speaker will preach on the same passage of scripture in this service as he does in the 9:00 a.m. service.
URL:https://shadescrest.org/event/majestic-worship-service/2027-04-18/
LOCATION:Church Sanctuary\, 452 Park Avenue\, Hoover\, AL\, 35226\, United States
CATEGORIES:Church Event
ATTACH;FMTTYPE=image/jpeg:https://shadescrest.org/wp-content/uploads/2026/02/main-worship-slide-1.jpg
END:VEVENT
BEGIN:VEVENT
DTSTART;TZID=UTC:20270419T090000
DTEND;TZID=UTC:20270419T120000
DTSTAMP:20260425T145255
CREATED:20240606T173300Z
LAST-MODIFIED:20260223T195015Z
UID:10000610-1808125200-1808136000@shadescrest.org
SUMMARY:Retired and Moving
DESCRIPTION:The senior adults gather every Monday at 9 AM in the FLC for games\, fellowship\, and crafts. On the 1st Monday of each month\, a lunch is served. Bring $5 to cover the cost.
URL:https://shadescrest.org/event/retired-and-moving-3/2027-04-19/
LOCATION:Family Life Center\, 2028 Rockland Drive\, Hoover\, AL\, 35226\, United States
CATEGORIES:FLC Event
ATTACH;FMTTYPE=image/jpeg:https://shadescrest.org/wp-content/uploads/2026/02/moving-2-1.jpg
END:VEVENT
BEGIN:VEVENT
DTSTART;TZID=UTC:20270420T073000
DTEND;TZID=UTC:20270420T083000
DTSTAMP:20260425T145255
CREATED:20260218T005012Z
LAST-MODIFIED:20260218T005012Z
UID:10004966-1808206200-1808209800@shadescrest.org
SUMMARY:Men's Prayer Team
DESCRIPTION:
URL:https://shadescrest.org/event/mens-prayer-team/2027-04-20/
LOCATION:Family Life Center\, 2028 Rockland Drive\, Hoover\, AL\, 35226\, United States
CATEGORIES:Church Event,FLC Event
ATTACH;FMTTYPE=image/jpeg:https://shadescrest.org/wp-content/uploads/2026/02/mens-prayer-team.jpg
END:VEVENT
BEGIN:VEVENT
DTSTART;TZID=UTC:20270420T183000
DTEND;TZID=UTC:20270420T203000
DTSTAMP:20260425T145255
CREATED:20260224T190743Z
LAST-MODIFIED:20260224T225850Z
UID:10005101-1808245800-1808253000@shadescrest.org
SUMMARY:Ladies Fitness Bible Study
DESCRIPTION:
URL:https://shadescrest.org/event/ladies-fitness-bible-study/2027-04-20/
LOCATION:Family Life Center\, 2028 Rockland Drive\, Hoover\, AL\, 35226\, United States
CATEGORIES:FLC Event
ATTACH;FMTTYPE=image/jpeg:https://shadescrest.org/wp-content/uploads/2026/02/ladies-fitbess-bible-study2.jpg
END:VEVENT
BEGIN:VEVENT
DTSTART;TZID=UTC:20270421T164500
DTEND;TZID=UTC:20270421T200000
DTSTAMP:20260425T145255
CREATED:20240723T191342Z
LAST-MODIFIED:20260216T213352Z
UID:10000869-1808325900-1808337600@shadescrest.org
SUMMARY:Midpoint Wednesday Evening Activities
DESCRIPTION:Join us each Wednesday evening for activities and Bible Study for all ages beginning with dinner at 4:45pm in the Fellowship Hall.
URL:https://shadescrest.org/event/midpoint-wednesday-evening-activities/2027-04-21/
LOCATION:Entire Church Campus\, 452 Park Avenue\, Hoover\, AL\, 35226
CATEGORIES:Church Event
ATTACH;FMTTYPE=image/jpeg:https://shadescrest.org/wp-content/uploads/2026/02/midpoint-new.jpg
END:VEVENT
BEGIN:VEVENT
DTSTART;TZID=UTC:20270422T101500
DTEND;TZID=UTC:20270422T111500
DTSTAMP:20260425T145255
CREATED:20250206T202123Z
LAST-MODIFIED:20260107T205006Z
UID:10001966-1808388900-1808392500@shadescrest.org
SUMMARY:Mountainaires Choir Rehearsal
DESCRIPTION:New members are always welcome.
URL:https://shadescrest.org/event/mountainaires-choir-rehearsal/2027-04-22/
LOCATION:Music Suite
CATEGORIES:Senior Adults Event
ATTACH;FMTTYPE=image/jpeg:https://shadescrest.org/wp-content/uploads/2025/02/mountainaires.jpg
END:VEVENT
BEGIN:VEVENT
DTSTART;TZID=UTC:20270422T130000
DTEND;TZID=UTC:20270422T140000
DTSTAMP:20260425T145255
CREATED:20260221T232005Z
LAST-MODIFIED:20260221T232554Z
UID:10005032-1808398800-1808402400@shadescrest.org
SUMMARY:Women's Prayer Team
DESCRIPTION:
URL:https://shadescrest.org/event/womens-prayer-team/2027-04-22/
LOCATION:Family Life Center\, 2028 Rockland Drive\, Hoover\, AL\, 35226\, United States
CATEGORIES:Church Event,FLC Event
ATTACH;FMTTYPE=image/jpeg:https://shadescrest.org/wp-content/uploads/2026/02/womens-prayer-team.jpg
END:VEVENT
BEGIN:VEVENT
DTSTART;TZID=UTC:20270425T090000
DTEND;TZID=UTC:20270425T100000
DTSTAMP:20260425T145255
CREATED:20251114T164510Z
LAST-MODIFIED:20260220T002019Z
UID:10002738-1808643600-1808647200@shadescrest.org
SUMMARY:RISING Worship Service
DESCRIPTION:Come to our modern worship service\, Rising\, at 9:00 a.m. In the Rising service\, you’ll worship with our praise team and band in our church fellowship hall. You’ll see song lyrics and scripture passages projected on a screen\, and watch videos related to that day’s worship focus. Baskets are passed during this service\, offering you the opportunity to give. \nThe fellowship hall at Shades Crest is a multi-purpose space where we have meals as a church family\, host large churchwide and community events\, and have our weekly Rising worship service. \nOur speaker will preach on the same passage of scripture in this worship service as he does in the 11:00 a.m. service.
URL:https://shadescrest.org/event/rising-worship-service/2027-04-25/
LOCATION:Fellowship Hall\, 452 Park Avenue\, Hoover\, AL\, 35226\, United States
CATEGORIES:Church Event
ATTACH;FMTTYPE=image/jpeg:https://shadescrest.org/wp-content/uploads/2026/02/main-worship-slide-1.jpg
END:VEVENT
BEGIN:VEVENT
DTSTART;TZID=UTC:20270425T110000
DTEND;TZID=UTC:20270425T120000
DTSTAMP:20260425T145255
CREATED:20251114T164638Z
LAST-MODIFIED:20260220T002101Z
UID:10002999-1808650800-1808654400@shadescrest.org
SUMMARY:MAJESTIC Worship Service
DESCRIPTION:Majestic is our conventional worship service\, located in our church sanctuary. In this service\, you will worship with our sanctuary choir\, sing hymns and occasional choruses accompanied by piano\, pipe organ\, and sometimes our church orchestra. You will receive a printed bulletin as a guide for this worship service. Offering plates are passed during this service\, providing you the opportunity to give. \nOur speaker will preach on the same passage of scripture in this service as he does in the 9:00 a.m. service.
URL:https://shadescrest.org/event/majestic-worship-service/2027-04-25/
LOCATION:Church Sanctuary\, 452 Park Avenue\, Hoover\, AL\, 35226\, United States
CATEGORIES:Church Event
ATTACH;FMTTYPE=image/jpeg:https://shadescrest.org/wp-content/uploads/2026/02/main-worship-slide-1.jpg
END:VEVENT
BEGIN:VEVENT
DTSTART;TZID=UTC:20270426T090000
DTEND;TZID=UTC:20270426T120000
DTSTAMP:20260425T145255
CREATED:20240606T173300Z
LAST-MODIFIED:20260223T195015Z
UID:10000611-1808730000-1808740800@shadescrest.org
SUMMARY:Retired and Moving
DESCRIPTION:The senior adults gather every Monday at 9 AM in the FLC for games\, fellowship\, and crafts. On the 1st Monday of each month\, a lunch is served. Bring $5 to cover the cost.
URL:https://shadescrest.org/event/retired-and-moving-3/2027-04-26/
LOCATION:Family Life Center\, 2028 Rockland Drive\, Hoover\, AL\, 35226\, United States
CATEGORIES:FLC Event
ATTACH;FMTTYPE=image/jpeg:https://shadescrest.org/wp-content/uploads/2026/02/moving-2-1.jpg
END:VEVENT
BEGIN:VEVENT
DTSTART;TZID=UTC:20270427T073000
DTEND;TZID=UTC:20270427T083000
DTSTAMP:20260425T145255
CREATED:20260218T005012Z
LAST-MODIFIED:20260218T005012Z
UID:10004967-1808811000-1808814600@shadescrest.org
SUMMARY:Men's Prayer Team
DESCRIPTION:
URL:https://shadescrest.org/event/mens-prayer-team/2027-04-27/
LOCATION:Family Life Center\, 2028 Rockland Drive\, Hoover\, AL\, 35226\, United States
CATEGORIES:Church Event,FLC Event
ATTACH;FMTTYPE=image/jpeg:https://shadescrest.org/wp-content/uploads/2026/02/mens-prayer-team.jpg
END:VEVENT
BEGIN:VEVENT
DTSTART;TZID=UTC:20270427T183000
DTEND;TZID=UTC:20270427T203000
DTSTAMP:20260425T145255
CREATED:20260224T190743Z
LAST-MODIFIED:20260224T225850Z
UID:10005102-1808850600-1808857800@shadescrest.org
SUMMARY:Ladies Fitness Bible Study
DESCRIPTION:
URL:https://shadescrest.org/event/ladies-fitness-bible-study/2027-04-27/
LOCATION:Family Life Center\, 2028 Rockland Drive\, Hoover\, AL\, 35226\, United States
CATEGORIES:FLC Event
ATTACH;FMTTYPE=image/jpeg:https://shadescrest.org/wp-content/uploads/2026/02/ladies-fitbess-bible-study2.jpg
END:VEVENT
BEGIN:VEVENT
DTSTART;TZID=UTC:20270428T164500
DTEND;TZID=UTC:20270428T200000
DTSTAMP:20260425T145255
CREATED:20240723T191342Z
LAST-MODIFIED:20260216T213352Z
UID:10000870-1808930700-1808942400@shadescrest.org
SUMMARY:Midpoint Wednesday Evening Activities
DESCRIPTION:Join us each Wednesday evening for activities and Bible Study for all ages beginning with dinner at 4:45pm in the Fellowship Hall.
URL:https://shadescrest.org/event/midpoint-wednesday-evening-activities/2027-04-28/
LOCATION:Entire Church Campus\, 452 Park Avenue\, Hoover\, AL\, 35226
CATEGORIES:Church Event
ATTACH;FMTTYPE=image/jpeg:https://shadescrest.org/wp-content/uploads/2026/02/midpoint-new.jpg
END:VEVENT
BEGIN:VEVENT
DTSTART;TZID=UTC:20270429T101500
DTEND;TZID=UTC:20270429T111500
DTSTAMP:20260425T145255
CREATED:20250206T202123Z
LAST-MODIFIED:20260107T205006Z
UID:10001967-1808993700-1808997300@shadescrest.org
SUMMARY:Mountainaires Choir Rehearsal
DESCRIPTION:New members are always welcome.
URL:https://shadescrest.org/event/mountainaires-choir-rehearsal/2027-04-29/
LOCATION:Music Suite
CATEGORIES:Senior Adults Event
ATTACH;FMTTYPE=image/jpeg:https://shadescrest.org/wp-content/uploads/2025/02/mountainaires.jpg
END:VEVENT
BEGIN:VEVENT
DTSTART;TZID=UTC:20270429T130000
DTEND;TZID=UTC:20270429T140000
DTSTAMP:20260425T145255
CREATED:20260221T232005Z
LAST-MODIFIED:20260221T232554Z
UID:10005033-1809003600-1809007200@shadescrest.org
SUMMARY:Women's Prayer Team
DESCRIPTION:
URL:https://shadescrest.org/event/womens-prayer-team/2027-04-29/
LOCATION:Family Life Center\, 2028 Rockland Drive\, Hoover\, AL\, 35226\, United States
CATEGORIES:Church Event,FLC Event
ATTACH;FMTTYPE=image/jpeg:https://shadescrest.org/wp-content/uploads/2026/02/womens-prayer-team.jpg
END:VEVENT
BEGIN:VEVENT
DTSTART;TZID=UTC:20270502T090000
DTEND;TZID=UTC:20270502T100000
DTSTAMP:20260425T145255
CREATED:20251114T164510Z
LAST-MODIFIED:20260220T002019Z
UID:10002739-1809248400-1809252000@shadescrest.org
SUMMARY:RISING Worship Service
DESCRIPTION:Come to our modern worship service\, Rising\, at 9:00 a.m. In the Rising service\, you’ll worship with our praise team and band in our church fellowship hall. You’ll see song lyrics and scripture passages projected on a screen\, and watch videos related to that day’s worship focus. Baskets are passed during this service\, offering you the opportunity to give. \nThe fellowship hall at Shades Crest is a multi-purpose space where we have meals as a church family\, host large churchwide and community events\, and have our weekly Rising worship service. \nOur speaker will preach on the same passage of scripture in this worship service as he does in the 11:00 a.m. service.
URL:https://shadescrest.org/event/rising-worship-service/2027-05-02/
LOCATION:Fellowship Hall\, 452 Park Avenue\, Hoover\, AL\, 35226\, United States
CATEGORIES:Church Event
ATTACH;FMTTYPE=image/jpeg:https://shadescrest.org/wp-content/uploads/2026/02/main-worship-slide-1.jpg
END:VEVENT
BEGIN:VEVENT
DTSTART;TZID=UTC:20270502T110000
DTEND;TZID=UTC:20270502T120000
DTSTAMP:20260425T145255
CREATED:20251114T164638Z
LAST-MODIFIED:20260220T002101Z
UID:10003000-1809255600-1809259200@shadescrest.org
SUMMARY:MAJESTIC Worship Service
DESCRIPTION:Majestic is our conventional worship service\, located in our church sanctuary. In this service\, you will worship with our sanctuary choir\, sing hymns and occasional choruses accompanied by piano\, pipe organ\, and sometimes our church orchestra. You will receive a printed bulletin as a guide for this worship service. Offering plates are passed during this service\, providing you the opportunity to give. \nOur speaker will preach on the same passage of scripture in this service as he does in the 9:00 a.m. service.
URL:https://shadescrest.org/event/majestic-worship-service/2027-05-02/
LOCATION:Church Sanctuary\, 452 Park Avenue\, Hoover\, AL\, 35226\, United States
CATEGORIES:Church Event
ATTACH;FMTTYPE=image/jpeg:https://shadescrest.org/wp-content/uploads/2026/02/main-worship-slide-1.jpg
END:VEVENT
BEGIN:VEVENT
DTSTART;TZID=UTC:20270503T090000
DTEND;TZID=UTC:20270503T120000
DTSTAMP:20260425T145255
CREATED:20240606T173300Z
LAST-MODIFIED:20260223T195015Z
UID:10000612-1809334800-1809345600@shadescrest.org
SUMMARY:Retired and Moving
DESCRIPTION:The senior adults gather every Monday at 9 AM in the FLC for games\, fellowship\, and crafts. On the 1st Monday of each month\, a lunch is served. Bring $5 to cover the cost.
URL:https://shadescrest.org/event/retired-and-moving-3/2027-05-03/
LOCATION:Family Life Center\, 2028 Rockland Drive\, Hoover\, AL\, 35226\, United States
CATEGORIES:FLC Event
ATTACH;FMTTYPE=image/jpeg:https://shadescrest.org/wp-content/uploads/2026/02/moving-2-1.jpg
END:VEVENT
BEGIN:VEVENT
DTSTART;TZID=UTC:20270504T073000
DTEND;TZID=UTC:20270504T083000
DTSTAMP:20260425T145255
CREATED:20260218T005012Z
LAST-MODIFIED:20260218T005012Z
UID:10004968-1809415800-1809419400@shadescrest.org
SUMMARY:Men's Prayer Team
DESCRIPTION:
URL:https://shadescrest.org/event/mens-prayer-team/2027-05-04/
LOCATION:Family Life Center\, 2028 Rockland Drive\, Hoover\, AL\, 35226\, United States
CATEGORIES:Church Event,FLC Event
ATTACH;FMTTYPE=image/jpeg:https://shadescrest.org/wp-content/uploads/2026/02/mens-prayer-team.jpg
END:VEVENT
BEGIN:VEVENT
DTSTART;TZID=UTC:20270504T183000
DTEND;TZID=UTC:20270504T203000
DTSTAMP:20260425T145255
CREATED:20260224T190743Z
LAST-MODIFIED:20260224T225850Z
UID:10005103-1809455400-1809462600@shadescrest.org
SUMMARY:Ladies Fitness Bible Study
DESCRIPTION:
URL:https://shadescrest.org/event/ladies-fitness-bible-study/2027-05-04/
LOCATION:Family Life Center\, 2028 Rockland Drive\, Hoover\, AL\, 35226\, United States
CATEGORIES:FLC Event
ATTACH;FMTTYPE=image/jpeg:https://shadescrest.org/wp-content/uploads/2026/02/ladies-fitbess-bible-study2.jpg
END:VEVENT
BEGIN:VEVENT
DTSTART;TZID=UTC:20270505T164500
DTEND;TZID=UTC:20270505T200000
DTSTAMP:20260425T145255
CREATED:20240723T191342Z
LAST-MODIFIED:20260216T213352Z
UID:10000871-1809535500-1809547200@shadescrest.org
SUMMARY:Midpoint Wednesday Evening Activities
DESCRIPTION:Join us each Wednesday evening for activities and Bible Study for all ages beginning with dinner at 4:45pm in the Fellowship Hall.
URL:https://shadescrest.org/event/midpoint-wednesday-evening-activities/2027-05-05/
LOCATION:Entire Church Campus\, 452 Park Avenue\, Hoover\, AL\, 35226
CATEGORIES:Church Event
ATTACH;FMTTYPE=image/jpeg:https://shadescrest.org/wp-content/uploads/2026/02/midpoint-new.jpg
END:VEVENT
BEGIN:VEVENT
DTSTART;TZID=UTC:20270506T101500
DTEND;TZID=UTC:20270506T111500
DTSTAMP:20260425T145255
CREATED:20250206T202123Z
LAST-MODIFIED:20260107T205006Z
UID:10001968-1809598500-1809602100@shadescrest.org
SUMMARY:Mountainaires Choir Rehearsal
DESCRIPTION:New members are always welcome.
URL:https://shadescrest.org/event/mountainaires-choir-rehearsal/2027-05-06/
LOCATION:Music Suite
CATEGORIES:Senior Adults Event
ATTACH;FMTTYPE=image/jpeg:https://shadescrest.org/wp-content/uploads/2025/02/mountainaires.jpg
END:VEVENT
BEGIN:VEVENT
DTSTART;TZID=UTC:20270506T130000
DTEND;TZID=UTC:20270506T140000
DTSTAMP:20260425T145255
CREATED:20260221T232005Z
LAST-MODIFIED:20260221T232554Z
UID:10005034-1809608400-1809612000@shadescrest.org
SUMMARY:Women's Prayer Team
DESCRIPTION:
URL:https://shadescrest.org/event/womens-prayer-team/2027-05-06/
LOCATION:Family Life Center\, 2028 Rockland Drive\, Hoover\, AL\, 35226\, United States
CATEGORIES:Church Event,FLC Event
ATTACH;FMTTYPE=image/jpeg:https://shadescrest.org/wp-content/uploads/2026/02/womens-prayer-team.jpg
END:VEVENT
END:VCALENDAR