BEGIN:VCALENDAR
VERSION:2.0
PRODID:-//Shades Crest Baptist Church - ECPv6.15.20//NONSGML v1.0//EN
CALSCALE:GREGORIAN
METHOD:PUBLISH
X-WR-CALNAME:Shades Crest Baptist Church
X-ORIGINAL-URL:https://shadescrest.org
X-WR-CALDESC:Events for Shades Crest Baptist Church
REFRESH-INTERVAL;VALUE=DURATION:PT1H
X-Robots-Tag:noindex
X-PUBLISHED-TTL:PT1H
BEGIN:VTIMEZONE
TZID:UTC
BEGIN:STANDARD
TZOFFSETFROM:+0000
TZOFFSETTO:+0000
TZNAME:UTC
DTSTART:20230101T000000
END:STANDARD
END:VTIMEZONE
BEGIN:VEVENT
DTSTART;TZID=UTC:20240922T120000
DTEND;TZID=UTC:20240922T140000
DTSTAMP:20260425T113118
CREATED:20240911T154007Z
LAST-MODIFIED:20240911T154007Z
UID:10001800-1727006400-1727013600@shadescrest.org
SUMMARY:Bible Drill Kick-Off
DESCRIPTION:
URL:https://shadescrest.org/event/bible-drill-kick-off/
LOCATION:Children’s Worship Room – Rockland Building\, 452 Park Avenue\, Hoover\, AL\, 35226\, United States
ATTACH;FMTTYPE=image/jpeg:https://shadescrest.org/wp-content/uploads/2024/09/Bible-Drill-sept-22.jpg
END:VEVENT
BEGIN:VEVENT
DTSTART;TZID=UTC:20240922T090000
DTEND;TZID=UTC:20240922T120000
DTSTAMP:20260425T113118
CREATED:20240724T175410Z
LAST-MODIFIED:20240724T175412Z
UID:10000411-1726995600-1727006400@shadescrest.org
SUMMARY:Sunday Services
DESCRIPTION:Sunday services consist of Rising service (Modern) at 9 pm in Fellowship Hall\, Connect Groups at 10 am in classrooms\, and Majestic service (Traditional) at 11 pm in Sanctuary. Both services are Livestreamed.
URL:https://shadescrest.org/event/sunday-services-8-4/2024-09-22/
LOCATION:Entire Church Campus\, 452 Park Avenue\, Hoover\, AL\, 35226
CATEGORIES:Church Event
ATTACH;FMTTYPE=image/jpeg:https://shadescrest.org/wp-content/uploads/2024/07/sunday-service.jpg
END:VEVENT
BEGIN:VEVENT
DTSTART;TZID=UTC:20240919T160000
DTEND;TZID=UTC:20240919T170000
DTSTAMP:20260425T113118
CREATED:20240730T174724Z
LAST-MODIFIED:20240730T174724Z
UID:10001273-1726761600-1726765200@shadescrest.org
SUMMARY:Fitness Workouts
DESCRIPTION:Fitness Workouts for all ages led by Abby Allen.
URL:https://shadescrest.org/event/fitness-workouts/2024-09-19/
LOCATION:Family Life Center\, 2028 Rockland Drive\, Hoover\, AL\, 35226\, United States
CATEGORIES:FLC Event
END:VEVENT
BEGIN:VEVENT
DTSTART;TZID=UTC:20240919T113000
DTEND;TZID=UTC:20240919T130000
DTSTAMP:20260425T113118
CREATED:20240829T205143Z
LAST-MODIFIED:20240829T210252Z
UID:10001528-1726745400-1726750800@shadescrest.org
SUMMARY:Triple LLL Meets
DESCRIPTION:This will be a potluck! Plan to join us and Dr. Jim Auchmuty for lots of laughs at things that happened during his ministry. You will not want to miss this time together!
URL:https://shadescrest.org/event/triple-lll-meets/
LOCATION:Fellowship Hall\, 452 Park Avenue\, Hoover\, AL\, 35226\, United States
ATTACH;FMTTYPE=image/jpeg:https://shadescrest.org/wp-content/uploads/2024/08/Triple-LLL-Generic.jpg
END:VEVENT
BEGIN:VEVENT
DTSTART;TZID=UTC:20240919T101500
DTEND;TZID=UTC:20240919T113000
DTSTAMP:20260425T113118
CREATED:20240919T160220Z
LAST-MODIFIED:20240919T160234Z
UID:10001805-1726740900-1726745400@shadescrest.org
SUMMARY:The Mountainaires Senior Adult Choir
DESCRIPTION:Attention\, Senior Adult Choir! We’ll have a more extended rehearsal this week\,\nstarting at 10:15 AM (15 minutes earlier). See y’all then!
URL:https://shadescrest.org/event/the-mountainaires-senior-adult-choir-2/
LOCATION:Music Suite
ATTACH;FMTTYPE=image/jpeg:https://shadescrest.org/wp-content/uploads/2024/09/mountainaires-single-time.jpg
END:VEVENT
BEGIN:VEVENT
DTSTART;TZID=UTC:20240918T164500
DTEND;TZID=UTC:20240918T200000
DTSTAMP:20260425T113118
CREATED:20240723T191342Z
LAST-MODIFIED:20260216T213352Z
UID:10000734-1726677900-1726689600@shadescrest.org
SUMMARY:Midpoint Wednesday Evening Activities
DESCRIPTION:Join us each Wednesday evening for activities and Bible Study for all ages beginning with dinner at 4:45pm in the Fellowship Hall.
URL:https://shadescrest.org/event/midpoint-wednesday-evening-activities/2024-09-18/
LOCATION:Entire Church Campus\, 452 Park Avenue\, Hoover\, AL\, 35226
CATEGORIES:Church Event
ATTACH;FMTTYPE=image/jpeg:https://shadescrest.org/wp-content/uploads/2026/02/midpoint-new.jpg
END:VEVENT
BEGIN:VEVENT
DTSTART;TZID=UTC:20240918T160000
DTEND;TZID=UTC:20240918T170000
DTSTAMP:20260425T113118
CREATED:20240730T174724Z
LAST-MODIFIED:20240730T174724Z
UID:10001272-1726675200-1726678800@shadescrest.org
SUMMARY:Fitness Workouts
DESCRIPTION:Fitness Workouts for all ages led by Abby Allen.
URL:https://shadescrest.org/event/fitness-workouts/2024-09-18/
LOCATION:Family Life Center\, 2028 Rockland Drive\, Hoover\, AL\, 35226\, United States
CATEGORIES:FLC Event
END:VEVENT
BEGIN:VEVENT
DTSTART;TZID=UTC:20240917T183000
DTEND;TZID=UTC:20240917T203000
DTSTAMP:20260425T113118
CREATED:20240613T172439Z
LAST-MODIFIED:20240613T172439Z
UID:10000070-1726597800-1726605000@shadescrest.org
SUMMARY:Wellness Bible Study
DESCRIPTION:
URL:https://shadescrest.org/event/wellness-bible-study/2024-09-17/
LOCATION:Family Life Center\, 2028 Rockland Drive\, Hoover\, AL\, 35226\, United States
CATEGORIES:FLC Event
ATTACH;FMTTYPE=image/jpeg:https://shadescrest.org/wp-content/uploads/2022/09/FLC-1.jpeg
END:VEVENT
BEGIN:VEVENT
DTSTART;TZID=UTC:20240917T140000
DTEND;TZID=UTC:20240917T150000
DTSTAMP:20260425T113118
CREATED:20240812T185711Z
LAST-MODIFIED:20240812T190313Z
UID:10001511-1726581600-1726585200@shadescrest.org
SUMMARY:How To Have An Abundant Life Class
DESCRIPTION:This course\, designed and written by Ken Cook\, offers suggestions to help us have a more abundant life.
URL:https://shadescrest.org/event/hoe-to-have-an-abundant-life-class/2024-09-17/
LOCATION:Room 102\, 452 Park Avenue\, Hoover\, AL\, 35226\, United States
ATTACH;FMTTYPE=image/jpeg:https://shadescrest.org/wp-content/uploads/2024/08/abundant-life.jpg
END:VEVENT
BEGIN:VEVENT
DTSTART;TZID=UTC:20240916T160000
DTEND;TZID=UTC:20240916T170000
DTSTAMP:20260425T113118
CREATED:20240730T174724Z
LAST-MODIFIED:20240730T174724Z
UID:10001271-1726502400-1726506000@shadescrest.org
SUMMARY:Fitness Workouts
DESCRIPTION:Fitness Workouts for all ages led by Abby Allen.
URL:https://shadescrest.org/event/fitness-workouts/2024-09-16/
LOCATION:Family Life Center\, 2028 Rockland Drive\, Hoover\, AL\, 35226\, United States
CATEGORIES:FLC Event
END:VEVENT
BEGIN:VEVENT
DTSTART;TZID=UTC:20240916T090000
DTEND;TZID=UTC:20240916T120000
DTSTAMP:20260425T113118
CREATED:20240606T173300Z
LAST-MODIFIED:20260223T195015Z
UID:10000475-1726477200-1726488000@shadescrest.org
SUMMARY:Retired and Moving
DESCRIPTION:The senior adults gather every Monday at 9 AM in the FLC for games\, fellowship\, and crafts. On the 1st Monday of each month\, a lunch is served. Bring $5 to cover the cost.
URL:https://shadescrest.org/event/retired-and-moving-3/2024-09-16/
LOCATION:Family Life Center\, 2028 Rockland Drive\, Hoover\, AL\, 35226\, United States
CATEGORIES:FLC Event
ATTACH;FMTTYPE=image/jpeg:https://shadescrest.org/wp-content/uploads/2026/02/moving-2-1.jpg
END:VEVENT
BEGIN:VEVENT
DTSTART;TZID=UTC:20240915T110000
DTEND;TZID=UTC:20240915T120000
DTSTAMP:20260425T113118
CREATED:20240821T163640Z
LAST-MODIFIED:20240821T163640Z
UID:10001525-1726398000-1726401600@shadescrest.org
SUMMARY:1st Grade Bible Presentation
DESCRIPTION:
URL:https://shadescrest.org/event/1st-grade-bible-presentation/
LOCATION:Church Sanctuary\, 452 Park Avenue\, Hoover\, AL\, 35226\, United States
ATTACH;FMTTYPE=image/jpeg:https://shadescrest.org/wp-content/uploads/2024/08/1st-grade-bible-presentation.jpg
END:VEVENT
BEGIN:VEVENT
DTSTART;TZID=UTC:20240915T090000
DTEND;TZID=UTC:20240915T120000
DTSTAMP:20260425T113118
CREATED:20240724T175410Z
LAST-MODIFIED:20240724T175412Z
UID:10000410-1726390800-1726401600@shadescrest.org
SUMMARY:Sunday Services
DESCRIPTION:Sunday services consist of Rising service (Modern) at 9 pm in Fellowship Hall\, Connect Groups at 10 am in classrooms\, and Majestic service (Traditional) at 11 pm in Sanctuary. Both services are Livestreamed.
URL:https://shadescrest.org/event/sunday-services-8-4/2024-09-15/
LOCATION:Entire Church Campus\, 452 Park Avenue\, Hoover\, AL\, 35226
CATEGORIES:Church Event
ATTACH;FMTTYPE=image/jpeg:https://shadescrest.org/wp-content/uploads/2024/07/sunday-service.jpg
END:VEVENT
BEGIN:VEVENT
DTSTART;TZID=UTC:20240912T160000
DTEND;TZID=UTC:20240912T170000
DTSTAMP:20260425T113118
CREATED:20240730T174724Z
LAST-MODIFIED:20240730T174724Z
UID:10001270-1726156800-1726160400@shadescrest.org
SUMMARY:Fitness Workouts
DESCRIPTION:Fitness Workouts for all ages led by Abby Allen.
URL:https://shadescrest.org/event/fitness-workouts/2024-09-12/
LOCATION:Family Life Center\, 2028 Rockland Drive\, Hoover\, AL\, 35226\, United States
CATEGORIES:FLC Event
END:VEVENT
BEGIN:VEVENT
DTSTART;TZID=UTC:20240911T180000
DTEND;TZID=UTC:20240911T190000
DTSTAMP:20260425T113118
CREATED:20240829T211527Z
LAST-MODIFIED:20240829T212018Z
UID:10001529-1726077600-1726081200@shadescrest.org
SUMMARY:Talk With Caris Snider
DESCRIPTION:Hear Caris Snider\, author of “Anxiety Elephants”. This event is for youth and youth parents.
URL:https://shadescrest.org/event/talk-with-caris-snider/
LOCATION:Room 223\, 452 Park Avenue\, Hoover\, AL\, 35226\, United States
END:VEVENT
BEGIN:VEVENT
DTSTART;TZID=UTC:20240911T164500
DTEND;TZID=UTC:20240911T200000
DTSTAMP:20260425T113118
CREATED:20240723T191342Z
LAST-MODIFIED:20260216T213352Z
UID:10000733-1726073100-1726084800@shadescrest.org
SUMMARY:Midpoint Wednesday Evening Activities
DESCRIPTION:Join us each Wednesday evening for activities and Bible Study for all ages beginning with dinner at 4:45pm in the Fellowship Hall.
URL:https://shadescrest.org/event/midpoint-wednesday-evening-activities/2024-09-11/
LOCATION:Entire Church Campus\, 452 Park Avenue\, Hoover\, AL\, 35226
CATEGORIES:Church Event
ATTACH;FMTTYPE=image/jpeg:https://shadescrest.org/wp-content/uploads/2026/02/midpoint-new.jpg
END:VEVENT
BEGIN:VEVENT
DTSTART;TZID=UTC:20240911T160000
DTEND;TZID=UTC:20240911T170000
DTSTAMP:20260425T113118
CREATED:20240730T174724Z
LAST-MODIFIED:20240730T174724Z
UID:10001269-1726070400-1726074000@shadescrest.org
SUMMARY:Fitness Workouts
DESCRIPTION:Fitness Workouts for all ages led by Abby Allen.
URL:https://shadescrest.org/event/fitness-workouts/2024-09-11/
LOCATION:Family Life Center\, 2028 Rockland Drive\, Hoover\, AL\, 35226\, United States
CATEGORIES:FLC Event
END:VEVENT
BEGIN:VEVENT
DTSTART;TZID=UTC:20240910T183000
DTEND;TZID=UTC:20240910T203000
DTSTAMP:20260425T113118
CREATED:20240613T172439Z
LAST-MODIFIED:20240613T172439Z
UID:10000069-1725993000-1726000200@shadescrest.org
SUMMARY:Wellness Bible Study
DESCRIPTION:
URL:https://shadescrest.org/event/wellness-bible-study/2024-09-10/
LOCATION:Family Life Center\, 2028 Rockland Drive\, Hoover\, AL\, 35226\, United States
CATEGORIES:FLC Event
ATTACH;FMTTYPE=image/jpeg:https://shadescrest.org/wp-content/uploads/2022/09/FLC-1.jpeg
END:VEVENT
BEGIN:VEVENT
DTSTART;TZID=UTC:20240910T140000
DTEND;TZID=UTC:20240910T150000
DTSTAMP:20260425T113118
CREATED:20240812T185711Z
LAST-MODIFIED:20240812T190313Z
UID:10001510-1725976800-1725980400@shadescrest.org
SUMMARY:How To Have An Abundant Life Class
DESCRIPTION:This course\, designed and written by Ken Cook\, offers suggestions to help us have a more abundant life.
URL:https://shadescrest.org/event/hoe-to-have-an-abundant-life-class/2024-09-10/
LOCATION:Room 102\, 452 Park Avenue\, Hoover\, AL\, 35226\, United States
ATTACH;FMTTYPE=image/jpeg:https://shadescrest.org/wp-content/uploads/2024/08/abundant-life.jpg
END:VEVENT
BEGIN:VEVENT
DTSTART;TZID=UTC:20240909T160000
DTEND;TZID=UTC:20240909T170000
DTSTAMP:20260425T113118
CREATED:20240730T174724Z
LAST-MODIFIED:20240730T174724Z
UID:10001268-1725897600-1725901200@shadescrest.org
SUMMARY:Fitness Workouts
DESCRIPTION:Fitness Workouts for all ages led by Abby Allen.
URL:https://shadescrest.org/event/fitness-workouts/2024-09-09/
LOCATION:Family Life Center\, 2028 Rockland Drive\, Hoover\, AL\, 35226\, United States
CATEGORIES:FLC Event
END:VEVENT
BEGIN:VEVENT
DTSTART;TZID=UTC:20240909T090000
DTEND;TZID=UTC:20240909T120000
DTSTAMP:20260425T113118
CREATED:20240606T173300Z
LAST-MODIFIED:20260223T195015Z
UID:10000474-1725872400-1725883200@shadescrest.org
SUMMARY:Retired and Moving
DESCRIPTION:The senior adults gather every Monday at 9 AM in the FLC for games\, fellowship\, and crafts. On the 1st Monday of each month\, a lunch is served. Bring $5 to cover the cost.
URL:https://shadescrest.org/event/retired-and-moving-3/2024-09-09/
LOCATION:Family Life Center\, 2028 Rockland Drive\, Hoover\, AL\, 35226\, United States
CATEGORIES:FLC Event
ATTACH;FMTTYPE=image/jpeg:https://shadescrest.org/wp-content/uploads/2026/02/moving-2-1.jpg
END:VEVENT
BEGIN:VEVENT
DTSTART;TZID=UTC:20240908T170000
DTEND;TZID=UTC:20240908T190000
DTSTAMP:20260425T113118
CREATED:20240821T163350Z
LAST-MODIFIED:20240821T163350Z
UID:10001523-1725814800-1725822000@shadescrest.org
SUMMARY:6th Grade Breakthrough
DESCRIPTION:
URL:https://shadescrest.org/event/6th-grade-breakthrough/
LOCATION:Children’s Worship Room – Rockland Building\, 452 Park Avenue\, Hoover\, AL\, 35226\, United States
ATTACH;FMTTYPE=image/png:https://shadescrest.org/wp-content/uploads/2024/08/Breakthrough-Sept-8-1.png
END:VEVENT
BEGIN:VEVENT
DTSTART;TZID=UTC:20240908T160000
DTEND;TZID=UTC:20240908T170000
DTSTAMP:20260425T113118
CREATED:20240826T182843Z
LAST-MODIFIED:20240826T182843Z
UID:10001527-1725811200-1725814800@shadescrest.org
SUMMARY:Youth Singers Kickoff
DESCRIPTION:
URL:https://shadescrest.org/event/youth-singers-kickoff/
ATTACH;FMTTYPE=image/jpeg:https://shadescrest.org/wp-content/uploads/2024/08/youth-singers.jpg
END:VEVENT
BEGIN:VEVENT
DTSTART;TZID=UTC:20240908T120000
DTEND;TZID=UTC:20240908T140000
DTSTAMP:20260425T113118
CREATED:20240821T163509Z
LAST-MODIFIED:20240821T163509Z
UID:10001524-1725796800-1725804000@shadescrest.org
SUMMARY:Bible Drill Kickoff
DESCRIPTION:
URL:https://shadescrest.org/event/bible-drill-kickoff/
LOCATION:Children’s Worship Room – Rockland Building\, 452 Park Avenue\, Hoover\, AL\, 35226\, United States
ATTACH;FMTTYPE=image/jpeg:https://shadescrest.org/wp-content/uploads/2024/08/Bible-Drill-Sept-8.jpg
END:VEVENT
BEGIN:VEVENT
DTSTART;TZID=UTC:20240908T090000
DTEND;TZID=UTC:20240908T120000
DTSTAMP:20260425T113118
CREATED:20240724T175410Z
LAST-MODIFIED:20240724T175412Z
UID:10000409-1725786000-1725796800@shadescrest.org
SUMMARY:Sunday Services
DESCRIPTION:Sunday services consist of Rising service (Modern) at 9 pm in Fellowship Hall\, Connect Groups at 10 am in classrooms\, and Majestic service (Traditional) at 11 pm in Sanctuary. Both services are Livestreamed.
URL:https://shadescrest.org/event/sunday-services-8-4/2024-09-08/
LOCATION:Entire Church Campus\, 452 Park Avenue\, Hoover\, AL\, 35226
CATEGORIES:Church Event
ATTACH;FMTTYPE=image/jpeg:https://shadescrest.org/wp-content/uploads/2024/07/sunday-service.jpg
END:VEVENT
BEGIN:VEVENT
DTSTART;TZID=UTC:20240907T080000
DTEND;TZID=UTC:20240907T170000
DTSTAMP:20260425T113118
CREATED:20240807T175003Z
LAST-MODIFIED:20240819T154224Z
UID:10001507-1725696000-1725728400@shadescrest.org
SUMMARY:Church-Wide Day of Service
DESCRIPTION:All ages are encouraged to participate. Choose from several different opportunities to help serve the Church and our Mission Partners.
URL:https://shadescrest.org/event/church-wide-day-of-service/
LOCATION:Entire Church Campus\, 452 Park Avenue\, Hoover\, AL\, 35226
CATEGORIES:Church Event
ATTACH;FMTTYPE=image/jpeg:https://shadescrest.org/wp-content/uploads/2024/08/day-of-service.jpg
END:VEVENT
BEGIN:VEVENT
DTSTART;TZID=UTC:20240905T160000
DTEND;TZID=UTC:20240905T170000
DTSTAMP:20260425T113118
CREATED:20240730T174724Z
LAST-MODIFIED:20240730T174724Z
UID:10001267-1725552000-1725555600@shadescrest.org
SUMMARY:Fitness Workouts
DESCRIPTION:Fitness Workouts for all ages led by Abby Allen.
URL:https://shadescrest.org/event/fitness-workouts/2024-09-05/
LOCATION:Family Life Center\, 2028 Rockland Drive\, Hoover\, AL\, 35226\, United States
CATEGORIES:FLC Event
END:VEVENT
BEGIN:VEVENT
DTSTART;TZID=UTC:20240905T103000
DTEND;TZID=UTC:20240905T120000
DTSTAMP:20260425T113118
CREATED:20240821T205047Z
LAST-MODIFIED:20240821T205047Z
UID:10001526-1725532200-1725537600@shadescrest.org
SUMMARY:The Mountainaires Senior Adult Choir
DESCRIPTION:On September 5 we will have the first rehearsal of The Mountainaires of this season. Come to a wonderful time of preparation to share the message of Jesus through music with our community.
URL:https://shadescrest.org/event/the-mountainaires-senior-adult-choir/
LOCATION:Music Suite
ATTACH;FMTTYPE=image/jpeg:https://shadescrest.org/wp-content/uploads/2024/08/mountainaires.jpg
END:VEVENT
BEGIN:VEVENT
DTSTART;TZID=UTC:20240904T164500
DTEND;TZID=UTC:20240904T200000
DTSTAMP:20260425T113118
CREATED:20240723T191342Z
LAST-MODIFIED:20260216T213352Z
UID:10000732-1725468300-1725480000@shadescrest.org
SUMMARY:Midpoint Wednesday Evening Activities
DESCRIPTION:Join us each Wednesday evening for activities and Bible Study for all ages beginning with dinner at 4:45pm in the Fellowship Hall.
URL:https://shadescrest.org/event/midpoint-wednesday-evening-activities/2024-09-04/
LOCATION:Entire Church Campus\, 452 Park Avenue\, Hoover\, AL\, 35226
CATEGORIES:Church Event
ATTACH;FMTTYPE=image/jpeg:https://shadescrest.org/wp-content/uploads/2026/02/midpoint-new.jpg
END:VEVENT
BEGIN:VEVENT
DTSTART;TZID=UTC:20240904T160000
DTEND;TZID=UTC:20240904T170000
DTSTAMP:20260425T113118
CREATED:20240730T174724Z
LAST-MODIFIED:20240730T174724Z
UID:10001266-1725465600-1725469200@shadescrest.org
SUMMARY:Fitness Workouts
DESCRIPTION:Fitness Workouts for all ages led by Abby Allen.
URL:https://shadescrest.org/event/fitness-workouts/2024-09-04/
LOCATION:Family Life Center\, 2028 Rockland Drive\, Hoover\, AL\, 35226\, United States
CATEGORIES:FLC Event
END:VEVENT
END:VCALENDAR