BEGIN:VCALENDAR
VERSION:2.0
PRODID:-//Shades Crest Baptist Church - ECPv6.15.20//NONSGML v1.0//EN
CALSCALE:GREGORIAN
METHOD:PUBLISH
X-WR-CALNAME:Shades Crest Baptist Church
X-ORIGINAL-URL:https://shadescrest.org
X-WR-CALDESC:Events for Shades Crest Baptist Church
REFRESH-INTERVAL;VALUE=DURATION:PT1H
X-Robots-Tag:noindex
X-PUBLISHED-TTL:PT1H
BEGIN:VTIMEZONE
TZID:UTC
BEGIN:STANDARD
TZOFFSETFROM:+0000
TZOFFSETTO:+0000
TZNAME:UTC
DTSTART:20230101T000000
END:STANDARD
END:VTIMEZONE
BEGIN:VEVENT
DTSTART;TZID=UTC:20240729T090000
DTEND;TZID=UTC:20240729T120000
DTSTAMP:20260425T142919
CREATED:20240606T173300Z
LAST-MODIFIED:20260223T195015Z
UID:10000468-1722243600-1722254400@shadescrest.org
SUMMARY:Retired and Moving
DESCRIPTION:The senior adults gather every Monday at 9 AM in the FLC for games\, fellowship\, and crafts. On the 1st Monday of each month\, a lunch is served. Bring $5 to cover the cost.
URL:https://shadescrest.org/event/retired-and-moving-3/2024-07-29/
LOCATION:Family Life Center\, 2028 Rockland Drive\, Hoover\, AL\, 35226\, United States
CATEGORIES:FLC Event
ATTACH;FMTTYPE=image/jpeg:https://shadescrest.org/wp-content/uploads/2026/02/moving-2-1.jpg
END:VEVENT
BEGIN:VEVENT
DTSTART;TZID=UTC:20240729T190000
DTEND;TZID=UTC:20240729T220000
DTSTAMP:20260425T142919
CREATED:20240523T175801Z
LAST-MODIFIED:20240610T154419Z
UID:10000016-1722279600-1722290400@shadescrest.org
SUMMARY:Magnificent Mondays
DESCRIPTION:
URL:https://shadescrest.org/event/magnificent-mondays-7/
CATEGORIES:FLC Event,Youth Event
END:VEVENT
BEGIN:VEVENT
DTSTART;TZID=UTC:20240730T183000
DTEND;TZID=UTC:20240730T203000
DTSTAMP:20260425T142919
CREATED:20240613T172439Z
LAST-MODIFIED:20240613T172439Z
UID:10000063-1722364200-1722371400@shadescrest.org
SUMMARY:Wellness Bible Study
DESCRIPTION:
URL:https://shadescrest.org/event/wellness-bible-study/2024-07-30/
LOCATION:Family Life Center\, 2028 Rockland Drive\, Hoover\, AL\, 35226\, United States
CATEGORIES:FLC Event
ATTACH;FMTTYPE=image/jpeg:https://shadescrest.org/wp-content/uploads/2022/09/FLC-1.jpeg
END:VEVENT
BEGIN:VEVENT
DTSTART;TZID=UTC:20240731T160000
DTEND;TZID=UTC:20240731T170000
DTSTAMP:20260425T142919
CREATED:20240730T174724Z
LAST-MODIFIED:20240730T174724Z
UID:10001251-1722441600-1722445200@shadescrest.org
SUMMARY:Fitness Workouts
DESCRIPTION:Fitness Workouts for all ages led by Abby Allen.
URL:https://shadescrest.org/event/fitness-workouts/2024-07-31/
LOCATION:Family Life Center\, 2028 Rockland Drive\, Hoover\, AL\, 35226\, United States
CATEGORIES:FLC Event
END:VEVENT
BEGIN:VEVENT
DTSTART;TZID=UTC:20240801T100000
DTEND;TZID=UTC:20240801T130000
DTSTAMP:20260425T142919
CREATED:20240724T172601Z
LAST-MODIFIED:20240724T172606Z
UID:10000381-1722506400-1722517200@shadescrest.org
SUMMARY:Pickleball-Open Play
DESCRIPTION:All participants must initially complete a participation form before playing.
URL:https://shadescrest.org/event/pickleball-open-play-2-2/2024-08-01/
LOCATION:Family Life Center\, 2028 Rockland Drive\, Hoover\, AL\, 35226\, United States
CATEGORIES:FLC Event
ATTACH;FMTTYPE=image/jpeg:https://shadescrest.org/wp-content/uploads/2024/07/pickleball-NEW.jpg
END:VEVENT
BEGIN:VEVENT
DTSTART;TZID=UTC:20240801T160000
DTEND;TZID=UTC:20240801T170000
DTSTAMP:20260425T142919
CREATED:20240730T174724Z
LAST-MODIFIED:20240730T174724Z
UID:10001252-1722528000-1722531600@shadescrest.org
SUMMARY:Fitness Workouts
DESCRIPTION:Fitness Workouts for all ages led by Abby Allen.
URL:https://shadescrest.org/event/fitness-workouts/2024-08-01/
LOCATION:Family Life Center\, 2028 Rockland Drive\, Hoover\, AL\, 35226\, United States
CATEGORIES:FLC Event
END:VEVENT
BEGIN:VEVENT
DTSTART;TZID=UTC:20240804T090000
DTEND;TZID=UTC:20240804T230000
DTSTAMP:20260425T142919
CREATED:20240711T204510Z
LAST-MODIFIED:20240724T175234Z
UID:10000404-1722762000-1722812400@shadescrest.org
SUMMARY:Sunday Services - Sabbath Week
DESCRIPTION:Sunday service consist of Rising service (Modern) at 9 pm in Fellowship Hall\, Connect Groups at 10 am in classrooms.Rising service will be Livestreamed.
URL:https://shadescrest.org/event/sunday-services-8-3/
LOCATION:Entire Church Campus\, 452 Park Avenue\, Hoover\, AL\, 35226
CATEGORIES:Church Event
ATTACH;FMTTYPE=image/jpeg:https://shadescrest.org/wp-content/uploads/2024/07/sunday-service.jpg
END:VEVENT
BEGIN:VEVENT
DTSTART;TZID=UTC:20240805T083000
DTEND;TZID=UTC:20240805T113000
DTSTAMP:20260425T142919
CREATED:20240723T182330Z
LAST-MODIFIED:20240723T182517Z
UID:10000465-1722846600-1722857400@shadescrest.org
SUMMARY:Early Learning Academy Orientation/Parent
DESCRIPTION:
URL:https://shadescrest.org/event/early-learning-academy-orientation-parent/
LOCATION:Entire Church Campus\, 452 Park Avenue\, Hoover\, AL\, 35226
CATEGORIES:Church Event
ATTACH;FMTTYPE=image/jpeg:https://shadescrest.org/wp-content/uploads/2024/07/ELA-logo.jpg
END:VEVENT
BEGIN:VEVENT
DTSTART;TZID=UTC:20240805T090000
DTEND;TZID=UTC:20240805T120000
DTSTAMP:20260425T142919
CREATED:20240606T173300Z
LAST-MODIFIED:20260223T195015Z
UID:10000469-1722848400-1722859200@shadescrest.org
SUMMARY:Retired and Moving
DESCRIPTION:The senior adults gather every Monday at 9 AM in the FLC for games\, fellowship\, and crafts. On the 1st Monday of each month\, a lunch is served. Bring $5 to cover the cost.
URL:https://shadescrest.org/event/retired-and-moving-3/2024-08-05/
LOCATION:Family Life Center\, 2028 Rockland Drive\, Hoover\, AL\, 35226\, United States
CATEGORIES:FLC Event
ATTACH;FMTTYPE=image/jpeg:https://shadescrest.org/wp-content/uploads/2026/02/moving-2-1.jpg
END:VEVENT
BEGIN:VEVENT
DTSTART;TZID=UTC:20240805T160000
DTEND;TZID=UTC:20240805T170000
DTSTAMP:20260425T142919
CREATED:20240730T174724Z
LAST-MODIFIED:20240730T174724Z
UID:10001253-1722873600-1722877200@shadescrest.org
SUMMARY:Fitness Workouts
DESCRIPTION:Fitness Workouts for all ages led by Abby Allen.
URL:https://shadescrest.org/event/fitness-workouts/2024-08-05/
LOCATION:Family Life Center\, 2028 Rockland Drive\, Hoover\, AL\, 35226\, United States
CATEGORIES:FLC Event
END:VEVENT
BEGIN:VEVENT
DTSTART;TZID=UTC:20240806T183000
DTEND;TZID=UTC:20240806T203000
DTSTAMP:20260425T142919
CREATED:20240613T172439Z
LAST-MODIFIED:20240613T172439Z
UID:10000064-1722969000-1722976200@shadescrest.org
SUMMARY:Wellness Bible Study
DESCRIPTION:
URL:https://shadescrest.org/event/wellness-bible-study/2024-08-06/
LOCATION:Family Life Center\, 2028 Rockland Drive\, Hoover\, AL\, 35226\, United States
CATEGORIES:FLC Event
ATTACH;FMTTYPE=image/jpeg:https://shadescrest.org/wp-content/uploads/2022/09/FLC-1.jpeg
END:VEVENT
BEGIN:VEVENT
DTSTART;TZID=UTC:20240807T090000
DTEND;TZID=UTC:20240807T110000
DTSTAMP:20260425T142919
CREATED:20240723T182946Z
LAST-MODIFIED:20240723T182946Z
UID:10000466-1723021200-1723028400@shadescrest.org
SUMMARY:Early Learning Academy - Meet the Teacher
DESCRIPTION:
URL:https://shadescrest.org/event/early-learning-academy-meet-the-teacher/
LOCATION:Preschool Hall\, 452 Park Avenue\, Hoover\, AL\, 35226\, United States
ATTACH;FMTTYPE=image/jpeg:https://shadescrest.org/wp-content/uploads/2024/07/ELA-logo.jpg
END:VEVENT
BEGIN:VEVENT
DTSTART;TZID=UTC:20240807T160000
DTEND;TZID=UTC:20240807T170000
DTSTAMP:20260425T142919
CREATED:20240730T174724Z
LAST-MODIFIED:20240730T174724Z
UID:10001254-1723046400-1723050000@shadescrest.org
SUMMARY:Fitness Workouts
DESCRIPTION:Fitness Workouts for all ages led by Abby Allen.
URL:https://shadescrest.org/event/fitness-workouts/2024-08-07/
LOCATION:Family Life Center\, 2028 Rockland Drive\, Hoover\, AL\, 35226\, United States
CATEGORIES:FLC Event
END:VEVENT
BEGIN:VEVENT
DTSTART;TZID=UTC:20240808T100000
DTEND;TZID=UTC:20240808T130000
DTSTAMP:20260425T142919
CREATED:20240724T172601Z
LAST-MODIFIED:20240724T172606Z
UID:10000382-1723111200-1723122000@shadescrest.org
SUMMARY:Pickleball-Open Play
DESCRIPTION:All participants must initially complete a participation form before playing.
URL:https://shadescrest.org/event/pickleball-open-play-2-2/2024-08-08/
LOCATION:Family Life Center\, 2028 Rockland Drive\, Hoover\, AL\, 35226\, United States
CATEGORIES:FLC Event
ATTACH;FMTTYPE=image/jpeg:https://shadescrest.org/wp-content/uploads/2024/07/pickleball-NEW.jpg
END:VEVENT
BEGIN:VEVENT
DTSTART;TZID=UTC:20240808T160000
DTEND;TZID=UTC:20240808T170000
DTSTAMP:20260425T142919
CREATED:20240730T174724Z
LAST-MODIFIED:20240730T174724Z
UID:10001255-1723132800-1723136400@shadescrest.org
SUMMARY:Fitness Workouts
DESCRIPTION:Fitness Workouts for all ages led by Abby Allen.
URL:https://shadescrest.org/event/fitness-workouts/2024-08-08/
LOCATION:Family Life Center\, 2028 Rockland Drive\, Hoover\, AL\, 35226\, United States
CATEGORIES:FLC Event
END:VEVENT
BEGIN:VEVENT
DTSTART;TZID=UTC:20240810T180000
DTEND;TZID=UTC:20240810T220000
DTSTAMP:20260425T142919
CREATED:20240723T201043Z
LAST-MODIFIED:20240724T153441Z
UID:10000987-1723312800-1723327200@shadescrest.org
SUMMARY:7UP Progressive Dinner
DESCRIPTION:For NEW 7th graders thru 12th graders.
URL:https://shadescrest.org/event/7up-progressive-dinner/
LOCATION:Family Life Center\, 2028 Rockland Drive\, Hoover\, AL\, 35226\, United States
CATEGORIES:FLC Event
ATTACH;FMTTYPE=image/jpeg:https://shadescrest.org/wp-content/uploads/2024/07/7UP-NEW.jpg
END:VEVENT
BEGIN:VEVENT
DTSTART;TZID=UTC:20240811T090000
DTEND;TZID=UTC:20240811T120000
DTSTAMP:20260425T142919
CREATED:20240724T175410Z
LAST-MODIFIED:20240724T175412Z
UID:10000405-1723366800-1723377600@shadescrest.org
SUMMARY:Sunday Services
DESCRIPTION:Sunday services consist of Rising service (Modern) at 9 pm in Fellowship Hall\, Connect Groups at 10 am in classrooms\, and Majestic service (Traditional) at 11 pm in Sanctuary. Both services are Livestreamed.
URL:https://shadescrest.org/event/sunday-services-8-4/2024-08-11/
LOCATION:Entire Church Campus\, 452 Park Avenue\, Hoover\, AL\, 35226
CATEGORIES:Church Event
ATTACH;FMTTYPE=image/jpeg:https://shadescrest.org/wp-content/uploads/2024/07/sunday-service.jpg
END:VEVENT
BEGIN:VEVENT
DTSTART;TZID=UTC:20240812T090000
DTEND;TZID=UTC:20240812T120000
DTSTAMP:20260425T142919
CREATED:20240606T173300Z
LAST-MODIFIED:20260223T195015Z
UID:10000470-1723453200-1723464000@shadescrest.org
SUMMARY:Retired and Moving
DESCRIPTION:The senior adults gather every Monday at 9 AM in the FLC for games\, fellowship\, and crafts. On the 1st Monday of each month\, a lunch is served. Bring $5 to cover the cost.
URL:https://shadescrest.org/event/retired-and-moving-3/2024-08-12/
LOCATION:Family Life Center\, 2028 Rockland Drive\, Hoover\, AL\, 35226\, United States
CATEGORIES:FLC Event
ATTACH;FMTTYPE=image/jpeg:https://shadescrest.org/wp-content/uploads/2026/02/moving-2-1.jpg
END:VEVENT
BEGIN:VEVENT
DTSTART;TZID=UTC:20240812T090000
DTEND;TZID=UTC:20240812T160000
DTSTAMP:20260425T142919
CREATED:20240723T183408Z
LAST-MODIFIED:20240725T173110Z
UID:10000467-1723453200-1723478400@shadescrest.org
SUMMARY:Early Learning Academy - First Day Back
DESCRIPTION:
URL:https://shadescrest.org/event/early-learning-academy-first-day-back/
LOCATION:Entire Church Campus\, 452 Park Avenue\, Hoover\, AL\, 35226
CATEGORIES:Church Event
ATTACH;FMTTYPE=image/jpeg:https://shadescrest.org/wp-content/uploads/2024/07/ELA-logo.jpg
END:VEVENT
BEGIN:VEVENT
DTSTART;TZID=UTC:20240812T160000
DTEND;TZID=UTC:20240812T170000
DTSTAMP:20260425T142919
CREATED:20240730T174724Z
LAST-MODIFIED:20240730T174724Z
UID:10001256-1723478400-1723482000@shadescrest.org
SUMMARY:Fitness Workouts
DESCRIPTION:Fitness Workouts for all ages led by Abby Allen.
URL:https://shadescrest.org/event/fitness-workouts/2024-08-12/
LOCATION:Family Life Center\, 2028 Rockland Drive\, Hoover\, AL\, 35226\, United States
CATEGORIES:FLC Event
END:VEVENT
BEGIN:VEVENT
DTSTART;TZID=UTC:20240813T183000
DTEND;TZID=UTC:20240813T203000
DTSTAMP:20260425T142919
CREATED:20240613T172439Z
LAST-MODIFIED:20240613T172439Z
UID:10000065-1723573800-1723581000@shadescrest.org
SUMMARY:Wellness Bible Study
DESCRIPTION:
URL:https://shadescrest.org/event/wellness-bible-study/2024-08-13/
LOCATION:Family Life Center\, 2028 Rockland Drive\, Hoover\, AL\, 35226\, United States
CATEGORIES:FLC Event
ATTACH;FMTTYPE=image/jpeg:https://shadescrest.org/wp-content/uploads/2022/09/FLC-1.jpeg
END:VEVENT
BEGIN:VEVENT
DTSTART;TZID=UTC:20240814T160000
DTEND;TZID=UTC:20240814T170000
DTSTAMP:20260425T142919
CREATED:20240730T174724Z
LAST-MODIFIED:20240730T174724Z
UID:10001257-1723651200-1723654800@shadescrest.org
SUMMARY:Fitness Workouts
DESCRIPTION:Fitness Workouts for all ages led by Abby Allen.
URL:https://shadescrest.org/event/fitness-workouts/2024-08-14/
LOCATION:Family Life Center\, 2028 Rockland Drive\, Hoover\, AL\, 35226\, United States
CATEGORIES:FLC Event
END:VEVENT
BEGIN:VEVENT
DTSTART;TZID=UTC:20240814T164500
DTEND;TZID=UTC:20240814T200000
DTSTAMP:20260425T142919
CREATED:20240723T191342Z
LAST-MODIFIED:20260216T213352Z
UID:10000729-1723653900-1723665600@shadescrest.org
SUMMARY:Midpoint Wednesday Evening Activities
DESCRIPTION:Join us each Wednesday evening for activities and Bible Study for all ages beginning with dinner at 4:45pm in the Fellowship Hall.
URL:https://shadescrest.org/event/midpoint-wednesday-evening-activities/2024-08-14/
LOCATION:Entire Church Campus\, 452 Park Avenue\, Hoover\, AL\, 35226
CATEGORIES:Church Event
ATTACH;FMTTYPE=image/jpeg:https://shadescrest.org/wp-content/uploads/2026/02/midpoint-new.jpg
END:VEVENT
BEGIN:VEVENT
DTSTART;TZID=UTC:20240814T171500
DTEND;TZID=UTC:20240814T190000
DTSTAMP:20260425T142919
CREATED:20240731T175922Z
LAST-MODIFIED:20240805T195137Z
UID:10001436-1723655700-1723662000@shadescrest.org
SUMMARY:SJ Jam Kids Music Kickoff
DESCRIPTION:
URL:https://shadescrest.org/event/sj-jam-kids-music-kickoff/
LOCATION:Family Life Center\, 2028 Rockland Drive\, Hoover\, AL\, 35226\, United States
CATEGORIES:FLC Event
ATTACH;FMTTYPE=image/png:https://shadescrest.org/wp-content/uploads/2024/08/childrens-choir-fall-2024.png
END:VEVENT
BEGIN:VEVENT
DTSTART;TZID=UTC:20240815T093000
DTEND;TZID=UTC:20240815T153000
DTSTAMP:20260425T142919
CREATED:20240725T172200Z
LAST-MODIFIED:20240725T172830Z
UID:10001250-1723714200-1723735800@shadescrest.org
SUMMARY:Visit Temple Emanu-El for Senior Adults
DESCRIPTION:Senior adults will be headed to Temple Emanu-El for a tour and then to lunch. Make your plans now to join us.
URL:https://shadescrest.org/event/visit-temple-emanu-el-for-seniors/
CATEGORIES:Senior Adults Event
END:VEVENT
BEGIN:VEVENT
DTSTART;TZID=UTC:20240815T100000
DTEND;TZID=UTC:20240815T130000
DTSTAMP:20260425T142919
CREATED:20240724T172601Z
LAST-MODIFIED:20240724T172606Z
UID:10000383-1723716000-1723726800@shadescrest.org
SUMMARY:Pickleball-Open Play
DESCRIPTION:All participants must initially complete a participation form before playing.
URL:https://shadescrest.org/event/pickleball-open-play-2-2/2024-08-15/
LOCATION:Family Life Center\, 2028 Rockland Drive\, Hoover\, AL\, 35226\, United States
CATEGORIES:FLC Event
ATTACH;FMTTYPE=image/jpeg:https://shadescrest.org/wp-content/uploads/2024/07/pickleball-NEW.jpg
END:VEVENT
BEGIN:VEVENT
DTSTART;TZID=UTC:20240815T160000
DTEND;TZID=UTC:20240815T170000
DTSTAMP:20260425T142919
CREATED:20240730T174724Z
LAST-MODIFIED:20240730T174724Z
UID:10001258-1723737600-1723741200@shadescrest.org
SUMMARY:Fitness Workouts
DESCRIPTION:Fitness Workouts for all ages led by Abby Allen.
URL:https://shadescrest.org/event/fitness-workouts/2024-08-15/
LOCATION:Family Life Center\, 2028 Rockland Drive\, Hoover\, AL\, 35226\, United States
CATEGORIES:FLC Event
END:VEVENT
BEGIN:VEVENT
DTSTART;TZID=UTC:20240818T090000
DTEND;TZID=UTC:20240818T120000
DTSTAMP:20260425T142919
CREATED:20240724T175410Z
LAST-MODIFIED:20240724T175412Z
UID:10000406-1723971600-1723982400@shadescrest.org
SUMMARY:Sunday Services
DESCRIPTION:Sunday services consist of Rising service (Modern) at 9 pm in Fellowship Hall\, Connect Groups at 10 am in classrooms\, and Majestic service (Traditional) at 11 pm in Sanctuary. Both services are Livestreamed.
URL:https://shadescrest.org/event/sunday-services-8-4/2024-08-18/
LOCATION:Entire Church Campus\, 452 Park Avenue\, Hoover\, AL\, 35226
CATEGORIES:Church Event
ATTACH;FMTTYPE=image/jpeg:https://shadescrest.org/wp-content/uploads/2024/07/sunday-service.jpg
END:VEVENT
BEGIN:VEVENT
DTSTART;TZID=UTC:20240819T090000
DTEND;TZID=UTC:20240819T120000
DTSTAMP:20260425T142919
CREATED:20240606T173300Z
LAST-MODIFIED:20260223T195015Z
UID:10000471-1724058000-1724068800@shadescrest.org
SUMMARY:Retired and Moving
DESCRIPTION:The senior adults gather every Monday at 9 AM in the FLC for games\, fellowship\, and crafts. On the 1st Monday of each month\, a lunch is served. Bring $5 to cover the cost.
URL:https://shadescrest.org/event/retired-and-moving-3/2024-08-19/
LOCATION:Family Life Center\, 2028 Rockland Drive\, Hoover\, AL\, 35226\, United States
CATEGORIES:FLC Event
ATTACH;FMTTYPE=image/jpeg:https://shadescrest.org/wp-content/uploads/2026/02/moving-2-1.jpg
END:VEVENT
BEGIN:VEVENT
DTSTART;TZID=UTC:20240819T160000
DTEND;TZID=UTC:20240819T170000
DTSTAMP:20260425T142919
CREATED:20240730T174724Z
LAST-MODIFIED:20240730T174724Z
UID:10001259-1724083200-1724086800@shadescrest.org
SUMMARY:Fitness Workouts
DESCRIPTION:Fitness Workouts for all ages led by Abby Allen.
URL:https://shadescrest.org/event/fitness-workouts/2024-08-19/
LOCATION:Family Life Center\, 2028 Rockland Drive\, Hoover\, AL\, 35226\, United States
CATEGORIES:FLC Event
END:VEVENT
END:VCALENDAR