BEGIN:VCALENDAR
VERSION:2.0
PRODID:-//Shades Crest Baptist Church - ECPv6.15.20//NONSGML v1.0//EN
CALSCALE:GREGORIAN
METHOD:PUBLISH
X-WR-CALNAME:Shades Crest Baptist Church
X-ORIGINAL-URL:https://shadescrest.org
X-WR-CALDESC:Events for Shades Crest Baptist Church
REFRESH-INTERVAL;VALUE=DURATION:PT1H
X-Robots-Tag:noindex
X-PUBLISHED-TTL:PT1H
BEGIN:VTIMEZONE
TZID:UTC
BEGIN:STANDARD
TZOFFSETFROM:+0000
TZOFFSETTO:+0000
TZNAME:UTC
DTSTART:20230101T000000
END:STANDARD
END:VTIMEZONE
BEGIN:VEVENT
DTSTART;TZID=UTC:20241030T164500
DTEND;TZID=UTC:20241030T200000
DTSTAMP:20260425T140548
CREATED:20240723T191342Z
LAST-MODIFIED:20260216T213352Z
UID:10000740-1730306700-1730318400@shadescrest.org
SUMMARY:Midpoint Wednesday Evening Activities
DESCRIPTION:Join us each Wednesday evening for activities and Bible Study for all ages beginning with dinner at 4:45pm in the Fellowship Hall.
URL:https://shadescrest.org/event/midpoint-wednesday-evening-activities/2024-10-30/
LOCATION:Entire Church Campus\, 452 Park Avenue\, Hoover\, AL\, 35226
CATEGORIES:Church Event
ATTACH;FMTTYPE=image/jpeg:https://shadescrest.org/wp-content/uploads/2026/02/midpoint-new.jpg
END:VEVENT
BEGIN:VEVENT
DTSTART;TZID=UTC:20241030T160000
DTEND;TZID=UTC:20241030T170000
DTSTAMP:20260425T140548
CREATED:20240730T174724Z
LAST-MODIFIED:20240730T174724Z
UID:10001290-1730304000-1730307600@shadescrest.org
SUMMARY:Fitness Workouts
DESCRIPTION:Fitness Workouts for all ages led by Abby Allen.
URL:https://shadescrest.org/event/fitness-workouts/2024-10-30/
LOCATION:Family Life Center\, 2028 Rockland Drive\, Hoover\, AL\, 35226\, United States
CATEGORIES:FLC Event
END:VEVENT
BEGIN:VEVENT
DTSTART;TZID=UTC:20241029T183000
DTEND;TZID=UTC:20241029T203000
DTSTAMP:20260425T140548
CREATED:20240613T172439Z
LAST-MODIFIED:20240613T172439Z
UID:10000076-1730226600-1730233800@shadescrest.org
SUMMARY:Wellness Bible Study
DESCRIPTION:
URL:https://shadescrest.org/event/wellness-bible-study/2024-10-29/
LOCATION:Family Life Center\, 2028 Rockland Drive\, Hoover\, AL\, 35226\, United States
CATEGORIES:FLC Event
ATTACH;FMTTYPE=image/jpeg:https://shadescrest.org/wp-content/uploads/2022/09/FLC-1.jpeg
END:VEVENT
BEGIN:VEVENT
DTSTART;TZID=UTC:20241029T140000
DTEND;TZID=UTC:20241029T150000
DTSTAMP:20260425T140548
CREATED:20240812T185711Z
LAST-MODIFIED:20240812T190313Z
UID:10001517-1730210400-1730214000@shadescrest.org
SUMMARY:How To Have An Abundant Life Class
DESCRIPTION:This course\, designed and written by Ken Cook\, offers suggestions to help us have a more abundant life.
URL:https://shadescrest.org/event/hoe-to-have-an-abundant-life-class/2024-10-29/
LOCATION:Room 102\, 452 Park Avenue\, Hoover\, AL\, 35226\, United States
ATTACH;FMTTYPE=image/jpeg:https://shadescrest.org/wp-content/uploads/2024/08/abundant-life.jpg
END:VEVENT
BEGIN:VEVENT
DTSTART;TZID=UTC:20241028T160000
DTEND;TZID=UTC:20241028T170000
DTSTAMP:20260425T140548
CREATED:20240730T174724Z
LAST-MODIFIED:20240730T174724Z
UID:10001289-1730131200-1730134800@shadescrest.org
SUMMARY:Fitness Workouts
DESCRIPTION:Fitness Workouts for all ages led by Abby Allen.
URL:https://shadescrest.org/event/fitness-workouts/2024-10-28/
LOCATION:Family Life Center\, 2028 Rockland Drive\, Hoover\, AL\, 35226\, United States
CATEGORIES:FLC Event
END:VEVENT
BEGIN:VEVENT
DTSTART;TZID=UTC:20241028T090000
DTEND;TZID=UTC:20241028T120000
DTSTAMP:20260425T140548
CREATED:20240606T173300Z
LAST-MODIFIED:20260223T195015Z
UID:10000481-1730106000-1730116800@shadescrest.org
SUMMARY:Retired and Moving
DESCRIPTION:The senior adults gather every Monday at 9 AM in the FLC for games\, fellowship\, and crafts. On the 1st Monday of each month\, a lunch is served. Bring $5 to cover the cost.
URL:https://shadescrest.org/event/retired-and-moving-3/2024-10-28/
LOCATION:Family Life Center\, 2028 Rockland Drive\, Hoover\, AL\, 35226\, United States
CATEGORIES:FLC Event
ATTACH;FMTTYPE=image/jpeg:https://shadescrest.org/wp-content/uploads/2026/02/moving-2-1.jpg
END:VEVENT
BEGIN:VEVENT
DTSTART;TZID=UTC:20241027T110000
DTEND;TZID=UTC:20241027T120000
DTSTAMP:20260425T140548
CREATED:20241022T185644Z
LAST-MODIFIED:20241022T185811Z
UID:10001814-1730026800-1730030400@shadescrest.org
SUMMARY:Baptism Sunday in Majestic Service
DESCRIPTION:
URL:https://shadescrest.org/event/baptism-sunday-in-majestic-service/
LOCATION:Church Sanctuary\, 452 Park Avenue\, Hoover\, AL\, 35226\, United States
CATEGORIES:Church Event
ATTACH;FMTTYPE=image/jpeg:https://shadescrest.org/wp-content/uploads/2024/10/baptism-sunday.jpg
END:VEVENT
BEGIN:VEVENT
DTSTART;TZID=UTC:20241027T090000
DTEND;TZID=UTC:20241027T120000
DTSTAMP:20260425T140548
CREATED:20240724T175410Z
LAST-MODIFIED:20240724T175412Z
UID:10000416-1730019600-1730030400@shadescrest.org
SUMMARY:Sunday Services
DESCRIPTION:Sunday services consist of Rising service (Modern) at 9 pm in Fellowship Hall\, Connect Groups at 10 am in classrooms\, and Majestic service (Traditional) at 11 pm in Sanctuary. Both services are Livestreamed.
URL:https://shadescrest.org/event/sunday-services-8-4/2024-10-27/
LOCATION:Entire Church Campus\, 452 Park Avenue\, Hoover\, AL\, 35226
CATEGORIES:Church Event
ATTACH;FMTTYPE=image/jpeg:https://shadescrest.org/wp-content/uploads/2024/07/sunday-service.jpg
END:VEVENT
BEGIN:VEVENT
DTSTART;TZID=UTC:20241026T160000
DTEND;TZID=UTC:20241026T193000
DTSTAMP:20260425T140548
CREATED:20240919T155318Z
LAST-MODIFIED:20240919T155318Z
UID:10001804-1729958400-1729971000@shadescrest.org
SUMMARY:Fall Festival
DESCRIPTION:
URL:https://shadescrest.org/event/fall-festival/
LOCATION:Entire Church Campus\, 452 Park Avenue\, Hoover\, AL\, 35226
ATTACH;FMTTYPE=image/jpeg:https://shadescrest.org/wp-content/uploads/2024/09/fall-festival-2024.jpg
END:VEVENT
BEGIN:VEVENT
DTSTART;TZID=UTC:20241025T090000
DTEND;TZID=UTC:20241025T170000
DTSTAMP:20260425T140548
CREATED:20241016T161033Z
LAST-MODIFIED:20241016T161049Z
UID:10001812-1729846800-1729875600@shadescrest.org
SUMMARY:Senior Adult Trip
DESCRIPTION:Anniston Museum of Natural History\n$6.00 if we have 20 to go: $12.00 if less than 20.\nThis is due Monday\, Oct. 21.\nLunch at Chef T’s .\nLeave the front parking lot at 9:00.
URL:https://shadescrest.org/event/senior-adult-trip/
ATTACH;FMTTYPE=image/jpeg:https://shadescrest.org/wp-content/uploads/2024/10/senior-adult-trip.jpg
END:VEVENT
BEGIN:VEVENT
DTSTART;TZID=UTC:20241024T160000
DTEND;TZID=UTC:20241024T170000
DTSTAMP:20260425T140548
CREATED:20240730T174724Z
LAST-MODIFIED:20240730T174724Z
UID:10001288-1729785600-1729789200@shadescrest.org
SUMMARY:Fitness Workouts
DESCRIPTION:Fitness Workouts for all ages led by Abby Allen.
URL:https://shadescrest.org/event/fitness-workouts/2024-10-24/
LOCATION:Family Life Center\, 2028 Rockland Drive\, Hoover\, AL\, 35226\, United States
CATEGORIES:FLC Event
END:VEVENT
BEGIN:VEVENT
DTSTART;TZID=UTC:20241023T164500
DTEND;TZID=UTC:20241023T200000
DTSTAMP:20260425T140548
CREATED:20240723T191342Z
LAST-MODIFIED:20260216T213352Z
UID:10000739-1729701900-1729713600@shadescrest.org
SUMMARY:Midpoint Wednesday Evening Activities
DESCRIPTION:Join us each Wednesday evening for activities and Bible Study for all ages beginning with dinner at 4:45pm in the Fellowship Hall.
URL:https://shadescrest.org/event/midpoint-wednesday-evening-activities/2024-10-23/
LOCATION:Entire Church Campus\, 452 Park Avenue\, Hoover\, AL\, 35226
CATEGORIES:Church Event
ATTACH;FMTTYPE=image/jpeg:https://shadescrest.org/wp-content/uploads/2026/02/midpoint-new.jpg
END:VEVENT
BEGIN:VEVENT
DTSTART;TZID=UTC:20241023T160000
DTEND;TZID=UTC:20241023T170000
DTSTAMP:20260425T140548
CREATED:20240730T174724Z
LAST-MODIFIED:20240730T174724Z
UID:10001287-1729699200-1729702800@shadescrest.org
SUMMARY:Fitness Workouts
DESCRIPTION:Fitness Workouts for all ages led by Abby Allen.
URL:https://shadescrest.org/event/fitness-workouts/2024-10-23/
LOCATION:Family Life Center\, 2028 Rockland Drive\, Hoover\, AL\, 35226\, United States
CATEGORIES:FLC Event
END:VEVENT
BEGIN:VEVENT
DTSTART;TZID=UTC:20241022T183000
DTEND;TZID=UTC:20241022T203000
DTSTAMP:20260425T140548
CREATED:20240613T172439Z
LAST-MODIFIED:20240613T172439Z
UID:10000075-1729621800-1729629000@shadescrest.org
SUMMARY:Wellness Bible Study
DESCRIPTION:
URL:https://shadescrest.org/event/wellness-bible-study/2024-10-22/
LOCATION:Family Life Center\, 2028 Rockland Drive\, Hoover\, AL\, 35226\, United States
CATEGORIES:FLC Event
ATTACH;FMTTYPE=image/jpeg:https://shadescrest.org/wp-content/uploads/2022/09/FLC-1.jpeg
END:VEVENT
BEGIN:VEVENT
DTSTART;TZID=UTC:20241022T140000
DTEND;TZID=UTC:20241022T150000
DTSTAMP:20260425T140548
CREATED:20240812T185711Z
LAST-MODIFIED:20240812T190313Z
UID:10001516-1729605600-1729609200@shadescrest.org
SUMMARY:How To Have An Abundant Life Class
DESCRIPTION:This course\, designed and written by Ken Cook\, offers suggestions to help us have a more abundant life.
URL:https://shadescrest.org/event/hoe-to-have-an-abundant-life-class/2024-10-22/
LOCATION:Room 102\, 452 Park Avenue\, Hoover\, AL\, 35226\, United States
ATTACH;FMTTYPE=image/jpeg:https://shadescrest.org/wp-content/uploads/2024/08/abundant-life.jpg
END:VEVENT
BEGIN:VEVENT
DTSTART;TZID=UTC:20241021T160000
DTEND;TZID=UTC:20241021T170000
DTSTAMP:20260425T140548
CREATED:20240730T174724Z
LAST-MODIFIED:20240730T174724Z
UID:10001286-1729526400-1729530000@shadescrest.org
SUMMARY:Fitness Workouts
DESCRIPTION:Fitness Workouts for all ages led by Abby Allen.
URL:https://shadescrest.org/event/fitness-workouts/2024-10-21/
LOCATION:Family Life Center\, 2028 Rockland Drive\, Hoover\, AL\, 35226\, United States
CATEGORIES:FLC Event
END:VEVENT
BEGIN:VEVENT
DTSTART;TZID=UTC:20241021T090000
DTEND;TZID=UTC:20241021T120000
DTSTAMP:20260425T140548
CREATED:20240606T173300Z
LAST-MODIFIED:20260223T195015Z
UID:10000480-1729501200-1729512000@shadescrest.org
SUMMARY:Retired and Moving
DESCRIPTION:The senior adults gather every Monday at 9 AM in the FLC for games\, fellowship\, and crafts. On the 1st Monday of each month\, a lunch is served. Bring $5 to cover the cost.
URL:https://shadescrest.org/event/retired-and-moving-3/2024-10-21/
LOCATION:Family Life Center\, 2028 Rockland Drive\, Hoover\, AL\, 35226\, United States
CATEGORIES:FLC Event
ATTACH;FMTTYPE=image/jpeg:https://shadescrest.org/wp-content/uploads/2026/02/moving-2-1.jpg
END:VEVENT
BEGIN:VEVENT
DTSTART;TZID=UTC:20241020T170000
DTEND;TZID=UTC:20241020T180000
DTSTAMP:20260425T140548
CREATED:20240919T155142Z
LAST-MODIFIED:20240919T155142Z
UID:10001803-1729443600-1729447200@shadescrest.org
SUMMARY:Tapestry of Praise
DESCRIPTION:2024 Fall Instrumental Concert with the Sanctuary Orchestra
URL:https://shadescrest.org/event/tapestry-of-praise/
LOCATION:Church Sanctuary\, 452 Park Avenue\, Hoover\, AL\, 35226\, United States
CATEGORIES:Church Event
ATTACH;FMTTYPE=image/jpeg:https://shadescrest.org/wp-content/uploads/2024/09/tapestry-of-praise.jpg
END:VEVENT
BEGIN:VEVENT
DTSTART;TZID=UTC:20241020T090000
DTEND;TZID=UTC:20241020T120000
DTSTAMP:20260425T140548
CREATED:20240724T175410Z
LAST-MODIFIED:20240724T175412Z
UID:10000415-1729414800-1729425600@shadescrest.org
SUMMARY:Sunday Services
DESCRIPTION:Sunday services consist of Rising service (Modern) at 9 pm in Fellowship Hall\, Connect Groups at 10 am in classrooms\, and Majestic service (Traditional) at 11 pm in Sanctuary. Both services are Livestreamed.
URL:https://shadescrest.org/event/sunday-services-8-4/2024-10-20/
LOCATION:Entire Church Campus\, 452 Park Avenue\, Hoover\, AL\, 35226
CATEGORIES:Church Event
ATTACH;FMTTYPE=image/jpeg:https://shadescrest.org/wp-content/uploads/2024/07/sunday-service.jpg
END:VEVENT
BEGIN:VEVENT
DTSTART;TZID=UTC:20241017T160000
DTEND;TZID=UTC:20241017T170000
DTSTAMP:20260425T140548
CREATED:20240730T174724Z
LAST-MODIFIED:20240730T174724Z
UID:10001285-1729180800-1729184400@shadescrest.org
SUMMARY:Fitness Workouts
DESCRIPTION:Fitness Workouts for all ages led by Abby Allen.
URL:https://shadescrest.org/event/fitness-workouts/2024-10-17/
LOCATION:Family Life Center\, 2028 Rockland Drive\, Hoover\, AL\, 35226\, United States
CATEGORIES:FLC Event
END:VEVENT
BEGIN:VEVENT
DTSTART;TZID=UTC:20241017T113000
DTEND;TZID=UTC:20241017T133000
DTSTAMP:20260425T140548
CREATED:20241002T173704Z
LAST-MODIFIED:20241002T173704Z
UID:10001808-1729164600-1729171800@shadescrest.org
SUMMARY:Triple L - Senior Adult Ministry
DESCRIPTION:Pot Luck\, $2.00\nGames\, laughs\, and fun
URL:https://shadescrest.org/event/triple-l-senior-adult-ministry/
LOCATION:Fellowship Hall\, 452 Park Avenue\, Hoover\, AL\, 35226\, United States
ATTACH;FMTTYPE=image/jpeg:https://shadescrest.org/wp-content/uploads/2024/08/Triple-LLL-Generic.jpg
END:VEVENT
BEGIN:VEVENT
DTSTART;TZID=UTC:20241016T164500
DTEND;TZID=UTC:20241016T200000
DTSTAMP:20260425T140548
CREATED:20240723T191342Z
LAST-MODIFIED:20260216T213352Z
UID:10000738-1729097100-1729108800@shadescrest.org
SUMMARY:Midpoint Wednesday Evening Activities
DESCRIPTION:Join us each Wednesday evening for activities and Bible Study for all ages beginning with dinner at 4:45pm in the Fellowship Hall.
URL:https://shadescrest.org/event/midpoint-wednesday-evening-activities/2024-10-16/
LOCATION:Entire Church Campus\, 452 Park Avenue\, Hoover\, AL\, 35226
CATEGORIES:Church Event
ATTACH;FMTTYPE=image/jpeg:https://shadescrest.org/wp-content/uploads/2026/02/midpoint-new.jpg
END:VEVENT
BEGIN:VEVENT
DTSTART;TZID=UTC:20241016T160000
DTEND;TZID=UTC:20241016T170000
DTSTAMP:20260425T140548
CREATED:20240730T174724Z
LAST-MODIFIED:20240730T174724Z
UID:10001284-1729094400-1729098000@shadescrest.org
SUMMARY:Fitness Workouts
DESCRIPTION:Fitness Workouts for all ages led by Abby Allen.
URL:https://shadescrest.org/event/fitness-workouts/2024-10-16/
LOCATION:Family Life Center\, 2028 Rockland Drive\, Hoover\, AL\, 35226\, United States
CATEGORIES:FLC Event
END:VEVENT
BEGIN:VEVENT
DTSTART;TZID=UTC:20241015T183000
DTEND;TZID=UTC:20241015T203000
DTSTAMP:20260425T140548
CREATED:20240613T172439Z
LAST-MODIFIED:20240613T172439Z
UID:10000074-1729017000-1729024200@shadescrest.org
SUMMARY:Wellness Bible Study
DESCRIPTION:
URL:https://shadescrest.org/event/wellness-bible-study/2024-10-15/
LOCATION:Family Life Center\, 2028 Rockland Drive\, Hoover\, AL\, 35226\, United States
CATEGORIES:FLC Event
ATTACH;FMTTYPE=image/jpeg:https://shadescrest.org/wp-content/uploads/2022/09/FLC-1.jpeg
END:VEVENT
BEGIN:VEVENT
DTSTART;TZID=UTC:20241015T140000
DTEND;TZID=UTC:20241015T150000
DTSTAMP:20260425T140548
CREATED:20240812T185711Z
LAST-MODIFIED:20240812T190313Z
UID:10001515-1729000800-1729004400@shadescrest.org
SUMMARY:How To Have An Abundant Life Class
DESCRIPTION:This course\, designed and written by Ken Cook\, offers suggestions to help us have a more abundant life.
URL:https://shadescrest.org/event/hoe-to-have-an-abundant-life-class/2024-10-15/
LOCATION:Room 102\, 452 Park Avenue\, Hoover\, AL\, 35226\, United States
ATTACH;FMTTYPE=image/jpeg:https://shadescrest.org/wp-content/uploads/2024/08/abundant-life.jpg
END:VEVENT
BEGIN:VEVENT
DTSTART;TZID=UTC:20241014T160000
DTEND;TZID=UTC:20241014T170000
DTSTAMP:20260425T140548
CREATED:20240730T174724Z
LAST-MODIFIED:20240730T174724Z
UID:10001283-1728921600-1728925200@shadescrest.org
SUMMARY:Fitness Workouts
DESCRIPTION:Fitness Workouts for all ages led by Abby Allen.
URL:https://shadescrest.org/event/fitness-workouts/2024-10-14/
LOCATION:Family Life Center\, 2028 Rockland Drive\, Hoover\, AL\, 35226\, United States
CATEGORIES:FLC Event
END:VEVENT
BEGIN:VEVENT
DTSTART;TZID=UTC:20241014T090000
DTEND;TZID=UTC:20241014T120000
DTSTAMP:20260425T140548
CREATED:20240606T173300Z
LAST-MODIFIED:20260223T195015Z
UID:10000479-1728896400-1728907200@shadescrest.org
SUMMARY:Retired and Moving
DESCRIPTION:The senior adults gather every Monday at 9 AM in the FLC for games\, fellowship\, and crafts. On the 1st Monday of each month\, a lunch is served. Bring $5 to cover the cost.
URL:https://shadescrest.org/event/retired-and-moving-3/2024-10-14/
LOCATION:Family Life Center\, 2028 Rockland Drive\, Hoover\, AL\, 35226\, United States
CATEGORIES:FLC Event
ATTACH;FMTTYPE=image/jpeg:https://shadescrest.org/wp-content/uploads/2026/02/moving-2-1.jpg
END:VEVENT
BEGIN:VEVENT
DTSTART;TZID=UTC:20241013T100000
DTEND;TZID=UTC:20241013T104500
DTSTAMP:20260425T140548
CREATED:20240925T153652Z
LAST-MODIFIED:20240925T153652Z
UID:10001806-1728813600-1728816300@shadescrest.org
SUMMARY:New & Prospective Member Brunch
DESCRIPTION:
URL:https://shadescrest.org/event/new-prospective-member-brunch/
LOCATION:Fellowship Hall\, 452 Park Avenue\, Hoover\, AL\, 35226\, United States
CATEGORIES:Church Event
ATTACH;FMTTYPE=image/jpeg:https://shadescrest.org/wp-content/uploads/2024/09/nand-p-brunch.jpg
END:VEVENT
BEGIN:VEVENT
DTSTART;TZID=UTC:20241013T090000
DTEND;TZID=UTC:20241013T120000
DTSTAMP:20260425T140548
CREATED:20240724T175410Z
LAST-MODIFIED:20240724T175412Z
UID:10000414-1728810000-1728820800@shadescrest.org
SUMMARY:Sunday Services
DESCRIPTION:Sunday services consist of Rising service (Modern) at 9 pm in Fellowship Hall\, Connect Groups at 10 am in classrooms\, and Majestic service (Traditional) at 11 pm in Sanctuary. Both services are Livestreamed.
URL:https://shadescrest.org/event/sunday-services-8-4/2024-10-13/
LOCATION:Entire Church Campus\, 452 Park Avenue\, Hoover\, AL\, 35226
CATEGORIES:Church Event
ATTACH;FMTTYPE=image/jpeg:https://shadescrest.org/wp-content/uploads/2024/07/sunday-service.jpg
END:VEVENT
BEGIN:VEVENT
DTSTART;TZID=UTC:20241011T160000
DTEND;TZID=UTC:20241012T170000
DTSTAMP:20260425T140548
CREATED:20241007T205450Z
LAST-MODIFIED:20241007T205450Z
UID:10001811-1728662400-1728752400@shadescrest.org
SUMMARY:Retreat 78 - Youth Event
DESCRIPTION:
URL:https://shadescrest.org/event/retreat-78-youth-event/
CATEGORIES:Youth Event
ATTACH;FMTTYPE=image/jpeg:https://shadescrest.org/wp-content/uploads/2024/08/retreat-78-2024.jpg
END:VEVENT
END:VCALENDAR