BEGIN:VCALENDAR
VERSION:2.0
PRODID:-//Shades Crest Baptist Church - ECPv6.15.20//NONSGML v1.0//EN
CALSCALE:GREGORIAN
METHOD:PUBLISH
X-WR-CALNAME:Shades Crest Baptist Church
X-ORIGINAL-URL:https://shadescrest.org
X-WR-CALDESC:Events for Shades Crest Baptist Church
REFRESH-INTERVAL;VALUE=DURATION:PT1H
X-Robots-Tag:noindex
X-PUBLISHED-TTL:PT1H
BEGIN:VTIMEZONE
TZID:UTC
BEGIN:STANDARD
TZOFFSETFROM:+0000
TZOFFSETTO:+0000
TZNAME:UTC
DTSTART:20230101T000000
END:STANDARD
END:VTIMEZONE
BEGIN:VEVENT
DTSTART;TZID=UTC:20241125T090000
DTEND;TZID=UTC:20241125T120000
DTSTAMP:20260425T143300
CREATED:20240606T173300Z
LAST-MODIFIED:20260223T195015Z
UID:10000485-1732525200-1732536000@shadescrest.org
SUMMARY:Retired and Moving
DESCRIPTION:The senior adults gather every Monday at 9 AM in the FLC for games\, fellowship\, and crafts. On the 1st Monday of each month\, a lunch is served. Bring $5 to cover the cost.
URL:https://shadescrest.org/event/retired-and-moving-3/2024-11-25/
LOCATION:Family Life Center\, 2028 Rockland Drive\, Hoover\, AL\, 35226\, United States
CATEGORIES:FLC Event
ATTACH;FMTTYPE=image/jpeg:https://shadescrest.org/wp-content/uploads/2026/02/moving-2-1.jpg
END:VEVENT
BEGIN:VEVENT
DTSTART;TZID=UTC:20241124T090000
DTEND;TZID=UTC:20241124T120000
DTSTAMP:20260425T143300
CREATED:20240724T175410Z
LAST-MODIFIED:20240724T175412Z
UID:10000420-1732438800-1732449600@shadescrest.org
SUMMARY:Sunday Services
DESCRIPTION:Sunday services consist of Rising service (Modern) at 9 pm in Fellowship Hall\, Connect Groups at 10 am in classrooms\, and Majestic service (Traditional) at 11 pm in Sanctuary. Both services are Livestreamed.
URL:https://shadescrest.org/event/sunday-services-8-4/2024-11-24/
LOCATION:Entire Church Campus\, 452 Park Avenue\, Hoover\, AL\, 35226
CATEGORIES:Church Event
ATTACH;FMTTYPE=image/jpeg:https://shadescrest.org/wp-content/uploads/2024/07/sunday-service.jpg
END:VEVENT
BEGIN:VEVENT
DTSTART;TZID=UTC:20241121T160000
DTEND;TZID=UTC:20241121T170000
DTSTAMP:20260425T143300
CREATED:20240730T174724Z
LAST-MODIFIED:20240730T174724Z
UID:10001300-1732204800-1732208400@shadescrest.org
SUMMARY:Fitness Workouts
DESCRIPTION:Fitness Workouts for all ages led by Abby Allen.
URL:https://shadescrest.org/event/fitness-workouts/2024-11-21/
LOCATION:Family Life Center\, 2028 Rockland Drive\, Hoover\, AL\, 35226\, United States
CATEGORIES:FLC Event
END:VEVENT
BEGIN:VEVENT
DTSTART;TZID=UTC:20241120T164500
DTEND;TZID=UTC:20241120T200000
DTSTAMP:20260425T143300
CREATED:20240723T191342Z
LAST-MODIFIED:20260216T213352Z
UID:10000743-1732121100-1732132800@shadescrest.org
SUMMARY:Midpoint Wednesday Evening Activities
DESCRIPTION:Join us each Wednesday evening for activities and Bible Study for all ages beginning with dinner at 4:45pm in the Fellowship Hall.
URL:https://shadescrest.org/event/midpoint-wednesday-evening-activities/2024-11-20/
LOCATION:Entire Church Campus\, 452 Park Avenue\, Hoover\, AL\, 35226
CATEGORIES:Church Event
ATTACH;FMTTYPE=image/jpeg:https://shadescrest.org/wp-content/uploads/2026/02/midpoint-new.jpg
END:VEVENT
BEGIN:VEVENT
DTSTART;TZID=UTC:20241120T160000
DTEND;TZID=UTC:20241120T170000
DTSTAMP:20260425T143300
CREATED:20240730T174724Z
LAST-MODIFIED:20240730T174724Z
UID:10001299-1732118400-1732122000@shadescrest.org
SUMMARY:Fitness Workouts
DESCRIPTION:Fitness Workouts for all ages led by Abby Allen.
URL:https://shadescrest.org/event/fitness-workouts/2024-11-20/
LOCATION:Family Life Center\, 2028 Rockland Drive\, Hoover\, AL\, 35226\, United States
CATEGORIES:FLC Event
END:VEVENT
BEGIN:VEVENT
DTSTART;TZID=UTC:20241119T183000
DTEND;TZID=UTC:20241119T203000
DTSTAMP:20260425T143300
CREATED:20240613T172439Z
LAST-MODIFIED:20240613T172439Z
UID:10000079-1732041000-1732048200@shadescrest.org
SUMMARY:Wellness Bible Study
DESCRIPTION:
URL:https://shadescrest.org/event/wellness-bible-study/2024-11-19/
LOCATION:Family Life Center\, 2028 Rockland Drive\, Hoover\, AL\, 35226\, United States
CATEGORIES:FLC Event
ATTACH;FMTTYPE=image/jpeg:https://shadescrest.org/wp-content/uploads/2022/09/FLC-1.jpeg
END:VEVENT
BEGIN:VEVENT
DTSTART;TZID=UTC:20241119T140000
DTEND;TZID=UTC:20241119T150000
DTSTAMP:20260425T143300
CREATED:20240812T185711Z
LAST-MODIFIED:20240812T190313Z
UID:10001520-1732024800-1732028400@shadescrest.org
SUMMARY:How To Have An Abundant Life Class
DESCRIPTION:This course\, designed and written by Ken Cook\, offers suggestions to help us have a more abundant life.
URL:https://shadescrest.org/event/hoe-to-have-an-abundant-life-class/2024-11-19/
LOCATION:Room 102\, 452 Park Avenue\, Hoover\, AL\, 35226\, United States
ATTACH;FMTTYPE=image/jpeg:https://shadescrest.org/wp-content/uploads/2024/08/abundant-life.jpg
END:VEVENT
BEGIN:VEVENT
DTSTART;TZID=UTC:20241118T160000
DTEND;TZID=UTC:20241118T170000
DTSTAMP:20260425T143300
CREATED:20240730T174724Z
LAST-MODIFIED:20240730T174724Z
UID:10001298-1731945600-1731949200@shadescrest.org
SUMMARY:Fitness Workouts
DESCRIPTION:Fitness Workouts for all ages led by Abby Allen.
URL:https://shadescrest.org/event/fitness-workouts/2024-11-18/
LOCATION:Family Life Center\, 2028 Rockland Drive\, Hoover\, AL\, 35226\, United States
CATEGORIES:FLC Event
END:VEVENT
BEGIN:VEVENT
DTSTART;TZID=UTC:20241118T090000
DTEND;TZID=UTC:20241118T120000
DTSTAMP:20260425T143300
CREATED:20240606T173300Z
LAST-MODIFIED:20260223T195015Z
UID:10000484-1731920400-1731931200@shadescrest.org
SUMMARY:Retired and Moving
DESCRIPTION:The senior adults gather every Monday at 9 AM in the FLC for games\, fellowship\, and crafts. On the 1st Monday of each month\, a lunch is served. Bring $5 to cover the cost.
URL:https://shadescrest.org/event/retired-and-moving-3/2024-11-18/
LOCATION:Family Life Center\, 2028 Rockland Drive\, Hoover\, AL\, 35226\, United States
CATEGORIES:FLC Event
ATTACH;FMTTYPE=image/jpeg:https://shadescrest.org/wp-content/uploads/2026/02/moving-2-1.jpg
END:VEVENT
BEGIN:VEVENT
DTSTART;TZID=UTC:20241117T090000
DTEND;TZID=UTC:20241117T120000
DTSTAMP:20260425T143300
CREATED:20240724T175410Z
LAST-MODIFIED:20240724T175412Z
UID:10000419-1731834000-1731844800@shadescrest.org
SUMMARY:Sunday Services
DESCRIPTION:Sunday services consist of Rising service (Modern) at 9 pm in Fellowship Hall\, Connect Groups at 10 am in classrooms\, and Majestic service (Traditional) at 11 pm in Sanctuary. Both services are Livestreamed.
URL:https://shadescrest.org/event/sunday-services-8-4/2024-11-17/
LOCATION:Entire Church Campus\, 452 Park Avenue\, Hoover\, AL\, 35226
CATEGORIES:Church Event
ATTACH;FMTTYPE=image/jpeg:https://shadescrest.org/wp-content/uploads/2024/07/sunday-service.jpg
END:VEVENT
BEGIN:VEVENT
DTSTART;TZID=UTC:20241115T173000
DTEND;TZID=UTC:20241115T220000
DTSTAMP:20260425T143300
CREATED:20241106T170404Z
LAST-MODIFIED:20241106T170404Z
UID:10001817-1731691800-1731708000@shadescrest.org
SUMMARY:Mom's Night Out
DESCRIPTION:For Moms of Babies-6th Graders. Registration deadline is Tuesday\, November 12th.
URL:https://shadescrest.org/event/moms-night-out/
LOCATION:Entire Church Campus\, 452 Park Avenue\, Hoover\, AL\, 35226
CATEGORIES:Church Event
ATTACH;FMTTYPE=image/jpeg:https://shadescrest.org/wp-content/uploads/2024/11/moms-night-out.jpg
END:VEVENT
BEGIN:VEVENT
DTSTART;TZID=UTC:20241114T160000
DTEND;TZID=UTC:20241114T170000
DTSTAMP:20260425T143300
CREATED:20240730T174724Z
LAST-MODIFIED:20240730T174724Z
UID:10001297-1731600000-1731603600@shadescrest.org
SUMMARY:Fitness Workouts
DESCRIPTION:Fitness Workouts for all ages led by Abby Allen.
URL:https://shadescrest.org/event/fitness-workouts/2024-11-14/
LOCATION:Family Life Center\, 2028 Rockland Drive\, Hoover\, AL\, 35226\, United States
CATEGORIES:FLC Event
END:VEVENT
BEGIN:VEVENT
DTSTART;TZID=UTC:20241113T164500
DTEND;TZID=UTC:20241113T200000
DTSTAMP:20260425T143300
CREATED:20240723T191342Z
LAST-MODIFIED:20260216T213352Z
UID:10000742-1731516300-1731528000@shadescrest.org
SUMMARY:Midpoint Wednesday Evening Activities
DESCRIPTION:Join us each Wednesday evening for activities and Bible Study for all ages beginning with dinner at 4:45pm in the Fellowship Hall.
URL:https://shadescrest.org/event/midpoint-wednesday-evening-activities/2024-11-13/
LOCATION:Entire Church Campus\, 452 Park Avenue\, Hoover\, AL\, 35226
CATEGORIES:Church Event
ATTACH;FMTTYPE=image/jpeg:https://shadescrest.org/wp-content/uploads/2026/02/midpoint-new.jpg
END:VEVENT
BEGIN:VEVENT
DTSTART;TZID=UTC:20241113T160000
DTEND;TZID=UTC:20241113T170000
DTSTAMP:20260425T143300
CREATED:20240730T174724Z
LAST-MODIFIED:20240730T174724Z
UID:10001296-1731513600-1731517200@shadescrest.org
SUMMARY:Fitness Workouts
DESCRIPTION:Fitness Workouts for all ages led by Abby Allen.
URL:https://shadescrest.org/event/fitness-workouts/2024-11-13/
LOCATION:Family Life Center\, 2028 Rockland Drive\, Hoover\, AL\, 35226\, United States
CATEGORIES:FLC Event
END:VEVENT
BEGIN:VEVENT
DTSTART;TZID=UTC:20241112T183000
DTEND;TZID=UTC:20241112T203000
DTSTAMP:20260425T143300
CREATED:20240613T172439Z
LAST-MODIFIED:20240613T172439Z
UID:10000078-1731436200-1731443400@shadescrest.org
SUMMARY:Wellness Bible Study
DESCRIPTION:
URL:https://shadescrest.org/event/wellness-bible-study/2024-11-12/
LOCATION:Family Life Center\, 2028 Rockland Drive\, Hoover\, AL\, 35226\, United States
CATEGORIES:FLC Event
ATTACH;FMTTYPE=image/jpeg:https://shadescrest.org/wp-content/uploads/2022/09/FLC-1.jpeg
END:VEVENT
BEGIN:VEVENT
DTSTART;TZID=UTC:20241112T140000
DTEND;TZID=UTC:20241112T150000
DTSTAMP:20260425T143300
CREATED:20240812T185711Z
LAST-MODIFIED:20240812T190313Z
UID:10001519-1731420000-1731423600@shadescrest.org
SUMMARY:How To Have An Abundant Life Class
DESCRIPTION:This course\, designed and written by Ken Cook\, offers suggestions to help us have a more abundant life.
URL:https://shadescrest.org/event/hoe-to-have-an-abundant-life-class/2024-11-12/
LOCATION:Room 102\, 452 Park Avenue\, Hoover\, AL\, 35226\, United States
ATTACH;FMTTYPE=image/jpeg:https://shadescrest.org/wp-content/uploads/2024/08/abundant-life.jpg
END:VEVENT
BEGIN:VEVENT
DTSTART;TZID=UTC:20241111T160000
DTEND;TZID=UTC:20241111T170000
DTSTAMP:20260425T143300
CREATED:20240730T174724Z
LAST-MODIFIED:20240730T174724Z
UID:10001295-1731340800-1731344400@shadescrest.org
SUMMARY:Fitness Workouts
DESCRIPTION:Fitness Workouts for all ages led by Abby Allen.
URL:https://shadescrest.org/event/fitness-workouts/2024-11-11/
LOCATION:Family Life Center\, 2028 Rockland Drive\, Hoover\, AL\, 35226\, United States
CATEGORIES:FLC Event
END:VEVENT
BEGIN:VEVENT
DTSTART;TZID=UTC:20241111T090000
DTEND;TZID=UTC:20241111T120000
DTSTAMP:20260425T143300
CREATED:20240606T173300Z
LAST-MODIFIED:20260223T195015Z
UID:10000483-1731315600-1731326400@shadescrest.org
SUMMARY:Retired and Moving
DESCRIPTION:The senior adults gather every Monday at 9 AM in the FLC for games\, fellowship\, and crafts. On the 1st Monday of each month\, a lunch is served. Bring $5 to cover the cost.
URL:https://shadescrest.org/event/retired-and-moving-3/2024-11-11/
LOCATION:Family Life Center\, 2028 Rockland Drive\, Hoover\, AL\, 35226\, United States
CATEGORIES:FLC Event
ATTACH;FMTTYPE=image/jpeg:https://shadescrest.org/wp-content/uploads/2026/02/moving-2-1.jpg
END:VEVENT
BEGIN:VEVENT
DTSTART;TZID=UTC:20241110T121000
DTEND;TZID=UTC:20241110T140000
DTSTAMP:20260425T143300
CREATED:20241023T173837Z
LAST-MODIFIED:20241023T173837Z
UID:10001815-1731240600-1731247200@shadescrest.org
SUMMARY:Veterans Appreciation Luncheon
DESCRIPTION:All Veterans are Welcome. Please call the Church office to RSVP
URL:https://shadescrest.org/event/veterans-appreciation-luncheon/
LOCATION:Fellowship Hall\, 452 Park Avenue\, Hoover\, AL\, 35226\, United States
CATEGORIES:Church Event,Youth Event
ATTACH;FMTTYPE=image/jpeg:https://shadescrest.org/wp-content/uploads/2024/10/veterans-luncheon.jpg
END:VEVENT
BEGIN:VEVENT
DTSTART;TZID=UTC:20241110T090000
DTEND;TZID=UTC:20241110T120000
DTSTAMP:20260425T143300
CREATED:20240724T175410Z
LAST-MODIFIED:20240724T175412Z
UID:10000418-1731229200-1731240000@shadescrest.org
SUMMARY:Sunday Services
DESCRIPTION:Sunday services consist of Rising service (Modern) at 9 pm in Fellowship Hall\, Connect Groups at 10 am in classrooms\, and Majestic service (Traditional) at 11 pm in Sanctuary. Both services are Livestreamed.
URL:https://shadescrest.org/event/sunday-services-8-4/2024-11-10/
LOCATION:Entire Church Campus\, 452 Park Avenue\, Hoover\, AL\, 35226
CATEGORIES:Church Event
ATTACH;FMTTYPE=image/jpeg:https://shadescrest.org/wp-content/uploads/2024/07/sunday-service.jpg
END:VEVENT
BEGIN:VEVENT
DTSTART;TZID=UTC:20241108T080000
DTEND;TZID=UTC:20241109T170000
DTSTAMP:20260425T143300
CREATED:20241016T161347Z
LAST-MODIFIED:20241016T161347Z
UID:10001813-1731052800-1731171600@shadescrest.org
SUMMARY:Senior Adult Trip
DESCRIPTION:Huntsville\nBurritt Museum – $10.00\nMoreville Village – $10.00\nConstitution Hall Village – $10.00\nEat at Old Greenbrier Restaurant\nLeave the front parking lot at 9:00.\nHotel – Hampton Inn 265-532-2110\nYou MUST pay for your room by Oct. 21.\nRooms are under Shades Crest Baptist Church\nCost $129 plus tax.\nBe sure to complete the Medical Release Form
URL:https://shadescrest.org/event/senior-adult-trip-2/
CATEGORIES:Senior Adults Event
ATTACH;FMTTYPE=image/jpeg:https://shadescrest.org/wp-content/uploads/2024/10/senior-adult-trip.jpg
END:VEVENT
BEGIN:VEVENT
DTSTART;TZID=UTC:20241107T160000
DTEND;TZID=UTC:20241107T170000
DTSTAMP:20260425T143300
CREATED:20240730T174724Z
LAST-MODIFIED:20240730T174724Z
UID:10001294-1730995200-1730998800@shadescrest.org
SUMMARY:Fitness Workouts
DESCRIPTION:Fitness Workouts for all ages led by Abby Allen.
URL:https://shadescrest.org/event/fitness-workouts/2024-11-07/
LOCATION:Family Life Center\, 2028 Rockland Drive\, Hoover\, AL\, 35226\, United States
CATEGORIES:FLC Event
END:VEVENT
BEGIN:VEVENT
DTSTART;TZID=UTC:20241106T164500
DTEND;TZID=UTC:20241106T200000
DTSTAMP:20260425T143300
CREATED:20240723T191342Z
LAST-MODIFIED:20260216T213352Z
UID:10000741-1730911500-1730923200@shadescrest.org
SUMMARY:Midpoint Wednesday Evening Activities
DESCRIPTION:Join us each Wednesday evening for activities and Bible Study for all ages beginning with dinner at 4:45pm in the Fellowship Hall.
URL:https://shadescrest.org/event/midpoint-wednesday-evening-activities/2024-11-06/
LOCATION:Entire Church Campus\, 452 Park Avenue\, Hoover\, AL\, 35226
CATEGORIES:Church Event
ATTACH;FMTTYPE=image/jpeg:https://shadescrest.org/wp-content/uploads/2026/02/midpoint-new.jpg
END:VEVENT
BEGIN:VEVENT
DTSTART;TZID=UTC:20241106T160000
DTEND;TZID=UTC:20241106T170000
DTSTAMP:20260425T143300
CREATED:20240730T174724Z
LAST-MODIFIED:20240730T174724Z
UID:10001293-1730908800-1730912400@shadescrest.org
SUMMARY:Fitness Workouts
DESCRIPTION:Fitness Workouts for all ages led by Abby Allen.
URL:https://shadescrest.org/event/fitness-workouts/2024-11-06/
LOCATION:Family Life Center\, 2028 Rockland Drive\, Hoover\, AL\, 35226\, United States
CATEGORIES:FLC Event
END:VEVENT
BEGIN:VEVENT
DTSTART;TZID=UTC:20241105T183000
DTEND;TZID=UTC:20241105T203000
DTSTAMP:20260425T143300
CREATED:20240613T172439Z
LAST-MODIFIED:20240613T172439Z
UID:10000077-1730831400-1730838600@shadescrest.org
SUMMARY:Wellness Bible Study
DESCRIPTION:
URL:https://shadescrest.org/event/wellness-bible-study/2024-11-05/
LOCATION:Family Life Center\, 2028 Rockland Drive\, Hoover\, AL\, 35226\, United States
CATEGORIES:FLC Event
ATTACH;FMTTYPE=image/jpeg:https://shadescrest.org/wp-content/uploads/2022/09/FLC-1.jpeg
END:VEVENT
BEGIN:VEVENT
DTSTART;TZID=UTC:20241105T140000
DTEND;TZID=UTC:20241105T150000
DTSTAMP:20260425T143300
CREATED:20240812T185711Z
LAST-MODIFIED:20240812T190313Z
UID:10001518-1730815200-1730818800@shadescrest.org
SUMMARY:How To Have An Abundant Life Class
DESCRIPTION:This course\, designed and written by Ken Cook\, offers suggestions to help us have a more abundant life.
URL:https://shadescrest.org/event/hoe-to-have-an-abundant-life-class/2024-11-05/
LOCATION:Room 102\, 452 Park Avenue\, Hoover\, AL\, 35226\, United States
ATTACH;FMTTYPE=image/jpeg:https://shadescrest.org/wp-content/uploads/2024/08/abundant-life.jpg
END:VEVENT
BEGIN:VEVENT
DTSTART;TZID=UTC:20241104T160000
DTEND;TZID=UTC:20241104T170000
DTSTAMP:20260425T143300
CREATED:20240730T174724Z
LAST-MODIFIED:20240730T174724Z
UID:10001292-1730736000-1730739600@shadescrest.org
SUMMARY:Fitness Workouts
DESCRIPTION:Fitness Workouts for all ages led by Abby Allen.
URL:https://shadescrest.org/event/fitness-workouts/2024-11-04/
LOCATION:Family Life Center\, 2028 Rockland Drive\, Hoover\, AL\, 35226\, United States
CATEGORIES:FLC Event
END:VEVENT
BEGIN:VEVENT
DTSTART;TZID=UTC:20241104T090000
DTEND;TZID=UTC:20241104T120000
DTSTAMP:20260425T143300
CREATED:20240606T173300Z
LAST-MODIFIED:20260223T195015Z
UID:10000482-1730710800-1730721600@shadescrest.org
SUMMARY:Retired and Moving
DESCRIPTION:The senior adults gather every Monday at 9 AM in the FLC for games\, fellowship\, and crafts. On the 1st Monday of each month\, a lunch is served. Bring $5 to cover the cost.
URL:https://shadescrest.org/event/retired-and-moving-3/2024-11-04/
LOCATION:Family Life Center\, 2028 Rockland Drive\, Hoover\, AL\, 35226\, United States
CATEGORIES:FLC Event
ATTACH;FMTTYPE=image/jpeg:https://shadescrest.org/wp-content/uploads/2026/02/moving-2-1.jpg
END:VEVENT
BEGIN:VEVENT
DTSTART;TZID=UTC:20241103T090000
DTEND;TZID=UTC:20241103T120000
DTSTAMP:20260425T143300
CREATED:20240724T175410Z
LAST-MODIFIED:20240724T175412Z
UID:10000417-1730624400-1730635200@shadescrest.org
SUMMARY:Sunday Services
DESCRIPTION:Sunday services consist of Rising service (Modern) at 9 pm in Fellowship Hall\, Connect Groups at 10 am in classrooms\, and Majestic service (Traditional) at 11 pm in Sanctuary. Both services are Livestreamed.
URL:https://shadescrest.org/event/sunday-services-8-4/2024-11-03/
LOCATION:Entire Church Campus\, 452 Park Avenue\, Hoover\, AL\, 35226
CATEGORIES:Church Event
ATTACH;FMTTYPE=image/jpeg:https://shadescrest.org/wp-content/uploads/2024/07/sunday-service.jpg
END:VEVENT
BEGIN:VEVENT
DTSTART;TZID=UTC:20241031T160000
DTEND;TZID=UTC:20241031T170000
DTSTAMP:20260425T143300
CREATED:20240730T174724Z
LAST-MODIFIED:20240730T174724Z
UID:10001291-1730390400-1730394000@shadescrest.org
SUMMARY:Fitness Workouts
DESCRIPTION:Fitness Workouts for all ages led by Abby Allen.
URL:https://shadescrest.org/event/fitness-workouts/2024-10-31/
LOCATION:Family Life Center\, 2028 Rockland Drive\, Hoover\, AL\, 35226\, United States
CATEGORIES:FLC Event
END:VEVENT
END:VCALENDAR