BEGIN:VCALENDAR
VERSION:2.0
PRODID:-//Shades Crest Baptist Church - ECPv6.15.20//NONSGML v1.0//EN
CALSCALE:GREGORIAN
METHOD:PUBLISH
X-WR-CALNAME:Shades Crest Baptist Church
X-ORIGINAL-URL:https://shadescrest.org
X-WR-CALDESC:Events for Shades Crest Baptist Church
REFRESH-INTERVAL;VALUE=DURATION:PT1H
X-Robots-Tag:noindex
X-PUBLISHED-TTL:PT1H
BEGIN:VTIMEZONE
TZID:UTC
BEGIN:STANDARD
TZOFFSETFROM:+0000
TZOFFSETTO:+0000
TZNAME:UTC
DTSTART:20240101T000000
END:STANDARD
END:VTIMEZONE
BEGIN:VEVENT
DTSTART;TZID=UTC:20250226T160000
DTEND;TZID=UTC:20250226T170000
DTSTAMP:20260425T130411
CREATED:20240730T174724Z
LAST-MODIFIED:20240730T174724Z
UID:10001341-1740585600-1740589200@shadescrest.org
SUMMARY:Fitness Workouts
DESCRIPTION:Fitness Workouts for all ages led by Abby Allen.
URL:https://shadescrest.org/event/fitness-workouts/2025-02-26/
LOCATION:Family Life Center\, 2028 Rockland Drive\, Hoover\, AL\, 35226\, United States
CATEGORIES:FLC Event
END:VEVENT
BEGIN:VEVENT
DTSTART;TZID=UTC:20250225T183000
DTEND;TZID=UTC:20250225T203000
DTSTAMP:20260425T130411
CREATED:20240613T172439Z
LAST-MODIFIED:20240613T172439Z
UID:10000093-1740508200-1740515400@shadescrest.org
SUMMARY:Wellness Bible Study
DESCRIPTION:
URL:https://shadescrest.org/event/wellness-bible-study/2025-02-25/
LOCATION:Family Life Center\, 2028 Rockland Drive\, Hoover\, AL\, 35226\, United States
CATEGORIES:FLC Event
ATTACH;FMTTYPE=image/jpeg:https://shadescrest.org/wp-content/uploads/2022/09/FLC-1.jpeg
END:VEVENT
BEGIN:VEVENT
DTSTART;TZID=UTC:20250224T160000
DTEND;TZID=UTC:20250224T170000
DTSTAMP:20260425T130411
CREATED:20240730T174724Z
LAST-MODIFIED:20240730T174724Z
UID:10001340-1740412800-1740416400@shadescrest.org
SUMMARY:Fitness Workouts
DESCRIPTION:Fitness Workouts for all ages led by Abby Allen.
URL:https://shadescrest.org/event/fitness-workouts/2025-02-24/
LOCATION:Family Life Center\, 2028 Rockland Drive\, Hoover\, AL\, 35226\, United States
CATEGORIES:FLC Event
END:VEVENT
BEGIN:VEVENT
DTSTART;TZID=UTC:20250224T090000
DTEND;TZID=UTC:20250224T120000
DTSTAMP:20260425T130411
CREATED:20240606T173300Z
LAST-MODIFIED:20260223T195015Z
UID:10000498-1740387600-1740398400@shadescrest.org
SUMMARY:Retired and Moving
DESCRIPTION:The senior adults gather every Monday at 9 AM in the FLC for games\, fellowship\, and crafts. On the 1st Monday of each month\, a lunch is served. Bring $5 to cover the cost.
URL:https://shadescrest.org/event/retired-and-moving-3/2025-02-24/
LOCATION:Family Life Center\, 2028 Rockland Drive\, Hoover\, AL\, 35226\, United States
CATEGORIES:FLC Event
ATTACH;FMTTYPE=image/jpeg:https://shadescrest.org/wp-content/uploads/2026/02/moving-2-1.jpg
END:VEVENT
BEGIN:VEVENT
DTSTART;TZID=UTC:20250223T090000
DTEND;TZID=UTC:20250223T120000
DTSTAMP:20260425T130411
CREATED:20241120T185907Z
LAST-MODIFIED:20241120T185908Z
UID:10000433-1740301200-1740312000@shadescrest.org
SUMMARY:Sunday Services
DESCRIPTION:Sunday services consist of Rising service (Modern) at 9 pm in Fellowship Hall\, Connect Groups at 10 am in classrooms\, and Majestic service (Traditional) at 11 pm in Sanctuary. Both services are Livestreamed.
URL:https://shadescrest.org/event/sunday-services-8-4-4/2025-02-23/
LOCATION:Entire Church Campus\, 452 Park Avenue\, Hoover\, AL\, 35226
CATEGORIES:Church Event
ATTACH;FMTTYPE=image/jpeg:https://shadescrest.org/wp-content/uploads/2024/07/sunday-service.jpg
END:VEVENT
BEGIN:VEVENT
DTSTART;TZID=UTC:20250222T080000
DTEND;TZID=UTC:20250222T170000
DTSTAMP:20260425T130411
CREATED:20250106T183918Z
LAST-MODIFIED:20250106T183918Z
UID:10001844-1740211200-1740243600@shadescrest.org
SUMMARY:Shades Crest Community Basketball Grades 1-6
DESCRIPTION:
URL:https://shadescrest.org/event/shades-crest-community-basketball-grades-1-6/2025-02-22/
LOCATION:Family Life Center\, 2028 Rockland Drive\, Hoover\, AL\, 35226\, United States
CATEGORIES:FLC Event
ATTACH;FMTTYPE=image/jpeg:https://shadescrest.org/wp-content/uploads/2025/01/basketball.jpg
END:VEVENT
BEGIN:VEVENT
DTSTART;TZID=UTC:20250220T160000
DTEND;TZID=UTC:20250220T170000
DTSTAMP:20260425T130411
CREATED:20240730T174724Z
LAST-MODIFIED:20240730T174724Z
UID:10001339-1740067200-1740070800@shadescrest.org
SUMMARY:Fitness Workouts
DESCRIPTION:Fitness Workouts for all ages led by Abby Allen.
URL:https://shadescrest.org/event/fitness-workouts/2025-02-20/
LOCATION:Family Life Center\, 2028 Rockland Drive\, Hoover\, AL\, 35226\, United States
CATEGORIES:FLC Event
END:VEVENT
BEGIN:VEVENT
DTSTART;TZID=UTC:20250220T101500
DTEND;TZID=UTC:20250220T111500
DTSTAMP:20260425T130411
CREATED:20250206T202123Z
LAST-MODIFIED:20260107T205006Z
UID:10001853-1740046500-1740050100@shadescrest.org
SUMMARY:Mountainaires Choir Rehearsal
DESCRIPTION:New members are always welcome.
URL:https://shadescrest.org/event/mountainaires-choir-rehearsal/2025-02-20/
LOCATION:Music Suite
CATEGORIES:Senior Adults Event
ATTACH;FMTTYPE=image/jpeg:https://shadescrest.org/wp-content/uploads/2025/02/mountainaires.jpg
END:VEVENT
BEGIN:VEVENT
DTSTART;TZID=UTC:20250219T164500
DTEND;TZID=UTC:20250219T200000
DTSTAMP:20260425T130411
CREATED:20240723T191342Z
LAST-MODIFIED:20260216T213352Z
UID:10000756-1739983500-1739995200@shadescrest.org
SUMMARY:Midpoint Wednesday Evening Activities
DESCRIPTION:Join us each Wednesday evening for activities and Bible Study for all ages beginning with dinner at 4:45pm in the Fellowship Hall.
URL:https://shadescrest.org/event/midpoint-wednesday-evening-activities/2025-02-19/
LOCATION:Entire Church Campus\, 452 Park Avenue\, Hoover\, AL\, 35226
CATEGORIES:Church Event
ATTACH;FMTTYPE=image/jpeg:https://shadescrest.org/wp-content/uploads/2026/02/midpoint-new.jpg
END:VEVENT
BEGIN:VEVENT
DTSTART;TZID=UTC:20250219T160000
DTEND;TZID=UTC:20250219T170000
DTSTAMP:20260425T130411
CREATED:20240730T174724Z
LAST-MODIFIED:20240730T174724Z
UID:10001338-1739980800-1739984400@shadescrest.org
SUMMARY:Fitness Workouts
DESCRIPTION:Fitness Workouts for all ages led by Abby Allen.
URL:https://shadescrest.org/event/fitness-workouts/2025-02-19/
LOCATION:Family Life Center\, 2028 Rockland Drive\, Hoover\, AL\, 35226\, United States
CATEGORIES:FLC Event
END:VEVENT
BEGIN:VEVENT
DTSTART;TZID=UTC:20250218T183000
DTEND;TZID=UTC:20250218T203000
DTSTAMP:20260425T130411
CREATED:20240613T172439Z
LAST-MODIFIED:20240613T172439Z
UID:10000092-1739903400-1739910600@shadescrest.org
SUMMARY:Wellness Bible Study
DESCRIPTION:
URL:https://shadescrest.org/event/wellness-bible-study/2025-02-18/
LOCATION:Family Life Center\, 2028 Rockland Drive\, Hoover\, AL\, 35226\, United States
CATEGORIES:FLC Event
ATTACH;FMTTYPE=image/jpeg:https://shadescrest.org/wp-content/uploads/2022/09/FLC-1.jpeg
END:VEVENT
BEGIN:VEVENT
DTSTART;TZID=UTC:20250217T160000
DTEND;TZID=UTC:20250217T170000
DTSTAMP:20260425T130411
CREATED:20240730T174724Z
LAST-MODIFIED:20240730T174724Z
UID:10001337-1739808000-1739811600@shadescrest.org
SUMMARY:Fitness Workouts
DESCRIPTION:Fitness Workouts for all ages led by Abby Allen.
URL:https://shadescrest.org/event/fitness-workouts/2025-02-17/
LOCATION:Family Life Center\, 2028 Rockland Drive\, Hoover\, AL\, 35226\, United States
CATEGORIES:FLC Event
END:VEVENT
BEGIN:VEVENT
DTSTART;TZID=UTC:20250217T090000
DTEND;TZID=UTC:20250217T120000
DTSTAMP:20260425T130411
CREATED:20240606T173300Z
LAST-MODIFIED:20260223T195015Z
UID:10000497-1739782800-1739793600@shadescrest.org
SUMMARY:Retired and Moving
DESCRIPTION:The senior adults gather every Monday at 9 AM in the FLC for games\, fellowship\, and crafts. On the 1st Monday of each month\, a lunch is served. Bring $5 to cover the cost.
URL:https://shadescrest.org/event/retired-and-moving-3/2025-02-17/
LOCATION:Family Life Center\, 2028 Rockland Drive\, Hoover\, AL\, 35226\, United States
CATEGORIES:FLC Event
ATTACH;FMTTYPE=image/jpeg:https://shadescrest.org/wp-content/uploads/2026/02/moving-2-1.jpg
END:VEVENT
BEGIN:VEVENT
DTSTART;TZID=UTC:20250216T090000
DTEND;TZID=UTC:20250216T120000
DTSTAMP:20260425T130411
CREATED:20241120T185907Z
LAST-MODIFIED:20241120T185908Z
UID:10000432-1739696400-1739707200@shadescrest.org
SUMMARY:Sunday Services
DESCRIPTION:Sunday services consist of Rising service (Modern) at 9 pm in Fellowship Hall\, Connect Groups at 10 am in classrooms\, and Majestic service (Traditional) at 11 pm in Sanctuary. Both services are Livestreamed.
URL:https://shadescrest.org/event/sunday-services-8-4-4/2025-02-16/
LOCATION:Entire Church Campus\, 452 Park Avenue\, Hoover\, AL\, 35226
CATEGORIES:Church Event
ATTACH;FMTTYPE=image/jpeg:https://shadescrest.org/wp-content/uploads/2024/07/sunday-service.jpg
END:VEVENT
BEGIN:VEVENT
DTSTART;TZID=UTC:20250215T080000
DTEND;TZID=UTC:20250215T170000
DTSTAMP:20260425T130411
CREATED:20250106T183918Z
LAST-MODIFIED:20250106T183918Z
UID:10001843-1739606400-1739638800@shadescrest.org
SUMMARY:Shades Crest Community Basketball Grades 1-6
DESCRIPTION:
URL:https://shadescrest.org/event/shades-crest-community-basketball-grades-1-6/2025-02-15/
LOCATION:Family Life Center\, 2028 Rockland Drive\, Hoover\, AL\, 35226\, United States
CATEGORIES:FLC Event
ATTACH;FMTTYPE=image/jpeg:https://shadescrest.org/wp-content/uploads/2025/01/basketball.jpg
END:VEVENT
BEGIN:VEVENT
DTSTART;TZID=UTC:20250213T160000
DTEND;TZID=UTC:20250213T170000
DTSTAMP:20260425T130411
CREATED:20240730T174724Z
LAST-MODIFIED:20240730T174724Z
UID:10001336-1739462400-1739466000@shadescrest.org
SUMMARY:Fitness Workouts
DESCRIPTION:Fitness Workouts for all ages led by Abby Allen.
URL:https://shadescrest.org/event/fitness-workouts/2025-02-13/
LOCATION:Family Life Center\, 2028 Rockland Drive\, Hoover\, AL\, 35226\, United States
CATEGORIES:FLC Event
END:VEVENT
BEGIN:VEVENT
DTSTART;TZID=UTC:20250213T101500
DTEND;TZID=UTC:20250213T111500
DTSTAMP:20260425T130411
CREATED:20250206T202123Z
LAST-MODIFIED:20260107T205006Z
UID:10001852-1739441700-1739445300@shadescrest.org
SUMMARY:Mountainaires Choir Rehearsal
DESCRIPTION:New members are always welcome.
URL:https://shadescrest.org/event/mountainaires-choir-rehearsal/2025-02-13/
LOCATION:Music Suite
CATEGORIES:Senior Adults Event
ATTACH;FMTTYPE=image/jpeg:https://shadescrest.org/wp-content/uploads/2025/02/mountainaires.jpg
END:VEVENT
BEGIN:VEVENT
DTSTART;TZID=UTC:20250212T164500
DTEND;TZID=UTC:20250212T200000
DTSTAMP:20260425T130411
CREATED:20240723T191342Z
LAST-MODIFIED:20260216T213352Z
UID:10000755-1739378700-1739390400@shadescrest.org
SUMMARY:Midpoint Wednesday Evening Activities
DESCRIPTION:Join us each Wednesday evening for activities and Bible Study for all ages beginning with dinner at 4:45pm in the Fellowship Hall.
URL:https://shadescrest.org/event/midpoint-wednesday-evening-activities/2025-02-12/
LOCATION:Entire Church Campus\, 452 Park Avenue\, Hoover\, AL\, 35226
CATEGORIES:Church Event
ATTACH;FMTTYPE=image/jpeg:https://shadescrest.org/wp-content/uploads/2026/02/midpoint-new.jpg
END:VEVENT
BEGIN:VEVENT
DTSTART;TZID=UTC:20250212T160000
DTEND;TZID=UTC:20250212T170000
DTSTAMP:20260425T130411
CREATED:20240730T174724Z
LAST-MODIFIED:20240730T174724Z
UID:10001335-1739376000-1739379600@shadescrest.org
SUMMARY:Fitness Workouts
DESCRIPTION:Fitness Workouts for all ages led by Abby Allen.
URL:https://shadescrest.org/event/fitness-workouts/2025-02-12/
LOCATION:Family Life Center\, 2028 Rockland Drive\, Hoover\, AL\, 35226\, United States
CATEGORIES:FLC Event
END:VEVENT
BEGIN:VEVENT
DTSTART;TZID=UTC:20250211T183000
DTEND;TZID=UTC:20250211T203000
DTSTAMP:20260425T130411
CREATED:20240613T172439Z
LAST-MODIFIED:20240613T172439Z
UID:10000091-1739298600-1739305800@shadescrest.org
SUMMARY:Wellness Bible Study
DESCRIPTION:
URL:https://shadescrest.org/event/wellness-bible-study/2025-02-11/
LOCATION:Family Life Center\, 2028 Rockland Drive\, Hoover\, AL\, 35226\, United States
CATEGORIES:FLC Event
ATTACH;FMTTYPE=image/jpeg:https://shadescrest.org/wp-content/uploads/2022/09/FLC-1.jpeg
END:VEVENT
BEGIN:VEVENT
DTSTART;TZID=UTC:20250210T160000
DTEND;TZID=UTC:20250210T170000
DTSTAMP:20260425T130411
CREATED:20240730T174724Z
LAST-MODIFIED:20240730T174724Z
UID:10001334-1739203200-1739206800@shadescrest.org
SUMMARY:Fitness Workouts
DESCRIPTION:Fitness Workouts for all ages led by Abby Allen.
URL:https://shadescrest.org/event/fitness-workouts/2025-02-10/
LOCATION:Family Life Center\, 2028 Rockland Drive\, Hoover\, AL\, 35226\, United States
CATEGORIES:FLC Event
END:VEVENT
BEGIN:VEVENT
DTSTART;TZID=UTC:20250210T090000
DTEND;TZID=UTC:20250210T120000
DTSTAMP:20260425T130411
CREATED:20240606T173300Z
LAST-MODIFIED:20260223T195015Z
UID:10000496-1739178000-1739188800@shadescrest.org
SUMMARY:Retired and Moving
DESCRIPTION:The senior adults gather every Monday at 9 AM in the FLC for games\, fellowship\, and crafts. On the 1st Monday of each month\, a lunch is served. Bring $5 to cover the cost.
URL:https://shadescrest.org/event/retired-and-moving-3/2025-02-10/
LOCATION:Family Life Center\, 2028 Rockland Drive\, Hoover\, AL\, 35226\, United States
CATEGORIES:FLC Event
ATTACH;FMTTYPE=image/jpeg:https://shadescrest.org/wp-content/uploads/2026/02/moving-2-1.jpg
END:VEVENT
BEGIN:VEVENT
DTSTART;TZID=UTC:20250209T090000
DTEND;TZID=UTC:20250209T120000
DTSTAMP:20260425T130411
CREATED:20241120T185907Z
LAST-MODIFIED:20241120T185908Z
UID:10000431-1739091600-1739102400@shadescrest.org
SUMMARY:Sunday Services
DESCRIPTION:Sunday services consist of Rising service (Modern) at 9 pm in Fellowship Hall\, Connect Groups at 10 am in classrooms\, and Majestic service (Traditional) at 11 pm in Sanctuary. Both services are Livestreamed.
URL:https://shadescrest.org/event/sunday-services-8-4-4/2025-02-09/
LOCATION:Entire Church Campus\, 452 Park Avenue\, Hoover\, AL\, 35226
CATEGORIES:Church Event
ATTACH;FMTTYPE=image/jpeg:https://shadescrest.org/wp-content/uploads/2024/07/sunday-service.jpg
END:VEVENT
BEGIN:VEVENT
DTSTART;TZID=UTC:20250208T080000
DTEND;TZID=UTC:20250208T170000
DTSTAMP:20260425T130411
CREATED:20250106T183918Z
LAST-MODIFIED:20250106T183918Z
UID:10001842-1739001600-1739034000@shadescrest.org
SUMMARY:Shades Crest Community Basketball Grades 1-6
DESCRIPTION:
URL:https://shadescrest.org/event/shades-crest-community-basketball-grades-1-6/2025-02-08/
LOCATION:Family Life Center\, 2028 Rockland Drive\, Hoover\, AL\, 35226\, United States
CATEGORIES:FLC Event
ATTACH;FMTTYPE=image/jpeg:https://shadescrest.org/wp-content/uploads/2025/01/basketball.jpg
END:VEVENT
BEGIN:VEVENT
DTSTART;TZID=UTC:20250206T160000
DTEND;TZID=UTC:20250206T170000
DTSTAMP:20260425T130411
CREATED:20240730T174724Z
LAST-MODIFIED:20240730T174724Z
UID:10001333-1738857600-1738861200@shadescrest.org
SUMMARY:Fitness Workouts
DESCRIPTION:Fitness Workouts for all ages led by Abby Allen.
URL:https://shadescrest.org/event/fitness-workouts/2025-02-06/
LOCATION:Family Life Center\, 2028 Rockland Drive\, Hoover\, AL\, 35226\, United States
CATEGORIES:FLC Event
END:VEVENT
BEGIN:VEVENT
DTSTART;TZID=UTC:20250206T101500
DTEND;TZID=UTC:20250206T111500
DTSTAMP:20260425T130411
CREATED:20250206T202123Z
LAST-MODIFIED:20260107T205006Z
UID:10001851-1738836900-1738840500@shadescrest.org
SUMMARY:Mountainaires Choir Rehearsal
DESCRIPTION:New members are always welcome.
URL:https://shadescrest.org/event/mountainaires-choir-rehearsal/2025-02-06/
LOCATION:Music Suite
CATEGORIES:Senior Adults Event
ATTACH;FMTTYPE=image/jpeg:https://shadescrest.org/wp-content/uploads/2025/02/mountainaires.jpg
END:VEVENT
BEGIN:VEVENT
DTSTART;TZID=UTC:20250205T164500
DTEND;TZID=UTC:20250205T200000
DTSTAMP:20260425T130411
CREATED:20240723T191342Z
LAST-MODIFIED:20260216T213352Z
UID:10000754-1738773900-1738785600@shadescrest.org
SUMMARY:Midpoint Wednesday Evening Activities
DESCRIPTION:Join us each Wednesday evening for activities and Bible Study for all ages beginning with dinner at 4:45pm in the Fellowship Hall.
URL:https://shadescrest.org/event/midpoint-wednesday-evening-activities/2025-02-05/
LOCATION:Entire Church Campus\, 452 Park Avenue\, Hoover\, AL\, 35226
CATEGORIES:Church Event
ATTACH;FMTTYPE=image/jpeg:https://shadescrest.org/wp-content/uploads/2026/02/midpoint-new.jpg
END:VEVENT
BEGIN:VEVENT
DTSTART;TZID=UTC:20250205T160000
DTEND;TZID=UTC:20250205T170000
DTSTAMP:20260425T130411
CREATED:20240730T174724Z
LAST-MODIFIED:20240730T174724Z
UID:10001332-1738771200-1738774800@shadescrest.org
SUMMARY:Fitness Workouts
DESCRIPTION:Fitness Workouts for all ages led by Abby Allen.
URL:https://shadescrest.org/event/fitness-workouts/2025-02-05/
LOCATION:Family Life Center\, 2028 Rockland Drive\, Hoover\, AL\, 35226\, United States
CATEGORIES:FLC Event
END:VEVENT
BEGIN:VEVENT
DTSTART;TZID=UTC:20250204T183000
DTEND;TZID=UTC:20250204T203000
DTSTAMP:20260425T130411
CREATED:20240613T172439Z
LAST-MODIFIED:20240613T172439Z
UID:10000090-1738693800-1738701000@shadescrest.org
SUMMARY:Wellness Bible Study
DESCRIPTION:
URL:https://shadescrest.org/event/wellness-bible-study/2025-02-04/
LOCATION:Family Life Center\, 2028 Rockland Drive\, Hoover\, AL\, 35226\, United States
CATEGORIES:FLC Event
ATTACH;FMTTYPE=image/jpeg:https://shadescrest.org/wp-content/uploads/2022/09/FLC-1.jpeg
END:VEVENT
BEGIN:VEVENT
DTSTART;TZID=UTC:20250203T160000
DTEND;TZID=UTC:20250203T170000
DTSTAMP:20260425T130411
CREATED:20240730T174724Z
LAST-MODIFIED:20240730T174724Z
UID:10001331-1738598400-1738602000@shadescrest.org
SUMMARY:Fitness Workouts
DESCRIPTION:Fitness Workouts for all ages led by Abby Allen.
URL:https://shadescrest.org/event/fitness-workouts/2025-02-03/
LOCATION:Family Life Center\, 2028 Rockland Drive\, Hoover\, AL\, 35226\, United States
CATEGORIES:FLC Event
END:VEVENT
END:VCALENDAR