BEGIN:VCALENDAR
VERSION:2.0
PRODID:-//Shades Crest Baptist Church - ECPv6.15.20//NONSGML v1.0//EN
CALSCALE:GREGORIAN
METHOD:PUBLISH
X-WR-CALNAME:Shades Crest Baptist Church
X-ORIGINAL-URL:https://shadescrest.org
X-WR-CALDESC:Events for Shades Crest Baptist Church
REFRESH-INTERVAL;VALUE=DURATION:PT1H
X-Robots-Tag:noindex
X-PUBLISHED-TTL:PT1H
BEGIN:VTIMEZONE
TZID:UTC
BEGIN:STANDARD
TZOFFSETFROM:+0000
TZOFFSETTO:+0000
TZNAME:UTC
DTSTART:20260101T000000
END:STANDARD
END:VTIMEZONE
BEGIN:VEVENT
DTSTART;TZID=UTC:20270830T090000
DTEND;TZID=UTC:20270830T120000
DTSTAMP:20260425T124328
CREATED:20240606T173300Z
LAST-MODIFIED:20260223T195015Z
UID:10000629-1819616400-1819627200@shadescrest.org
SUMMARY:Retired and Moving
DESCRIPTION:The senior adults gather every Monday at 9 AM in the FLC for games\, fellowship\, and crafts. On the 1st Monday of each month\, a lunch is served. Bring $5 to cover the cost.
URL:https://shadescrest.org/event/retired-and-moving-3/2027-08-30/
LOCATION:Family Life Center\, 2028 Rockland Drive\, Hoover\, AL\, 35226\, United States
CATEGORIES:FLC Event
ATTACH;FMTTYPE=image/jpeg:https://shadescrest.org/wp-content/uploads/2026/02/moving-2-1.jpg
END:VEVENT
BEGIN:VEVENT
DTSTART;TZID=UTC:20270901T164500
DTEND;TZID=UTC:20270901T200000
DTSTAMP:20260425T124328
CREATED:20240723T191342Z
LAST-MODIFIED:20260216T213352Z
UID:10000888-1819817100-1819828800@shadescrest.org
SUMMARY:Midpoint Wednesday Evening Activities
DESCRIPTION:Join us each Wednesday evening for activities and Bible Study for all ages beginning with dinner at 4:45pm in the Fellowship Hall.
URL:https://shadescrest.org/event/midpoint-wednesday-evening-activities/2027-09-01/
LOCATION:Entire Church Campus\, 452 Park Avenue\, Hoover\, AL\, 35226
CATEGORIES:Church Event
ATTACH;FMTTYPE=image/jpeg:https://shadescrest.org/wp-content/uploads/2026/02/midpoint-new.jpg
END:VEVENT
BEGIN:VEVENT
DTSTART;TZID=UTC:20270902T101500
DTEND;TZID=UTC:20270902T111500
DTSTAMP:20260425T124328
CREATED:20250206T202123Z
LAST-MODIFIED:20260107T205006Z
UID:10001985-1819880100-1819883700@shadescrest.org
SUMMARY:Mountainaires Choir Rehearsal
DESCRIPTION:New members are always welcome.
URL:https://shadescrest.org/event/mountainaires-choir-rehearsal/2027-09-02/
LOCATION:Music Suite
CATEGORIES:Senior Adults Event
ATTACH;FMTTYPE=image/jpeg:https://shadescrest.org/wp-content/uploads/2025/02/mountainaires.jpg
END:VEVENT
BEGIN:VEVENT
DTSTART;TZID=UTC:20270905T090000
DTEND;TZID=UTC:20270905T100000
DTSTAMP:20260425T124328
CREATED:20251114T164510Z
LAST-MODIFIED:20260220T002019Z
UID:10002757-1820134800-1820138400@shadescrest.org
SUMMARY:RISING Worship Service
DESCRIPTION:Come to our modern worship service\, Rising\, at 9:00 a.m. In the Rising service\, you’ll worship with our praise team and band in our church fellowship hall. You’ll see song lyrics and scripture passages projected on a screen\, and watch videos related to that day’s worship focus. Baskets are passed during this service\, offering you the opportunity to give. \nThe fellowship hall at Shades Crest is a multi-purpose space where we have meals as a church family\, host large churchwide and community events\, and have our weekly Rising worship service. \nOur speaker will preach on the same passage of scripture in this worship service as he does in the 11:00 a.m. service.
URL:https://shadescrest.org/event/rising-worship-service/2027-09-05/
LOCATION:Fellowship Hall\, 452 Park Avenue\, Hoover\, AL\, 35226\, United States
CATEGORIES:Church Event
ATTACH;FMTTYPE=image/jpeg:https://shadescrest.org/wp-content/uploads/2026/02/main-worship-slide-1.jpg
END:VEVENT
BEGIN:VEVENT
DTSTART;TZID=UTC:20270905T110000
DTEND;TZID=UTC:20270905T120000
DTSTAMP:20260425T124328
CREATED:20251114T164638Z
LAST-MODIFIED:20260220T002101Z
UID:10003018-1820142000-1820145600@shadescrest.org
SUMMARY:MAJESTIC Worship Service
DESCRIPTION:Majestic is our conventional worship service\, located in our church sanctuary. In this service\, you will worship with our sanctuary choir\, sing hymns and occasional choruses accompanied by piano\, pipe organ\, and sometimes our church orchestra. You will receive a printed bulletin as a guide for this worship service. Offering plates are passed during this service\, providing you the opportunity to give. \nOur speaker will preach on the same passage of scripture in this service as he does in the 9:00 a.m. service.
URL:https://shadescrest.org/event/majestic-worship-service/2027-09-05/
LOCATION:Church Sanctuary\, 452 Park Avenue\, Hoover\, AL\, 35226\, United States
CATEGORIES:Church Event
ATTACH;FMTTYPE=image/jpeg:https://shadescrest.org/wp-content/uploads/2026/02/main-worship-slide-1.jpg
END:VEVENT
BEGIN:VEVENT
DTSTART;TZID=UTC:20270906T090000
DTEND;TZID=UTC:20270906T120000
DTSTAMP:20260425T124328
CREATED:20240606T173300Z
LAST-MODIFIED:20260223T195015Z
UID:10000630-1820221200-1820232000@shadescrest.org
SUMMARY:Retired and Moving
DESCRIPTION:The senior adults gather every Monday at 9 AM in the FLC for games\, fellowship\, and crafts. On the 1st Monday of each month\, a lunch is served. Bring $5 to cover the cost.
URL:https://shadescrest.org/event/retired-and-moving-3/2027-09-06/
LOCATION:Family Life Center\, 2028 Rockland Drive\, Hoover\, AL\, 35226\, United States
CATEGORIES:FLC Event
ATTACH;FMTTYPE=image/jpeg:https://shadescrest.org/wp-content/uploads/2026/02/moving-2-1.jpg
END:VEVENT
BEGIN:VEVENT
DTSTART;TZID=UTC:20270908T164500
DTEND;TZID=UTC:20270908T200000
DTSTAMP:20260425T124328
CREATED:20240723T191342Z
LAST-MODIFIED:20260216T213352Z
UID:10000889-1820421900-1820433600@shadescrest.org
SUMMARY:Midpoint Wednesday Evening Activities
DESCRIPTION:Join us each Wednesday evening for activities and Bible Study for all ages beginning with dinner at 4:45pm in the Fellowship Hall.
URL:https://shadescrest.org/event/midpoint-wednesday-evening-activities/2027-09-08/
LOCATION:Entire Church Campus\, 452 Park Avenue\, Hoover\, AL\, 35226
CATEGORIES:Church Event
ATTACH;FMTTYPE=image/jpeg:https://shadescrest.org/wp-content/uploads/2026/02/midpoint-new.jpg
END:VEVENT
BEGIN:VEVENT
DTSTART;TZID=UTC:20270909T101500
DTEND;TZID=UTC:20270909T111500
DTSTAMP:20260425T124328
CREATED:20250206T202123Z
LAST-MODIFIED:20260107T205006Z
UID:10001986-1820484900-1820488500@shadescrest.org
SUMMARY:Mountainaires Choir Rehearsal
DESCRIPTION:New members are always welcome.
URL:https://shadescrest.org/event/mountainaires-choir-rehearsal/2027-09-09/
LOCATION:Music Suite
CATEGORIES:Senior Adults Event
ATTACH;FMTTYPE=image/jpeg:https://shadescrest.org/wp-content/uploads/2025/02/mountainaires.jpg
END:VEVENT
BEGIN:VEVENT
DTSTART;TZID=UTC:20270912T090000
DTEND;TZID=UTC:20270912T100000
DTSTAMP:20260425T124328
CREATED:20251114T164510Z
LAST-MODIFIED:20260220T002019Z
UID:10002758-1820739600-1820743200@shadescrest.org
SUMMARY:RISING Worship Service
DESCRIPTION:Come to our modern worship service\, Rising\, at 9:00 a.m. In the Rising service\, you’ll worship with our praise team and band in our church fellowship hall. You’ll see song lyrics and scripture passages projected on a screen\, and watch videos related to that day’s worship focus. Baskets are passed during this service\, offering you the opportunity to give. \nThe fellowship hall at Shades Crest is a multi-purpose space where we have meals as a church family\, host large churchwide and community events\, and have our weekly Rising worship service. \nOur speaker will preach on the same passage of scripture in this worship service as he does in the 11:00 a.m. service.
URL:https://shadescrest.org/event/rising-worship-service/2027-09-12/
LOCATION:Fellowship Hall\, 452 Park Avenue\, Hoover\, AL\, 35226\, United States
CATEGORIES:Church Event
ATTACH;FMTTYPE=image/jpeg:https://shadescrest.org/wp-content/uploads/2026/02/main-worship-slide-1.jpg
END:VEVENT
BEGIN:VEVENT
DTSTART;TZID=UTC:20270912T110000
DTEND;TZID=UTC:20270912T120000
DTSTAMP:20260425T124328
CREATED:20251114T164638Z
LAST-MODIFIED:20260220T002101Z
UID:10003019-1820746800-1820750400@shadescrest.org
SUMMARY:MAJESTIC Worship Service
DESCRIPTION:Majestic is our conventional worship service\, located in our church sanctuary. In this service\, you will worship with our sanctuary choir\, sing hymns and occasional choruses accompanied by piano\, pipe organ\, and sometimes our church orchestra. You will receive a printed bulletin as a guide for this worship service. Offering plates are passed during this service\, providing you the opportunity to give. \nOur speaker will preach on the same passage of scripture in this service as he does in the 9:00 a.m. service.
URL:https://shadescrest.org/event/majestic-worship-service/2027-09-12/
LOCATION:Church Sanctuary\, 452 Park Avenue\, Hoover\, AL\, 35226\, United States
CATEGORIES:Church Event
ATTACH;FMTTYPE=image/jpeg:https://shadescrest.org/wp-content/uploads/2026/02/main-worship-slide-1.jpg
END:VEVENT
BEGIN:VEVENT
DTSTART;TZID=UTC:20270913T090000
DTEND;TZID=UTC:20270913T120000
DTSTAMP:20260425T124328
CREATED:20240606T173300Z
LAST-MODIFIED:20260223T195015Z
UID:10000631-1820826000-1820836800@shadescrest.org
SUMMARY:Retired and Moving
DESCRIPTION:The senior adults gather every Monday at 9 AM in the FLC for games\, fellowship\, and crafts. On the 1st Monday of each month\, a lunch is served. Bring $5 to cover the cost.
URL:https://shadescrest.org/event/retired-and-moving-3/2027-09-13/
LOCATION:Family Life Center\, 2028 Rockland Drive\, Hoover\, AL\, 35226\, United States
CATEGORIES:FLC Event
ATTACH;FMTTYPE=image/jpeg:https://shadescrest.org/wp-content/uploads/2026/02/moving-2-1.jpg
END:VEVENT
BEGIN:VEVENT
DTSTART;TZID=UTC:20270915T164500
DTEND;TZID=UTC:20270915T200000
DTSTAMP:20260425T124328
CREATED:20240723T191342Z
LAST-MODIFIED:20260216T213352Z
UID:10000890-1821026700-1821038400@shadescrest.org
SUMMARY:Midpoint Wednesday Evening Activities
DESCRIPTION:Join us each Wednesday evening for activities and Bible Study for all ages beginning with dinner at 4:45pm in the Fellowship Hall.
URL:https://shadescrest.org/event/midpoint-wednesday-evening-activities/2027-09-15/
LOCATION:Entire Church Campus\, 452 Park Avenue\, Hoover\, AL\, 35226
CATEGORIES:Church Event
ATTACH;FMTTYPE=image/jpeg:https://shadescrest.org/wp-content/uploads/2026/02/midpoint-new.jpg
END:VEVENT
BEGIN:VEVENT
DTSTART;TZID=UTC:20270916T101500
DTEND;TZID=UTC:20270916T111500
DTSTAMP:20260425T124328
CREATED:20250206T202123Z
LAST-MODIFIED:20260107T205006Z
UID:10001987-1821089700-1821093300@shadescrest.org
SUMMARY:Mountainaires Choir Rehearsal
DESCRIPTION:New members are always welcome.
URL:https://shadescrest.org/event/mountainaires-choir-rehearsal/2027-09-16/
LOCATION:Music Suite
CATEGORIES:Senior Adults Event
ATTACH;FMTTYPE=image/jpeg:https://shadescrest.org/wp-content/uploads/2025/02/mountainaires.jpg
END:VEVENT
BEGIN:VEVENT
DTSTART;TZID=UTC:20270919T090000
DTEND;TZID=UTC:20270919T100000
DTSTAMP:20260425T124328
CREATED:20251114T164510Z
LAST-MODIFIED:20260220T002019Z
UID:10002759-1821344400-1821348000@shadescrest.org
SUMMARY:RISING Worship Service
DESCRIPTION:Come to our modern worship service\, Rising\, at 9:00 a.m. In the Rising service\, you’ll worship with our praise team and band in our church fellowship hall. You’ll see song lyrics and scripture passages projected on a screen\, and watch videos related to that day’s worship focus. Baskets are passed during this service\, offering you the opportunity to give. \nThe fellowship hall at Shades Crest is a multi-purpose space where we have meals as a church family\, host large churchwide and community events\, and have our weekly Rising worship service. \nOur speaker will preach on the same passage of scripture in this worship service as he does in the 11:00 a.m. service.
URL:https://shadescrest.org/event/rising-worship-service/2027-09-19/
LOCATION:Fellowship Hall\, 452 Park Avenue\, Hoover\, AL\, 35226\, United States
CATEGORIES:Church Event
ATTACH;FMTTYPE=image/jpeg:https://shadescrest.org/wp-content/uploads/2026/02/main-worship-slide-1.jpg
END:VEVENT
BEGIN:VEVENT
DTSTART;TZID=UTC:20270919T110000
DTEND;TZID=UTC:20270919T120000
DTSTAMP:20260425T124328
CREATED:20251114T164638Z
LAST-MODIFIED:20260220T002101Z
UID:10003020-1821351600-1821355200@shadescrest.org
SUMMARY:MAJESTIC Worship Service
DESCRIPTION:Majestic is our conventional worship service\, located in our church sanctuary. In this service\, you will worship with our sanctuary choir\, sing hymns and occasional choruses accompanied by piano\, pipe organ\, and sometimes our church orchestra. You will receive a printed bulletin as a guide for this worship service. Offering plates are passed during this service\, providing you the opportunity to give. \nOur speaker will preach on the same passage of scripture in this service as he does in the 9:00 a.m. service.
URL:https://shadescrest.org/event/majestic-worship-service/2027-09-19/
LOCATION:Church Sanctuary\, 452 Park Avenue\, Hoover\, AL\, 35226\, United States
CATEGORIES:Church Event
ATTACH;FMTTYPE=image/jpeg:https://shadescrest.org/wp-content/uploads/2026/02/main-worship-slide-1.jpg
END:VEVENT
BEGIN:VEVENT
DTSTART;TZID=UTC:20270920T090000
DTEND;TZID=UTC:20270920T120000
DTSTAMP:20260425T124328
CREATED:20240606T173300Z
LAST-MODIFIED:20260223T195015Z
UID:10000632-1821430800-1821441600@shadescrest.org
SUMMARY:Retired and Moving
DESCRIPTION:The senior adults gather every Monday at 9 AM in the FLC for games\, fellowship\, and crafts. On the 1st Monday of each month\, a lunch is served. Bring $5 to cover the cost.
URL:https://shadescrest.org/event/retired-and-moving-3/2027-09-20/
LOCATION:Family Life Center\, 2028 Rockland Drive\, Hoover\, AL\, 35226\, United States
CATEGORIES:FLC Event
ATTACH;FMTTYPE=image/jpeg:https://shadescrest.org/wp-content/uploads/2026/02/moving-2-1.jpg
END:VEVENT
BEGIN:VEVENT
DTSTART;TZID=UTC:20270922T164500
DTEND;TZID=UTC:20270922T200000
DTSTAMP:20260425T124328
CREATED:20240723T191342Z
LAST-MODIFIED:20260216T213352Z
UID:10000891-1821631500-1821643200@shadescrest.org
SUMMARY:Midpoint Wednesday Evening Activities
DESCRIPTION:Join us each Wednesday evening for activities and Bible Study for all ages beginning with dinner at 4:45pm in the Fellowship Hall.
URL:https://shadescrest.org/event/midpoint-wednesday-evening-activities/2027-09-22/
LOCATION:Entire Church Campus\, 452 Park Avenue\, Hoover\, AL\, 35226
CATEGORIES:Church Event
ATTACH;FMTTYPE=image/jpeg:https://shadescrest.org/wp-content/uploads/2026/02/midpoint-new.jpg
END:VEVENT
BEGIN:VEVENT
DTSTART;TZID=UTC:20270923T101500
DTEND;TZID=UTC:20270923T111500
DTSTAMP:20260425T124328
CREATED:20250206T202123Z
LAST-MODIFIED:20260107T205006Z
UID:10001988-1821694500-1821698100@shadescrest.org
SUMMARY:Mountainaires Choir Rehearsal
DESCRIPTION:New members are always welcome.
URL:https://shadescrest.org/event/mountainaires-choir-rehearsal/2027-09-23/
LOCATION:Music Suite
CATEGORIES:Senior Adults Event
ATTACH;FMTTYPE=image/jpeg:https://shadescrest.org/wp-content/uploads/2025/02/mountainaires.jpg
END:VEVENT
BEGIN:VEVENT
DTSTART;TZID=UTC:20270926T090000
DTEND;TZID=UTC:20270926T100000
DTSTAMP:20260425T124328
CREATED:20251114T164510Z
LAST-MODIFIED:20260220T002019Z
UID:10002760-1821949200-1821952800@shadescrest.org
SUMMARY:RISING Worship Service
DESCRIPTION:Come to our modern worship service\, Rising\, at 9:00 a.m. In the Rising service\, you’ll worship with our praise team and band in our church fellowship hall. You’ll see song lyrics and scripture passages projected on a screen\, and watch videos related to that day’s worship focus. Baskets are passed during this service\, offering you the opportunity to give. \nThe fellowship hall at Shades Crest is a multi-purpose space where we have meals as a church family\, host large churchwide and community events\, and have our weekly Rising worship service. \nOur speaker will preach on the same passage of scripture in this worship service as he does in the 11:00 a.m. service.
URL:https://shadescrest.org/event/rising-worship-service/2027-09-26/
LOCATION:Fellowship Hall\, 452 Park Avenue\, Hoover\, AL\, 35226\, United States
CATEGORIES:Church Event
ATTACH;FMTTYPE=image/jpeg:https://shadescrest.org/wp-content/uploads/2026/02/main-worship-slide-1.jpg
END:VEVENT
BEGIN:VEVENT
DTSTART;TZID=UTC:20270926T110000
DTEND;TZID=UTC:20270926T120000
DTSTAMP:20260425T124328
CREATED:20251114T164638Z
LAST-MODIFIED:20260220T002101Z
UID:10003021-1821956400-1821960000@shadescrest.org
SUMMARY:MAJESTIC Worship Service
DESCRIPTION:Majestic is our conventional worship service\, located in our church sanctuary. In this service\, you will worship with our sanctuary choir\, sing hymns and occasional choruses accompanied by piano\, pipe organ\, and sometimes our church orchestra. You will receive a printed bulletin as a guide for this worship service. Offering plates are passed during this service\, providing you the opportunity to give. \nOur speaker will preach on the same passage of scripture in this service as he does in the 9:00 a.m. service.
URL:https://shadescrest.org/event/majestic-worship-service/2027-09-26/
LOCATION:Church Sanctuary\, 452 Park Avenue\, Hoover\, AL\, 35226\, United States
CATEGORIES:Church Event
ATTACH;FMTTYPE=image/jpeg:https://shadescrest.org/wp-content/uploads/2026/02/main-worship-slide-1.jpg
END:VEVENT
BEGIN:VEVENT
DTSTART;TZID=UTC:20270927T090000
DTEND;TZID=UTC:20270927T120000
DTSTAMP:20260425T124328
CREATED:20240606T173300Z
LAST-MODIFIED:20260223T195015Z
UID:10000633-1822035600-1822046400@shadescrest.org
SUMMARY:Retired and Moving
DESCRIPTION:The senior adults gather every Monday at 9 AM in the FLC for games\, fellowship\, and crafts. On the 1st Monday of each month\, a lunch is served. Bring $5 to cover the cost.
URL:https://shadescrest.org/event/retired-and-moving-3/2027-09-27/
LOCATION:Family Life Center\, 2028 Rockland Drive\, Hoover\, AL\, 35226\, United States
CATEGORIES:FLC Event
ATTACH;FMTTYPE=image/jpeg:https://shadescrest.org/wp-content/uploads/2026/02/moving-2-1.jpg
END:VEVENT
BEGIN:VEVENT
DTSTART;TZID=UTC:20270929T164500
DTEND;TZID=UTC:20270929T200000
DTSTAMP:20260425T124328
CREATED:20240723T191342Z
LAST-MODIFIED:20260216T213352Z
UID:10000892-1822236300-1822248000@shadescrest.org
SUMMARY:Midpoint Wednesday Evening Activities
DESCRIPTION:Join us each Wednesday evening for activities and Bible Study for all ages beginning with dinner at 4:45pm in the Fellowship Hall.
URL:https://shadescrest.org/event/midpoint-wednesday-evening-activities/2027-09-29/
LOCATION:Entire Church Campus\, 452 Park Avenue\, Hoover\, AL\, 35226
CATEGORIES:Church Event
ATTACH;FMTTYPE=image/jpeg:https://shadescrest.org/wp-content/uploads/2026/02/midpoint-new.jpg
END:VEVENT
BEGIN:VEVENT
DTSTART;TZID=UTC:20270930T101500
DTEND;TZID=UTC:20270930T111500
DTSTAMP:20260425T124328
CREATED:20250206T202123Z
LAST-MODIFIED:20260107T205006Z
UID:10001989-1822299300-1822302900@shadescrest.org
SUMMARY:Mountainaires Choir Rehearsal
DESCRIPTION:New members are always welcome.
URL:https://shadescrest.org/event/mountainaires-choir-rehearsal/2027-09-30/
LOCATION:Music Suite
CATEGORIES:Senior Adults Event
ATTACH;FMTTYPE=image/jpeg:https://shadescrest.org/wp-content/uploads/2025/02/mountainaires.jpg
END:VEVENT
BEGIN:VEVENT
DTSTART;TZID=UTC:20271003T090000
DTEND;TZID=UTC:20271003T100000
DTSTAMP:20260425T124328
CREATED:20251114T164510Z
LAST-MODIFIED:20260220T002019Z
UID:10002761-1822554000-1822557600@shadescrest.org
SUMMARY:RISING Worship Service
DESCRIPTION:Come to our modern worship service\, Rising\, at 9:00 a.m. In the Rising service\, you’ll worship with our praise team and band in our church fellowship hall. You’ll see song lyrics and scripture passages projected on a screen\, and watch videos related to that day’s worship focus. Baskets are passed during this service\, offering you the opportunity to give. \nThe fellowship hall at Shades Crest is a multi-purpose space where we have meals as a church family\, host large churchwide and community events\, and have our weekly Rising worship service. \nOur speaker will preach on the same passage of scripture in this worship service as he does in the 11:00 a.m. service.
URL:https://shadescrest.org/event/rising-worship-service/2027-10-03/
LOCATION:Fellowship Hall\, 452 Park Avenue\, Hoover\, AL\, 35226\, United States
CATEGORIES:Church Event
ATTACH;FMTTYPE=image/jpeg:https://shadescrest.org/wp-content/uploads/2026/02/main-worship-slide-1.jpg
END:VEVENT
BEGIN:VEVENT
DTSTART;TZID=UTC:20271003T110000
DTEND;TZID=UTC:20271003T120000
DTSTAMP:20260425T124328
CREATED:20251114T164638Z
LAST-MODIFIED:20260220T002101Z
UID:10003022-1822561200-1822564800@shadescrest.org
SUMMARY:MAJESTIC Worship Service
DESCRIPTION:Majestic is our conventional worship service\, located in our church sanctuary. In this service\, you will worship with our sanctuary choir\, sing hymns and occasional choruses accompanied by piano\, pipe organ\, and sometimes our church orchestra. You will receive a printed bulletin as a guide for this worship service. Offering plates are passed during this service\, providing you the opportunity to give. \nOur speaker will preach on the same passage of scripture in this service as he does in the 9:00 a.m. service.
URL:https://shadescrest.org/event/majestic-worship-service/2027-10-03/
LOCATION:Church Sanctuary\, 452 Park Avenue\, Hoover\, AL\, 35226\, United States
CATEGORIES:Church Event
ATTACH;FMTTYPE=image/jpeg:https://shadescrest.org/wp-content/uploads/2026/02/main-worship-slide-1.jpg
END:VEVENT
BEGIN:VEVENT
DTSTART;TZID=UTC:20271004T090000
DTEND;TZID=UTC:20271004T120000
DTSTAMP:20260425T124328
CREATED:20240606T173300Z
LAST-MODIFIED:20260223T195015Z
UID:10000634-1822640400-1822651200@shadescrest.org
SUMMARY:Retired and Moving
DESCRIPTION:The senior adults gather every Monday at 9 AM in the FLC for games\, fellowship\, and crafts. On the 1st Monday of each month\, a lunch is served. Bring $5 to cover the cost.
URL:https://shadescrest.org/event/retired-and-moving-3/2027-10-04/
LOCATION:Family Life Center\, 2028 Rockland Drive\, Hoover\, AL\, 35226\, United States
CATEGORIES:FLC Event
ATTACH;FMTTYPE=image/jpeg:https://shadescrest.org/wp-content/uploads/2026/02/moving-2-1.jpg
END:VEVENT
BEGIN:VEVENT
DTSTART;TZID=UTC:20271006T164500
DTEND;TZID=UTC:20271006T200000
DTSTAMP:20260425T124328
CREATED:20240723T191342Z
LAST-MODIFIED:20260216T213352Z
UID:10000893-1822841100-1822852800@shadescrest.org
SUMMARY:Midpoint Wednesday Evening Activities
DESCRIPTION:Join us each Wednesday evening for activities and Bible Study for all ages beginning with dinner at 4:45pm in the Fellowship Hall.
URL:https://shadescrest.org/event/midpoint-wednesday-evening-activities/2027-10-06/
LOCATION:Entire Church Campus\, 452 Park Avenue\, Hoover\, AL\, 35226
CATEGORIES:Church Event
ATTACH;FMTTYPE=image/jpeg:https://shadescrest.org/wp-content/uploads/2026/02/midpoint-new.jpg
END:VEVENT
BEGIN:VEVENT
DTSTART;TZID=UTC:20271007T101500
DTEND;TZID=UTC:20271007T111500
DTSTAMP:20260425T124328
CREATED:20250206T202123Z
LAST-MODIFIED:20260107T205006Z
UID:10001990-1822904100-1822907700@shadescrest.org
SUMMARY:Mountainaires Choir Rehearsal
DESCRIPTION:New members are always welcome.
URL:https://shadescrest.org/event/mountainaires-choir-rehearsal/2027-10-07/
LOCATION:Music Suite
CATEGORIES:Senior Adults Event
ATTACH;FMTTYPE=image/jpeg:https://shadescrest.org/wp-content/uploads/2025/02/mountainaires.jpg
END:VEVENT
BEGIN:VEVENT
DTSTART;TZID=UTC:20271010T090000
DTEND;TZID=UTC:20271010T100000
DTSTAMP:20260425T124328
CREATED:20251114T164510Z
LAST-MODIFIED:20260220T002019Z
UID:10002762-1823158800-1823162400@shadescrest.org
SUMMARY:RISING Worship Service
DESCRIPTION:Come to our modern worship service\, Rising\, at 9:00 a.m. In the Rising service\, you’ll worship with our praise team and band in our church fellowship hall. You’ll see song lyrics and scripture passages projected on a screen\, and watch videos related to that day’s worship focus. Baskets are passed during this service\, offering you the opportunity to give. \nThe fellowship hall at Shades Crest is a multi-purpose space where we have meals as a church family\, host large churchwide and community events\, and have our weekly Rising worship service. \nOur speaker will preach on the same passage of scripture in this worship service as he does in the 11:00 a.m. service.
URL:https://shadescrest.org/event/rising-worship-service/2027-10-10/
LOCATION:Fellowship Hall\, 452 Park Avenue\, Hoover\, AL\, 35226\, United States
CATEGORIES:Church Event
ATTACH;FMTTYPE=image/jpeg:https://shadescrest.org/wp-content/uploads/2026/02/main-worship-slide-1.jpg
END:VEVENT
BEGIN:VEVENT
DTSTART;TZID=UTC:20271010T110000
DTEND;TZID=UTC:20271010T120000
DTSTAMP:20260425T124328
CREATED:20251114T164638Z
LAST-MODIFIED:20260220T002101Z
UID:10003023-1823166000-1823169600@shadescrest.org
SUMMARY:MAJESTIC Worship Service
DESCRIPTION:Majestic is our conventional worship service\, located in our church sanctuary. In this service\, you will worship with our sanctuary choir\, sing hymns and occasional choruses accompanied by piano\, pipe organ\, and sometimes our church orchestra. You will receive a printed bulletin as a guide for this worship service. Offering plates are passed during this service\, providing you the opportunity to give. \nOur speaker will preach on the same passage of scripture in this service as he does in the 9:00 a.m. service.
URL:https://shadescrest.org/event/majestic-worship-service/2027-10-10/
LOCATION:Church Sanctuary\, 452 Park Avenue\, Hoover\, AL\, 35226\, United States
CATEGORIES:Church Event
ATTACH;FMTTYPE=image/jpeg:https://shadescrest.org/wp-content/uploads/2026/02/main-worship-slide-1.jpg
END:VEVENT
END:VCALENDAR