BEGIN:VCALENDAR
VERSION:2.0
PRODID:-//Shades Crest Baptist Church - ECPv6.15.20//NONSGML v1.0//EN
CALSCALE:GREGORIAN
METHOD:PUBLISH
X-WR-CALNAME:Shades Crest Baptist Church
X-ORIGINAL-URL:https://shadescrest.org
X-WR-CALDESC:Events for Shades Crest Baptist Church
REFRESH-INTERVAL;VALUE=DURATION:PT1H
X-Robots-Tag:noindex
X-PUBLISHED-TTL:PT1H
BEGIN:VTIMEZONE
TZID:UTC
BEGIN:STANDARD
TZOFFSETFROM:+0000
TZOFFSETTO:+0000
TZNAME:UTC
DTSTART:20250101T000000
END:STANDARD
END:VTIMEZONE
BEGIN:VEVENT
DTSTART;TZID=UTC:20260601T090000
DTEND;TZID=UTC:20260601T120000
DTSTAMP:20260423T232009
CREATED:20240606T173300Z
LAST-MODIFIED:20260223T195015Z
UID:10000564-1780304400-1780315200@shadescrest.org
SUMMARY:Retired and Moving
DESCRIPTION:The senior adults gather every Monday at 9 AM in the FLC for games\, fellowship\, and crafts. On the 1st Monday of each month\, a lunch is served. Bring $5 to cover the cost.
URL:https://shadescrest.org/event/retired-and-moving-3/2026-06-01/
LOCATION:Family Life Center\, 2028 Rockland Drive\, Hoover\, AL\, 35226\, United States
CATEGORIES:FLC Event
ATTACH;FMTTYPE=image/jpeg:https://shadescrest.org/wp-content/uploads/2026/02/moving-2-1.jpg
END:VEVENT
BEGIN:VEVENT
DTSTART;TZID=UTC:20260601T090000
DTEND;TZID=UTC:20260605T120000
DTSTAMP:20260423T232009
CREATED:20260131T225412Z
LAST-MODIFIED:20260131T225429Z
UID:10004828-1780304400-1780660800@shadescrest.org
SUMMARY:Vacation Bible School
DESCRIPTION:VBS for grades K3 – 6th. Illumination Station – Shining a light on who Jesus really is
URL:https://shadescrest.org/event/vacation-bible-school-2/
LOCATION:Entire Church Campus\, 452 Park Avenue\, Hoover\, AL\, 35226
CATEGORIES:Church Event
ATTACH;FMTTYPE=image/png:https://shadescrest.org/wp-content/uploads/2026/01/Screenshot-2026-01-31-164645.png
END:VEVENT
BEGIN:VEVENT
DTSTART;TZID=UTC:20260602T073000
DTEND;TZID=UTC:20260602T083000
DTSTAMP:20260423T232009
CREATED:20260218T005012Z
LAST-MODIFIED:20260218T005012Z
UID:10004920-1780385400-1780389000@shadescrest.org
SUMMARY:Men's Prayer Team
DESCRIPTION:
URL:https://shadescrest.org/event/mens-prayer-team/2026-06-02/
LOCATION:Family Life Center\, 2028 Rockland Drive\, Hoover\, AL\, 35226\, United States
CATEGORIES:Church Event,FLC Event
ATTACH;FMTTYPE=image/jpeg:https://shadescrest.org/wp-content/uploads/2026/02/mens-prayer-team.jpg
END:VEVENT
BEGIN:VEVENT
DTSTART;TZID=UTC:20260602T183000
DTEND;TZID=UTC:20260602T203000
DTSTAMP:20260423T232009
CREATED:20260224T190743Z
LAST-MODIFIED:20260224T225850Z
UID:10005055-1780425000-1780432200@shadescrest.org
SUMMARY:Ladies Fitness Bible Study
DESCRIPTION:
URL:https://shadescrest.org/event/ladies-fitness-bible-study/2026-06-02/
LOCATION:Family Life Center\, 2028 Rockland Drive\, Hoover\, AL\, 35226\, United States
CATEGORIES:FLC Event
ATTACH;FMTTYPE=image/jpeg:https://shadescrest.org/wp-content/uploads/2026/02/ladies-fitbess-bible-study2.jpg
END:VEVENT
BEGIN:VEVENT
DTSTART;TZID=UTC:20260603T164500
DTEND;TZID=UTC:20260603T200000
DTSTAMP:20260423T232009
CREATED:20240723T191342Z
LAST-MODIFIED:20260216T213352Z
UID:10000823-1780505100-1780516800@shadescrest.org
SUMMARY:Midpoint Wednesday Evening Activities
DESCRIPTION:Join us each Wednesday evening for activities and Bible Study for all ages beginning with dinner at 4:45pm in the Fellowship Hall.
URL:https://shadescrest.org/event/midpoint-wednesday-evening-activities/2026-06-03/
LOCATION:Entire Church Campus\, 452 Park Avenue\, Hoover\, AL\, 35226
CATEGORIES:Church Event
ATTACH;FMTTYPE=image/jpeg:https://shadescrest.org/wp-content/uploads/2026/02/midpoint-new.jpg
END:VEVENT
BEGIN:VEVENT
DTSTART;TZID=UTC:20260604T101500
DTEND;TZID=UTC:20260604T111500
DTSTAMP:20260423T232009
CREATED:20250206T202123Z
LAST-MODIFIED:20260107T205006Z
UID:10001920-1780568100-1780571700@shadescrest.org
SUMMARY:Mountainaires Choir Rehearsal
DESCRIPTION:New members are always welcome.
URL:https://shadescrest.org/event/mountainaires-choir-rehearsal/2026-06-04/
LOCATION:Music Suite
CATEGORIES:Senior Adults Event
ATTACH;FMTTYPE=image/jpeg:https://shadescrest.org/wp-content/uploads/2025/02/mountainaires.jpg
END:VEVENT
BEGIN:VEVENT
DTSTART;TZID=UTC:20260604T130000
DTEND;TZID=UTC:20260604T140000
DTSTAMP:20260423T232009
CREATED:20260221T232005Z
LAST-MODIFIED:20260221T232554Z
UID:10004986-1780578000-1780581600@shadescrest.org
SUMMARY:Women's Prayer Team
DESCRIPTION:
URL:https://shadescrest.org/event/womens-prayer-team/2026-06-04/
LOCATION:Family Life Center\, 2028 Rockland Drive\, Hoover\, AL\, 35226\, United States
CATEGORIES:Church Event,FLC Event
ATTACH;FMTTYPE=image/jpeg:https://shadescrest.org/wp-content/uploads/2026/02/womens-prayer-team.jpg
END:VEVENT
BEGIN:VEVENT
DTSTART;TZID=UTC:20260607T090000
DTEND;TZID=UTC:20260607T100000
DTSTAMP:20260423T232009
CREATED:20251114T164510Z
LAST-MODIFIED:20260220T002019Z
UID:10002692-1780822800-1780826400@shadescrest.org
SUMMARY:RISING Worship Service
DESCRIPTION:Come to our modern worship service\, Rising\, at 9:00 a.m. In the Rising service\, you’ll worship with our praise team and band in our church fellowship hall. You’ll see song lyrics and scripture passages projected on a screen\, and watch videos related to that day’s worship focus. Baskets are passed during this service\, offering you the opportunity to give. \nThe fellowship hall at Shades Crest is a multi-purpose space where we have meals as a church family\, host large churchwide and community events\, and have our weekly Rising worship service. \nOur speaker will preach on the same passage of scripture in this worship service as he does in the 11:00 a.m. service.
URL:https://shadescrest.org/event/rising-worship-service/2026-06-07/
LOCATION:Fellowship Hall\, 452 Park Avenue\, Hoover\, AL\, 35226\, United States
CATEGORIES:Church Event
ATTACH;FMTTYPE=image/jpeg:https://shadescrest.org/wp-content/uploads/2026/02/main-worship-slide-1.jpg
END:VEVENT
BEGIN:VEVENT
DTSTART;TZID=UTC:20260607T110000
DTEND;TZID=UTC:20260607T120000
DTSTAMP:20260423T232009
CREATED:20251114T164638Z
LAST-MODIFIED:20260220T002101Z
UID:10002953-1780830000-1780833600@shadescrest.org
SUMMARY:MAJESTIC Worship Service
DESCRIPTION:Majestic is our conventional worship service\, located in our church sanctuary. In this service\, you will worship with our sanctuary choir\, sing hymns and occasional choruses accompanied by piano\, pipe organ\, and sometimes our church orchestra. You will receive a printed bulletin as a guide for this worship service. Offering plates are passed during this service\, providing you the opportunity to give. \nOur speaker will preach on the same passage of scripture in this service as he does in the 9:00 a.m. service.
URL:https://shadescrest.org/event/majestic-worship-service/2026-06-07/
LOCATION:Church Sanctuary\, 452 Park Avenue\, Hoover\, AL\, 35226\, United States
CATEGORIES:Church Event
ATTACH;FMTTYPE=image/jpeg:https://shadescrest.org/wp-content/uploads/2026/02/main-worship-slide-1.jpg
END:VEVENT
BEGIN:VEVENT
DTSTART;TZID=UTC:20260608T090000
DTEND;TZID=UTC:20260608T120000
DTSTAMP:20260423T232009
CREATED:20240606T173300Z
LAST-MODIFIED:20260223T195015Z
UID:10000565-1780909200-1780920000@shadescrest.org
SUMMARY:Retired and Moving
DESCRIPTION:The senior adults gather every Monday at 9 AM in the FLC for games\, fellowship\, and crafts. On the 1st Monday of each month\, a lunch is served. Bring $5 to cover the cost.
URL:https://shadescrest.org/event/retired-and-moving-3/2026-06-08/
LOCATION:Family Life Center\, 2028 Rockland Drive\, Hoover\, AL\, 35226\, United States
CATEGORIES:FLC Event
ATTACH;FMTTYPE=image/jpeg:https://shadescrest.org/wp-content/uploads/2026/02/moving-2-1.jpg
END:VEVENT
BEGIN:VEVENT
DTSTART;TZID=UTC:20260609T073000
DTEND;TZID=UTC:20260609T083000
DTSTAMP:20260423T232009
CREATED:20260218T005012Z
LAST-MODIFIED:20260218T005012Z
UID:10004921-1780990200-1780993800@shadescrest.org
SUMMARY:Men's Prayer Team
DESCRIPTION:
URL:https://shadescrest.org/event/mens-prayer-team/2026-06-09/
LOCATION:Family Life Center\, 2028 Rockland Drive\, Hoover\, AL\, 35226\, United States
CATEGORIES:Church Event,FLC Event
ATTACH;FMTTYPE=image/jpeg:https://shadescrest.org/wp-content/uploads/2026/02/mens-prayer-team.jpg
END:VEVENT
BEGIN:VEVENT
DTSTART;TZID=UTC:20260609T183000
DTEND;TZID=UTC:20260609T203000
DTSTAMP:20260423T232009
CREATED:20260224T190743Z
LAST-MODIFIED:20260224T225850Z
UID:10005056-1781029800-1781037000@shadescrest.org
SUMMARY:Ladies Fitness Bible Study
DESCRIPTION:
URL:https://shadescrest.org/event/ladies-fitness-bible-study/2026-06-09/
LOCATION:Family Life Center\, 2028 Rockland Drive\, Hoover\, AL\, 35226\, United States
CATEGORIES:FLC Event
ATTACH;FMTTYPE=image/jpeg:https://shadescrest.org/wp-content/uploads/2026/02/ladies-fitbess-bible-study2.jpg
END:VEVENT
BEGIN:VEVENT
DTSTART;TZID=UTC:20260610T164500
DTEND;TZID=UTC:20260610T200000
DTSTAMP:20260423T232009
CREATED:20240723T191342Z
LAST-MODIFIED:20260216T213352Z
UID:10000824-1781109900-1781121600@shadescrest.org
SUMMARY:Midpoint Wednesday Evening Activities
DESCRIPTION:Join us each Wednesday evening for activities and Bible Study for all ages beginning with dinner at 4:45pm in the Fellowship Hall.
URL:https://shadescrest.org/event/midpoint-wednesday-evening-activities/2026-06-10/
LOCATION:Entire Church Campus\, 452 Park Avenue\, Hoover\, AL\, 35226
CATEGORIES:Church Event
ATTACH;FMTTYPE=image/jpeg:https://shadescrest.org/wp-content/uploads/2026/02/midpoint-new.jpg
END:VEVENT
BEGIN:VEVENT
DTSTART;TZID=UTC:20260611T101500
DTEND;TZID=UTC:20260611T111500
DTSTAMP:20260423T232009
CREATED:20250206T202123Z
LAST-MODIFIED:20260107T205006Z
UID:10001921-1781172900-1781176500@shadescrest.org
SUMMARY:Mountainaires Choir Rehearsal
DESCRIPTION:New members are always welcome.
URL:https://shadescrest.org/event/mountainaires-choir-rehearsal/2026-06-11/
LOCATION:Music Suite
CATEGORIES:Senior Adults Event
ATTACH;FMTTYPE=image/jpeg:https://shadescrest.org/wp-content/uploads/2025/02/mountainaires.jpg
END:VEVENT
BEGIN:VEVENT
DTSTART;TZID=UTC:20260611T130000
DTEND;TZID=UTC:20260611T140000
DTSTAMP:20260423T232009
CREATED:20260221T232005Z
LAST-MODIFIED:20260221T232554Z
UID:10004987-1781182800-1781186400@shadescrest.org
SUMMARY:Women's Prayer Team
DESCRIPTION:
URL:https://shadescrest.org/event/womens-prayer-team/2026-06-11/
LOCATION:Family Life Center\, 2028 Rockland Drive\, Hoover\, AL\, 35226\, United States
CATEGORIES:Church Event,FLC Event
ATTACH;FMTTYPE=image/jpeg:https://shadescrest.org/wp-content/uploads/2026/02/womens-prayer-team.jpg
END:VEVENT
BEGIN:VEVENT
DTSTART;VALUE=DATE:20260614
DTEND;VALUE=DATE:20260622
DTSTAMP:20260423T232009
CREATED:20260205T172551Z
LAST-MODIFIED:20260205T172551Z
UID:10004885-1781398800-1782003599@shadescrest.org
SUMMARY:Youth Mission Trip
DESCRIPTION:
URL:https://shadescrest.org/event/youth-mission-trip-2/
CATEGORIES:Youth Event
ATTACH;FMTTYPE=image/png:https://shadescrest.org/wp-content/uploads/2026/02/Screenshot-2026-02-03-165728.png
END:VEVENT
BEGIN:VEVENT
DTSTART;TZID=UTC:20260614T090000
DTEND;TZID=UTC:20260614T100000
DTSTAMP:20260423T232009
CREATED:20251114T164510Z
LAST-MODIFIED:20260220T002019Z
UID:10002693-1781427600-1781431200@shadescrest.org
SUMMARY:RISING Worship Service
DESCRIPTION:Come to our modern worship service\, Rising\, at 9:00 a.m. In the Rising service\, you’ll worship with our praise team and band in our church fellowship hall. You’ll see song lyrics and scripture passages projected on a screen\, and watch videos related to that day’s worship focus. Baskets are passed during this service\, offering you the opportunity to give. \nThe fellowship hall at Shades Crest is a multi-purpose space where we have meals as a church family\, host large churchwide and community events\, and have our weekly Rising worship service. \nOur speaker will preach on the same passage of scripture in this worship service as he does in the 11:00 a.m. service.
URL:https://shadescrest.org/event/rising-worship-service/2026-06-14/
LOCATION:Fellowship Hall\, 452 Park Avenue\, Hoover\, AL\, 35226\, United States
CATEGORIES:Church Event
ATTACH;FMTTYPE=image/jpeg:https://shadescrest.org/wp-content/uploads/2026/02/main-worship-slide-1.jpg
END:VEVENT
BEGIN:VEVENT
DTSTART;TZID=UTC:20260614T110000
DTEND;TZID=UTC:20260614T120000
DTSTAMP:20260423T232009
CREATED:20251114T164638Z
LAST-MODIFIED:20260220T002101Z
UID:10002954-1781434800-1781438400@shadescrest.org
SUMMARY:MAJESTIC Worship Service
DESCRIPTION:Majestic is our conventional worship service\, located in our church sanctuary. In this service\, you will worship with our sanctuary choir\, sing hymns and occasional choruses accompanied by piano\, pipe organ\, and sometimes our church orchestra. You will receive a printed bulletin as a guide for this worship service. Offering plates are passed during this service\, providing you the opportunity to give. \nOur speaker will preach on the same passage of scripture in this service as he does in the 9:00 a.m. service.
URL:https://shadescrest.org/event/majestic-worship-service/2026-06-14/
LOCATION:Church Sanctuary\, 452 Park Avenue\, Hoover\, AL\, 35226\, United States
CATEGORIES:Church Event
ATTACH;FMTTYPE=image/jpeg:https://shadescrest.org/wp-content/uploads/2026/02/main-worship-slide-1.jpg
END:VEVENT
BEGIN:VEVENT
DTSTART;TZID=UTC:20260615T090000
DTEND;TZID=UTC:20260615T120000
DTSTAMP:20260423T232009
CREATED:20240606T173300Z
LAST-MODIFIED:20260223T195015Z
UID:10000566-1781514000-1781524800@shadescrest.org
SUMMARY:Retired and Moving
DESCRIPTION:The senior adults gather every Monday at 9 AM in the FLC for games\, fellowship\, and crafts. On the 1st Monday of each month\, a lunch is served. Bring $5 to cover the cost.
URL:https://shadescrest.org/event/retired-and-moving-3/2026-06-15/
LOCATION:Family Life Center\, 2028 Rockland Drive\, Hoover\, AL\, 35226\, United States
CATEGORIES:FLC Event
ATTACH;FMTTYPE=image/jpeg:https://shadescrest.org/wp-content/uploads/2026/02/moving-2-1.jpg
END:VEVENT
BEGIN:VEVENT
DTSTART;TZID=UTC:20260616T073000
DTEND;TZID=UTC:20260616T083000
DTSTAMP:20260423T232009
CREATED:20260218T005012Z
LAST-MODIFIED:20260218T005012Z
UID:10004922-1781595000-1781598600@shadescrest.org
SUMMARY:Men's Prayer Team
DESCRIPTION:
URL:https://shadescrest.org/event/mens-prayer-team/2026-06-16/
LOCATION:Family Life Center\, 2028 Rockland Drive\, Hoover\, AL\, 35226\, United States
CATEGORIES:Church Event,FLC Event
ATTACH;FMTTYPE=image/jpeg:https://shadescrest.org/wp-content/uploads/2026/02/mens-prayer-team.jpg
END:VEVENT
BEGIN:VEVENT
DTSTART;TZID=UTC:20260616T183000
DTEND;TZID=UTC:20260616T203000
DTSTAMP:20260423T232009
CREATED:20260224T190743Z
LAST-MODIFIED:20260224T225850Z
UID:10005057-1781634600-1781641800@shadescrest.org
SUMMARY:Ladies Fitness Bible Study
DESCRIPTION:
URL:https://shadescrest.org/event/ladies-fitness-bible-study/2026-06-16/
LOCATION:Family Life Center\, 2028 Rockland Drive\, Hoover\, AL\, 35226\, United States
CATEGORIES:FLC Event
ATTACH;FMTTYPE=image/jpeg:https://shadescrest.org/wp-content/uploads/2026/02/ladies-fitbess-bible-study2.jpg
END:VEVENT
BEGIN:VEVENT
DTSTART;TZID=UTC:20260617T164500
DTEND;TZID=UTC:20260617T200000
DTSTAMP:20260423T232009
CREATED:20240723T191342Z
LAST-MODIFIED:20260216T213352Z
UID:10000825-1781714700-1781726400@shadescrest.org
SUMMARY:Midpoint Wednesday Evening Activities
DESCRIPTION:Join us each Wednesday evening for activities and Bible Study for all ages beginning with dinner at 4:45pm in the Fellowship Hall.
URL:https://shadescrest.org/event/midpoint-wednesday-evening-activities/2026-06-17/
LOCATION:Entire Church Campus\, 452 Park Avenue\, Hoover\, AL\, 35226
CATEGORIES:Church Event
ATTACH;FMTTYPE=image/jpeg:https://shadescrest.org/wp-content/uploads/2026/02/midpoint-new.jpg
END:VEVENT
BEGIN:VEVENT
DTSTART;TZID=UTC:20260618T101500
DTEND;TZID=UTC:20260618T111500
DTSTAMP:20260423T232009
CREATED:20250206T202123Z
LAST-MODIFIED:20260107T205006Z
UID:10001922-1781777700-1781781300@shadescrest.org
SUMMARY:Mountainaires Choir Rehearsal
DESCRIPTION:New members are always welcome.
URL:https://shadescrest.org/event/mountainaires-choir-rehearsal/2026-06-18/
LOCATION:Music Suite
CATEGORIES:Senior Adults Event
ATTACH;FMTTYPE=image/jpeg:https://shadescrest.org/wp-content/uploads/2025/02/mountainaires.jpg
END:VEVENT
BEGIN:VEVENT
DTSTART;TZID=UTC:20260618T130000
DTEND;TZID=UTC:20260618T140000
DTSTAMP:20260423T232009
CREATED:20260221T232005Z
LAST-MODIFIED:20260221T232554Z
UID:10004988-1781787600-1781791200@shadescrest.org
SUMMARY:Women's Prayer Team
DESCRIPTION:
URL:https://shadescrest.org/event/womens-prayer-team/2026-06-18/
LOCATION:Family Life Center\, 2028 Rockland Drive\, Hoover\, AL\, 35226\, United States
CATEGORIES:Church Event,FLC Event
ATTACH;FMTTYPE=image/jpeg:https://shadescrest.org/wp-content/uploads/2026/02/womens-prayer-team.jpg
END:VEVENT
BEGIN:VEVENT
DTSTART;TZID=UTC:20260621T090000
DTEND;TZID=UTC:20260621T100000
DTSTAMP:20260423T232009
CREATED:20251114T164510Z
LAST-MODIFIED:20260220T002019Z
UID:10002694-1782032400-1782036000@shadescrest.org
SUMMARY:RISING Worship Service
DESCRIPTION:Come to our modern worship service\, Rising\, at 9:00 a.m. In the Rising service\, you’ll worship with our praise team and band in our church fellowship hall. You’ll see song lyrics and scripture passages projected on a screen\, and watch videos related to that day’s worship focus. Baskets are passed during this service\, offering you the opportunity to give. \nThe fellowship hall at Shades Crest is a multi-purpose space where we have meals as a church family\, host large churchwide and community events\, and have our weekly Rising worship service. \nOur speaker will preach on the same passage of scripture in this worship service as he does in the 11:00 a.m. service.
URL:https://shadescrest.org/event/rising-worship-service/2026-06-21/
LOCATION:Fellowship Hall\, 452 Park Avenue\, Hoover\, AL\, 35226\, United States
CATEGORIES:Church Event
ATTACH;FMTTYPE=image/jpeg:https://shadescrest.org/wp-content/uploads/2026/02/main-worship-slide-1.jpg
END:VEVENT
BEGIN:VEVENT
DTSTART;TZID=UTC:20260621T110000
DTEND;TZID=UTC:20260621T120000
DTSTAMP:20260423T232009
CREATED:20251114T164638Z
LAST-MODIFIED:20260220T002101Z
UID:10002955-1782039600-1782043200@shadescrest.org
SUMMARY:MAJESTIC Worship Service
DESCRIPTION:Majestic is our conventional worship service\, located in our church sanctuary. In this service\, you will worship with our sanctuary choir\, sing hymns and occasional choruses accompanied by piano\, pipe organ\, and sometimes our church orchestra. You will receive a printed bulletin as a guide for this worship service. Offering plates are passed during this service\, providing you the opportunity to give. \nOur speaker will preach on the same passage of scripture in this service as he does in the 9:00 a.m. service.
URL:https://shadescrest.org/event/majestic-worship-service/2026-06-21/
LOCATION:Church Sanctuary\, 452 Park Avenue\, Hoover\, AL\, 35226\, United States
CATEGORIES:Church Event
ATTACH;FMTTYPE=image/jpeg:https://shadescrest.org/wp-content/uploads/2026/02/main-worship-slide-1.jpg
END:VEVENT
BEGIN:VEVENT
DTSTART;TZID=UTC:20260622T090000
DTEND;TZID=UTC:20260622T120000
DTSTAMP:20260423T232009
CREATED:20240606T173300Z
LAST-MODIFIED:20260223T195015Z
UID:10000567-1782118800-1782129600@shadescrest.org
SUMMARY:Retired and Moving
DESCRIPTION:The senior adults gather every Monday at 9 AM in the FLC for games\, fellowship\, and crafts. On the 1st Monday of each month\, a lunch is served. Bring $5 to cover the cost.
URL:https://shadescrest.org/event/retired-and-moving-3/2026-06-22/
LOCATION:Family Life Center\, 2028 Rockland Drive\, Hoover\, AL\, 35226\, United States
CATEGORIES:FLC Event
ATTACH;FMTTYPE=image/jpeg:https://shadescrest.org/wp-content/uploads/2026/02/moving-2-1.jpg
END:VEVENT
BEGIN:VEVENT
DTSTART;TZID=UTC:20260623T073000
DTEND;TZID=UTC:20260623T083000
DTSTAMP:20260423T232009
CREATED:20260218T005012Z
LAST-MODIFIED:20260218T005012Z
UID:10004923-1782199800-1782203400@shadescrest.org
SUMMARY:Men's Prayer Team
DESCRIPTION:
URL:https://shadescrest.org/event/mens-prayer-team/2026-06-23/
LOCATION:Family Life Center\, 2028 Rockland Drive\, Hoover\, AL\, 35226\, United States
CATEGORIES:Church Event,FLC Event
ATTACH;FMTTYPE=image/jpeg:https://shadescrest.org/wp-content/uploads/2026/02/mens-prayer-team.jpg
END:VEVENT
BEGIN:VEVENT
DTSTART;TZID=UTC:20260623T183000
DTEND;TZID=UTC:20260623T203000
DTSTAMP:20260423T232009
CREATED:20260224T190743Z
LAST-MODIFIED:20260224T225850Z
UID:10005058-1782239400-1782246600@shadescrest.org
SUMMARY:Ladies Fitness Bible Study
DESCRIPTION:
URL:https://shadescrest.org/event/ladies-fitness-bible-study/2026-06-23/
LOCATION:Family Life Center\, 2028 Rockland Drive\, Hoover\, AL\, 35226\, United States
CATEGORIES:FLC Event
ATTACH;FMTTYPE=image/jpeg:https://shadescrest.org/wp-content/uploads/2026/02/ladies-fitbess-bible-study2.jpg
END:VEVENT
BEGIN:VEVENT
DTSTART;TZID=UTC:20260624T164500
DTEND;TZID=UTC:20260624T200000
DTSTAMP:20260423T232009
CREATED:20240723T191342Z
LAST-MODIFIED:20260216T213352Z
UID:10000826-1782319500-1782331200@shadescrest.org
SUMMARY:Midpoint Wednesday Evening Activities
DESCRIPTION:Join us each Wednesday evening for activities and Bible Study for all ages beginning with dinner at 4:45pm in the Fellowship Hall.
URL:https://shadescrest.org/event/midpoint-wednesday-evening-activities/2026-06-24/
LOCATION:Entire Church Campus\, 452 Park Avenue\, Hoover\, AL\, 35226
CATEGORIES:Church Event
ATTACH;FMTTYPE=image/jpeg:https://shadescrest.org/wp-content/uploads/2026/02/midpoint-new.jpg
END:VEVENT
END:VCALENDAR