BEGIN:VCALENDAR
VERSION:2.0
PRODID:-//Shades Crest Baptist Church - ECPv6.15.20//NONSGML v1.0//EN
CALSCALE:GREGORIAN
METHOD:PUBLISH
X-WR-CALNAME:Shades Crest Baptist Church
X-ORIGINAL-URL:https://shadescrest.org
X-WR-CALDESC:Events for Shades Crest Baptist Church
REFRESH-INTERVAL;VALUE=DURATION:PT1H
X-Robots-Tag:noindex
X-PUBLISHED-TTL:PT1H
BEGIN:VTIMEZONE
TZID:UTC
BEGIN:STANDARD
TZOFFSETFROM:+0000
TZOFFSETTO:+0000
TZNAME:UTC
DTSTART:20230101T000000
END:STANDARD
END:VTIMEZONE
BEGIN:VEVENT
DTSTART;TZID=UTC:20260419T110000
DTEND;TZID=UTC:20260419T120000
DTSTAMP:20260423T222110
CREATED:20251114T164638Z
LAST-MODIFIED:20260220T002101Z
UID:10002946-1776596400-1776600000@shadescrest.org
SUMMARY:MAJESTIC Worship Service
DESCRIPTION:Majestic is our conventional worship service\, located in our church sanctuary. In this service\, you will worship with our sanctuary choir\, sing hymns and occasional choruses accompanied by piano\, pipe organ\, and sometimes our church orchestra. You will receive a printed bulletin as a guide for this worship service. Offering plates are passed during this service\, providing you the opportunity to give. \nOur speaker will preach on the same passage of scripture in this service as he does in the 9:00 a.m. service.
URL:https://shadescrest.org/event/majestic-worship-service/2026-04-19/
LOCATION:Church Sanctuary\, 452 Park Avenue\, Hoover\, AL\, 35226\, United States
CATEGORIES:Church Event
ATTACH;FMTTYPE=image/jpeg:https://shadescrest.org/wp-content/uploads/2026/02/main-worship-slide-1.jpg
END:VEVENT
BEGIN:VEVENT
DTSTART;TZID=UTC:20260412T110000
DTEND;TZID=UTC:20260412T120000
DTSTAMP:20260423T222110
CREATED:20251114T164638Z
LAST-MODIFIED:20260220T002101Z
UID:10002945-1775991600-1775995200@shadescrest.org
SUMMARY:MAJESTIC Worship Service
DESCRIPTION:Majestic is our conventional worship service\, located in our church sanctuary. In this service\, you will worship with our sanctuary choir\, sing hymns and occasional choruses accompanied by piano\, pipe organ\, and sometimes our church orchestra. You will receive a printed bulletin as a guide for this worship service. Offering plates are passed during this service\, providing you the opportunity to give. \nOur speaker will preach on the same passage of scripture in this service as he does in the 9:00 a.m. service.
URL:https://shadescrest.org/event/majestic-worship-service/2026-04-12/
LOCATION:Church Sanctuary\, 452 Park Avenue\, Hoover\, AL\, 35226\, United States
CATEGORIES:Church Event
ATTACH;FMTTYPE=image/jpeg:https://shadescrest.org/wp-content/uploads/2026/02/main-worship-slide-1.jpg
END:VEVENT
BEGIN:VEVENT
DTSTART;TZID=UTC:20260403T190000
DTEND;TZID=UTC:20260403T200000
DTSTAMP:20260423T222110
CREATED:20260302T213958Z
LAST-MODIFIED:20260302T213958Z
UID:10005112-1775242800-1775246400@shadescrest.org
SUMMARY:Good Friday Service
DESCRIPTION:
URL:https://shadescrest.org/event/good-friday-service-3/
LOCATION:Church Sanctuary\, 452 Park Avenue\, Hoover\, AL\, 35226\, United States
CATEGORIES:Church Event
ATTACH;FMTTYPE=image/png:https://shadescrest.org/wp-content/uploads/2026/03/final-good-friday.png
END:VEVENT
BEGIN:VEVENT
DTSTART;TZID=UTC:20260322T110000
DTEND;TZID=UTC:20260322T120000
DTSTAMP:20260423T222110
CREATED:20251114T164638Z
LAST-MODIFIED:20260220T002101Z
UID:10002942-1774177200-1774180800@shadescrest.org
SUMMARY:MAJESTIC Worship Service
DESCRIPTION:Majestic is our conventional worship service\, located in our church sanctuary. In this service\, you will worship with our sanctuary choir\, sing hymns and occasional choruses accompanied by piano\, pipe organ\, and sometimes our church orchestra. You will receive a printed bulletin as a guide for this worship service. Offering plates are passed during this service\, providing you the opportunity to give. \nOur speaker will preach on the same passage of scripture in this service as he does in the 9:00 a.m. service.
URL:https://shadescrest.org/event/majestic-worship-service/2026-03-22/
LOCATION:Church Sanctuary\, 452 Park Avenue\, Hoover\, AL\, 35226\, United States
CATEGORIES:Church Event
ATTACH;FMTTYPE=image/jpeg:https://shadescrest.org/wp-content/uploads/2026/02/main-worship-slide-1.jpg
END:VEVENT
BEGIN:VEVENT
DTSTART;TZID=UTC:20260315T110000
DTEND;TZID=UTC:20260315T120000
DTSTAMP:20260423T222110
CREATED:20251114T164638Z
LAST-MODIFIED:20260220T002101Z
UID:10002941-1773572400-1773576000@shadescrest.org
SUMMARY:MAJESTIC Worship Service
DESCRIPTION:Majestic is our conventional worship service\, located in our church sanctuary. In this service\, you will worship with our sanctuary choir\, sing hymns and occasional choruses accompanied by piano\, pipe organ\, and sometimes our church orchestra. You will receive a printed bulletin as a guide for this worship service. Offering plates are passed during this service\, providing you the opportunity to give. \nOur speaker will preach on the same passage of scripture in this service as he does in the 9:00 a.m. service.
URL:https://shadescrest.org/event/majestic-worship-service/2026-03-15/
LOCATION:Church Sanctuary\, 452 Park Avenue\, Hoover\, AL\, 35226\, United States
CATEGORIES:Church Event
ATTACH;FMTTYPE=image/jpeg:https://shadescrest.org/wp-content/uploads/2026/02/main-worship-slide-1.jpg
END:VEVENT
BEGIN:VEVENT
DTSTART;TZID=UTC:20260301T110000
DTEND;TZID=UTC:20260301T120000
DTSTAMP:20260423T222110
CREATED:20260220T002538Z
LAST-MODIFIED:20260225T013703Z
UID:10002939-1772362800-1772366400@shadescrest.org
SUMMARY:MAJESTIC Worship Service - Communion Sunday and Senior Adult Recognition
DESCRIPTION:Majestic is our conventional worship service\, located in our church sanctuary. In this service\, you will worship with our sanctuary choir\, sing hymns and occasional choruses accompanied by piano\, pipe organ\, and sometimes our church orchestra. You will receive a printed bulletin as a guide for this worship service. Offering plates are passed during this service\, providing you the opportunity to give. \nOur speaker will preach on the same passage of scripture in this service as he does in the 9:00 a.m. service.
URL:https://shadescrest.org/event/majestic-worship-service-2/
LOCATION:Church Sanctuary\, 452 Park Avenue\, Hoover\, AL\, 35226\, United States
CATEGORIES:Church Event
ATTACH;FMTTYPE=image/jpeg:https://shadescrest.org/wp-content/uploads/2026/02/communion-sunday.jpg
END:VEVENT
BEGIN:VEVENT
DTSTART;TZID=UTC:20260222T110000
DTEND;TZID=UTC:20260222T120000
DTSTAMP:20260423T222110
CREATED:20251114T164638Z
LAST-MODIFIED:20260220T002101Z
UID:10002938-1771758000-1771761600@shadescrest.org
SUMMARY:MAJESTIC Worship Service
DESCRIPTION:Majestic is our conventional worship service\, located in our church sanctuary. In this service\, you will worship with our sanctuary choir\, sing hymns and occasional choruses accompanied by piano\, pipe organ\, and sometimes our church orchestra. You will receive a printed bulletin as a guide for this worship service. Offering plates are passed during this service\, providing you the opportunity to give. \nOur speaker will preach on the same passage of scripture in this service as he does in the 9:00 a.m. service.
URL:https://shadescrest.org/event/majestic-worship-service/2026-02-22/
LOCATION:Church Sanctuary\, 452 Park Avenue\, Hoover\, AL\, 35226\, United States
CATEGORIES:Church Event
ATTACH;FMTTYPE=image/jpeg:https://shadescrest.org/wp-content/uploads/2026/02/main-worship-slide-1.jpg
END:VEVENT
BEGIN:VEVENT
DTSTART;TZID=UTC:20260218T180000
DTEND;TZID=UTC:20260218T190000
DTSTAMP:20260423T222110
CREATED:20260203T230412Z
LAST-MODIFIED:20260217T233727Z
UID:10004846-1771437600-1771441200@shadescrest.org
SUMMARY:Ash Wednesday Service
DESCRIPTION:We observe Ash Wednesday with a worship service and imposition of ashes at 6:00 PM in the Sanctuary. Following dinner in the Fellowship Hall\, adults and youth will proceed to the Sanctuary. As we enter this holy and reflective time\, we ask that everyone do so quietly. Soft pre-service music will guide us in preparing our hearts for worship.\nPreschoolers and children will have their regular Wednesday night programming.
URL:https://shadescrest.org/event/ash-wednesday-service/
LOCATION:Church Sanctuary\, 452 Park Avenue\, Hoover\, AL\, 35226\, United States
CATEGORIES:Church Event
ATTACH;FMTTYPE=image/png:https://shadescrest.org/wp-content/uploads/2026/02/Screenshot-2026-02-03-165551.png
END:VEVENT
BEGIN:VEVENT
DTSTART;TZID=UTC:20260208T110000
DTEND;TZID=UTC:20260208T120000
DTSTAMP:20260423T222110
CREATED:20251114T164638Z
LAST-MODIFIED:20260220T002101Z
UID:10002936-1770548400-1770552000@shadescrest.org
SUMMARY:MAJESTIC Worship Service
DESCRIPTION:Majestic is our conventional worship service\, located in our church sanctuary. In this service\, you will worship with our sanctuary choir\, sing hymns and occasional choruses accompanied by piano\, pipe organ\, and sometimes our church orchestra. You will receive a printed bulletin as a guide for this worship service. Offering plates are passed during this service\, providing you the opportunity to give. \nOur speaker will preach on the same passage of scripture in this service as he does in the 9:00 a.m. service.
URL:https://shadescrest.org/event/majestic-worship-service/2026-02-08/
LOCATION:Church Sanctuary\, 452 Park Avenue\, Hoover\, AL\, 35226\, United States
CATEGORIES:Church Event
ATTACH;FMTTYPE=image/jpeg:https://shadescrest.org/wp-content/uploads/2026/02/main-worship-slide-1.jpg
END:VEVENT
BEGIN:VEVENT
DTSTART;TZID=UTC:20260201T110000
DTEND;TZID=UTC:20260201T120000
DTSTAMP:20260423T222110
CREATED:20251114T164638Z
LAST-MODIFIED:20260220T002101Z
UID:10002935-1769943600-1769947200@shadescrest.org
SUMMARY:MAJESTIC Worship Service
DESCRIPTION:Majestic is our conventional worship service\, located in our church sanctuary. In this service\, you will worship with our sanctuary choir\, sing hymns and occasional choruses accompanied by piano\, pipe organ\, and sometimes our church orchestra. You will receive a printed bulletin as a guide for this worship service. Offering plates are passed during this service\, providing you the opportunity to give. \nOur speaker will preach on the same passage of scripture in this service as he does in the 9:00 a.m. service.
URL:https://shadescrest.org/event/majestic-worship-service/2026-02-01/
LOCATION:Church Sanctuary\, 452 Park Avenue\, Hoover\, AL\, 35226\, United States
CATEGORIES:Church Event
ATTACH;FMTTYPE=image/jpeg:https://shadescrest.org/wp-content/uploads/2026/02/main-worship-slide-1.jpg
END:VEVENT
BEGIN:VEVENT
DTSTART;TZID=UTC:20260125T110000
DTEND;TZID=UTC:20260125T120000
DTSTAMP:20260423T222110
CREATED:20251114T164638Z
LAST-MODIFIED:20260220T002101Z
UID:10002934-1769338800-1769342400@shadescrest.org
SUMMARY:MAJESTIC Worship Service
DESCRIPTION:Majestic is our conventional worship service\, located in our church sanctuary. In this service\, you will worship with our sanctuary choir\, sing hymns and occasional choruses accompanied by piano\, pipe organ\, and sometimes our church orchestra. You will receive a printed bulletin as a guide for this worship service. Offering plates are passed during this service\, providing you the opportunity to give. \nOur speaker will preach on the same passage of scripture in this service as he does in the 9:00 a.m. service.
URL:https://shadescrest.org/event/majestic-worship-service/2026-01-25/
LOCATION:Church Sanctuary\, 452 Park Avenue\, Hoover\, AL\, 35226\, United States
CATEGORIES:Church Event
ATTACH;FMTTYPE=image/jpeg:https://shadescrest.org/wp-content/uploads/2026/02/main-worship-slide-1.jpg
END:VEVENT
BEGIN:VEVENT
DTSTART;TZID=UTC:20260118T110000
DTEND;TZID=UTC:20260118T120000
DTSTAMP:20260423T222110
CREATED:20251114T164638Z
LAST-MODIFIED:20260220T002101Z
UID:10002933-1768734000-1768737600@shadescrest.org
SUMMARY:MAJESTIC Worship Service
DESCRIPTION:Majestic is our conventional worship service\, located in our church sanctuary. In this service\, you will worship with our sanctuary choir\, sing hymns and occasional choruses accompanied by piano\, pipe organ\, and sometimes our church orchestra. You will receive a printed bulletin as a guide for this worship service. Offering plates are passed during this service\, providing you the opportunity to give. \nOur speaker will preach on the same passage of scripture in this service as he does in the 9:00 a.m. service.
URL:https://shadescrest.org/event/majestic-worship-service/2026-01-18/
LOCATION:Church Sanctuary\, 452 Park Avenue\, Hoover\, AL\, 35226\, United States
CATEGORIES:Church Event
ATTACH;FMTTYPE=image/jpeg:https://shadescrest.org/wp-content/uploads/2026/02/main-worship-slide-1.jpg
END:VEVENT
BEGIN:VEVENT
DTSTART;TZID=UTC:20260111T110000
DTEND;TZID=UTC:20260111T120000
DTSTAMP:20260423T222110
CREATED:20251114T164638Z
LAST-MODIFIED:20260220T002101Z
UID:10002932-1768129200-1768132800@shadescrest.org
SUMMARY:MAJESTIC Worship Service
DESCRIPTION:Majestic is our conventional worship service\, located in our church sanctuary. In this service\, you will worship with our sanctuary choir\, sing hymns and occasional choruses accompanied by piano\, pipe organ\, and sometimes our church orchestra. You will receive a printed bulletin as a guide for this worship service. Offering plates are passed during this service\, providing you the opportunity to give. \nOur speaker will preach on the same passage of scripture in this service as he does in the 9:00 a.m. service.
URL:https://shadescrest.org/event/majestic-worship-service/2026-01-11/
LOCATION:Church Sanctuary\, 452 Park Avenue\, Hoover\, AL\, 35226\, United States
CATEGORIES:Church Event
ATTACH;FMTTYPE=image/jpeg:https://shadescrest.org/wp-content/uploads/2026/02/main-worship-slide-1.jpg
END:VEVENT
BEGIN:VEVENT
DTSTART;TZID=UTC:20260104T110000
DTEND;TZID=UTC:20260104T120000
DTSTAMP:20260423T222110
CREATED:20251114T164638Z
LAST-MODIFIED:20260220T002101Z
UID:10002931-1767524400-1767528000@shadescrest.org
SUMMARY:MAJESTIC Worship Service
DESCRIPTION:Majestic is our conventional worship service\, located in our church sanctuary. In this service\, you will worship with our sanctuary choir\, sing hymns and occasional choruses accompanied by piano\, pipe organ\, and sometimes our church orchestra. You will receive a printed bulletin as a guide for this worship service. Offering plates are passed during this service\, providing you the opportunity to give. \nOur speaker will preach on the same passage of scripture in this service as he does in the 9:00 a.m. service.
URL:https://shadescrest.org/event/majestic-worship-service/2026-01-04/
LOCATION:Church Sanctuary\, 452 Park Avenue\, Hoover\, AL\, 35226\, United States
CATEGORIES:Church Event
ATTACH;FMTTYPE=image/jpeg:https://shadescrest.org/wp-content/uploads/2026/02/main-worship-slide-1.jpg
END:VEVENT
BEGIN:VEVENT
DTSTART;TZID=UTC:20251224T170000
DTEND;TZID=UTC:20251224T180000
DTSTAMP:20260423T222110
CREATED:20251119T184703Z
LAST-MODIFIED:20251120T203801Z
UID:10003328-1766595600-1766599200@shadescrest.org
SUMMARY:Christmas Eve Candlelight Service
DESCRIPTION:
URL:https://shadescrest.org/event/christmas-eve-candlelight-service-2/
LOCATION:Church Sanctuary\, 452 Park Avenue\, Hoover\, AL\, 35226\, United States
CATEGORIES:Church Event
ATTACH;FMTTYPE=image/png:https://shadescrest.org/wp-content/uploads/2025/11/Screenshot-2025-11-20-141251.png
END:VEVENT
BEGIN:VEVENT
DTSTART;TZID=UTC:20251221T110000
DTEND;TZID=UTC:20251221T120000
DTSTAMP:20260423T222110
CREATED:20251114T164638Z
LAST-MODIFIED:20260220T002101Z
UID:10002929-1766314800-1766318400@shadescrest.org
SUMMARY:MAJESTIC Worship Service
DESCRIPTION:Majestic is our conventional worship service\, located in our church sanctuary. In this service\, you will worship with our sanctuary choir\, sing hymns and occasional choruses accompanied by piano\, pipe organ\, and sometimes our church orchestra. You will receive a printed bulletin as a guide for this worship service. Offering plates are passed during this service\, providing you the opportunity to give. \nOur speaker will preach on the same passage of scripture in this service as he does in the 9:00 a.m. service.
URL:https://shadescrest.org/event/majestic-worship-service/2025-12-21/
LOCATION:Church Sanctuary\, 452 Park Avenue\, Hoover\, AL\, 35226\, United States
CATEGORIES:Church Event
ATTACH;FMTTYPE=image/jpeg:https://shadescrest.org/wp-content/uploads/2026/02/main-worship-slide-1.jpg
END:VEVENT
BEGIN:VEVENT
DTSTART;TZID=UTC:20251214T103000
DTEND;TZID=UTC:20251214T120000
DTSTAMP:20260423T222110
CREATED:20251114T023948Z
LAST-MODIFIED:20251114T023948Z
UID:10002661-1765708200-1765713600@shadescrest.org
SUMMARY:Christmas Music Program
DESCRIPTION:
URL:https://shadescrest.org/event/christmas-music-program/
LOCATION:Church Sanctuary\, 452 Park Avenue\, Hoover\, AL\, 35226\, United States
CATEGORIES:Church Event
END:VEVENT
BEGIN:VEVENT
DTSTART;TZID=UTC:20251207T110000
DTEND;TZID=UTC:20251207T120000
DTSTAMP:20260423T222110
CREATED:20251114T164638Z
LAST-MODIFIED:20260220T002101Z
UID:10002927-1765105200-1765108800@shadescrest.org
SUMMARY:MAJESTIC Worship Service
DESCRIPTION:Majestic is our conventional worship service\, located in our church sanctuary. In this service\, you will worship with our sanctuary choir\, sing hymns and occasional choruses accompanied by piano\, pipe organ\, and sometimes our church orchestra. You will receive a printed bulletin as a guide for this worship service. Offering plates are passed during this service\, providing you the opportunity to give. \nOur speaker will preach on the same passage of scripture in this service as he does in the 9:00 a.m. service.
URL:https://shadescrest.org/event/majestic-worship-service/2025-12-07/
LOCATION:Church Sanctuary\, 452 Park Avenue\, Hoover\, AL\, 35226\, United States
CATEGORIES:Church Event
ATTACH;FMTTYPE=image/jpeg:https://shadescrest.org/wp-content/uploads/2026/02/main-worship-slide-1.jpg
END:VEVENT
BEGIN:VEVENT
DTSTART;TZID=UTC:20251130T110000
DTEND;TZID=UTC:20251130T120000
DTSTAMP:20260423T222110
CREATED:20251114T164638Z
LAST-MODIFIED:20260220T002101Z
UID:10002926-1764500400-1764504000@shadescrest.org
SUMMARY:MAJESTIC Worship Service
DESCRIPTION:Majestic is our conventional worship service\, located in our church sanctuary. In this service\, you will worship with our sanctuary choir\, sing hymns and occasional choruses accompanied by piano\, pipe organ\, and sometimes our church orchestra. You will receive a printed bulletin as a guide for this worship service. Offering plates are passed during this service\, providing you the opportunity to give. \nOur speaker will preach on the same passage of scripture in this service as he does in the 9:00 a.m. service.
URL:https://shadescrest.org/event/majestic-worship-service/2025-11-30/
LOCATION:Church Sanctuary\, 452 Park Avenue\, Hoover\, AL\, 35226\, United States
CATEGORIES:Church Event
ATTACH;FMTTYPE=image/jpeg:https://shadescrest.org/wp-content/uploads/2026/02/main-worship-slide-1.jpg
END:VEVENT
BEGIN:VEVENT
DTSTART;TZID=UTC:20251123T110000
DTEND;TZID=UTC:20251123T120000
DTSTAMP:20260423T222110
CREATED:20251114T164638Z
LAST-MODIFIED:20260220T002101Z
UID:10002925-1763895600-1763899200@shadescrest.org
SUMMARY:MAJESTIC Worship Service
DESCRIPTION:Majestic is our conventional worship service\, located in our church sanctuary. In this service\, you will worship with our sanctuary choir\, sing hymns and occasional choruses accompanied by piano\, pipe organ\, and sometimes our church orchestra. You will receive a printed bulletin as a guide for this worship service. Offering plates are passed during this service\, providing you the opportunity to give. \nOur speaker will preach on the same passage of scripture in this service as he does in the 9:00 a.m. service.
URL:https://shadescrest.org/event/majestic-worship-service/2025-11-23/
LOCATION:Church Sanctuary\, 452 Park Avenue\, Hoover\, AL\, 35226\, United States
CATEGORIES:Church Event
ATTACH;FMTTYPE=image/jpeg:https://shadescrest.org/wp-content/uploads/2026/02/main-worship-slide-1.jpg
END:VEVENT
BEGIN:VEVENT
DTSTART;TZID=UTC:20251116T110000
DTEND;TZID=UTC:20251116T120000
DTSTAMP:20260423T222110
CREATED:20251114T164638Z
LAST-MODIFIED:20260220T002101Z
UID:10002924-1763290800-1763294400@shadescrest.org
SUMMARY:MAJESTIC Worship Service
DESCRIPTION:Majestic is our conventional worship service\, located in our church sanctuary. In this service\, you will worship with our sanctuary choir\, sing hymns and occasional choruses accompanied by piano\, pipe organ\, and sometimes our church orchestra. You will receive a printed bulletin as a guide for this worship service. Offering plates are passed during this service\, providing you the opportunity to give. \nOur speaker will preach on the same passage of scripture in this service as he does in the 9:00 a.m. service.
URL:https://shadescrest.org/event/majestic-worship-service/2025-11-16/
LOCATION:Church Sanctuary\, 452 Park Avenue\, Hoover\, AL\, 35226\, United States
CATEGORIES:Church Event
ATTACH;FMTTYPE=image/jpeg:https://shadescrest.org/wp-content/uploads/2026/02/main-worship-slide-1.jpg
END:VEVENT
BEGIN:VEVENT
DTSTART;TZID=UTC:20250418T190000
DTEND;TZID=UTC:20250418T200000
DTSTAMP:20260423T222110
CREATED:20250408T172605Z
LAST-MODIFIED:20250408T172605Z
UID:10002115-1745002800-1745006400@shadescrest.org
SUMMARY:Good Friday Service
DESCRIPTION:
URL:https://shadescrest.org/event/good-friday-service/
LOCATION:Church Sanctuary\, 452 Park Avenue\, Hoover\, AL\, 35226\, United States
CATEGORIES:Church Event
ATTACH;FMTTYPE=image/jpeg:https://shadescrest.org/wp-content/uploads/2025/04/good-friday-2005.jpg
END:VEVENT
BEGIN:VEVENT
DTSTART;TZID=UTC:20241224T170000
DTEND;TZID=UTC:20241224T190000
DTSTAMP:20260423T222110
CREATED:20241120T200143Z
LAST-MODIFIED:20241120T200143Z
UID:10001821-1735059600-1735066800@shadescrest.org
SUMMARY:Christmas Eve Candlelight Service
DESCRIPTION:
URL:https://shadescrest.org/event/christmas-eve-candlelight-service/
LOCATION:Church Sanctuary\, 452 Park Avenue\, Hoover\, AL\, 35226\, United States
CATEGORIES:Church Event
ATTACH;FMTTYPE=image/png:https://shadescrest.org/wp-content/uploads/2023/12/Christmas-eve-candlelight.png
END:VEVENT
BEGIN:VEVENT
DTSTART;TZID=UTC:20241215T103000
DTEND;TZID=UTC:20241215T120000
DTSTAMP:20260423T222110
CREATED:20241120T185705Z
LAST-MODIFIED:20241120T190203Z
UID:10001818-1734258600-1734264000@shadescrest.org
SUMMARY:2024 Shades Crest Christmas Program
DESCRIPTION:
URL:https://shadescrest.org/event/shades-crest-christmas-program/
LOCATION:Church Sanctuary\, 452 Park Avenue\, Hoover\, AL\, 35226\, United States
CATEGORIES:Church Event
ATTACH;FMTTYPE=image/jpeg:https://shadescrest.org/wp-content/uploads/2024/09/light-xmas-program.jpg
END:VEVENT
BEGIN:VEVENT
DTSTART;TZID=UTC:20241027T110000
DTEND;TZID=UTC:20241027T120000
DTSTAMP:20260423T222110
CREATED:20241022T185644Z
LAST-MODIFIED:20241022T185811Z
UID:10001814-1730026800-1730030400@shadescrest.org
SUMMARY:Baptism Sunday in Majestic Service
DESCRIPTION:
URL:https://shadescrest.org/event/baptism-sunday-in-majestic-service/
LOCATION:Church Sanctuary\, 452 Park Avenue\, Hoover\, AL\, 35226\, United States
CATEGORIES:Church Event
ATTACH;FMTTYPE=image/jpeg:https://shadescrest.org/wp-content/uploads/2024/10/baptism-sunday.jpg
END:VEVENT
BEGIN:VEVENT
DTSTART;TZID=UTC:20241020T170000
DTEND;TZID=UTC:20241020T180000
DTSTAMP:20260423T222110
CREATED:20240919T155142Z
LAST-MODIFIED:20240919T155142Z
UID:10001803-1729443600-1729447200@shadescrest.org
SUMMARY:Tapestry of Praise
DESCRIPTION:2024 Fall Instrumental Concert with the Sanctuary Orchestra
URL:https://shadescrest.org/event/tapestry-of-praise/
LOCATION:Church Sanctuary\, 452 Park Avenue\, Hoover\, AL\, 35226\, United States
CATEGORIES:Church Event
ATTACH;FMTTYPE=image/jpeg:https://shadescrest.org/wp-content/uploads/2024/09/tapestry-of-praise.jpg
END:VEVENT
BEGIN:VEVENT
DTSTART;TZID=UTC:20240922T170000
DTEND;TZID=UTC:20240922T180000
DTSTAMP:20260423T222110
CREATED:20240917T183508Z
LAST-MODIFIED:20240917T183508Z
UID:10001802-1727024400-1727028000@shadescrest.org
SUMMARY:Deacon Ordination
DESCRIPTION:
URL:https://shadescrest.org/event/deacon-ordination/
LOCATION:Church Sanctuary\, 452 Park Avenue\, Hoover\, AL\, 35226\, United States
CATEGORIES:Church Event
ATTACH;FMTTYPE=image/jpeg:https://shadescrest.org/wp-content/uploads/2024/09/deacon-ordination.jpg
END:VEVENT
BEGIN:VEVENT
DTSTART;TZID=UTC:20240915T110000
DTEND;TZID=UTC:20240915T120000
DTSTAMP:20260423T222110
CREATED:20240821T163640Z
LAST-MODIFIED:20240821T163640Z
UID:10001525-1726398000-1726401600@shadescrest.org
SUMMARY:1st Grade Bible Presentation
DESCRIPTION:
URL:https://shadescrest.org/event/1st-grade-bible-presentation/
LOCATION:Church Sanctuary\, 452 Park Avenue\, Hoover\, AL\, 35226\, United States
ATTACH;FMTTYPE=image/jpeg:https://shadescrest.org/wp-content/uploads/2024/08/1st-grade-bible-presentation.jpg
END:VEVENT
END:VCALENDAR