BEGIN:VCALENDAR
VERSION:2.0
PRODID:-//Shades Crest Baptist Church - ECPv6.15.20//NONSGML v1.0//EN
CALSCALE:GREGORIAN
METHOD:PUBLISH
X-ORIGINAL-URL:https://shadescrest.org
X-WR-CALDESC:Events for Shades Crest Baptist Church
REFRESH-INTERVAL;VALUE=DURATION:PT1H
X-Robots-Tag:noindex
X-PUBLISHED-TTL:PT1H
BEGIN:VTIMEZONE
TZID:UTC
BEGIN:STANDARD
TZOFFSETFROM:+0000
TZOFFSETTO:+0000
TZNAME:UTC
DTSTART:20240101T000000
END:STANDARD
END:VTIMEZONE
BEGIN:VEVENT
DTSTART;TZID=UTC:20260422T164500
DTEND;TZID=UTC:20260422T200000
DTSTAMP:20260423T223541
CREATED:20240723T191342Z
LAST-MODIFIED:20260216T213352Z
UID:10000817-1776876300-1776888000@shadescrest.org
SUMMARY:Midpoint Wednesday Evening Activities
DESCRIPTION:Join us each Wednesday evening for activities and Bible Study for all ages beginning with dinner at 4:45pm in the Fellowship Hall.
URL:https://shadescrest.org/event/midpoint-wednesday-evening-activities/2026-04-22/
LOCATION:Entire Church Campus\, 452 Park Avenue\, Hoover\, AL\, 35226
CATEGORIES:Church Event
ATTACH;FMTTYPE=image/jpeg:https://shadescrest.org/wp-content/uploads/2026/02/midpoint-new.jpg
END:VEVENT
BEGIN:VEVENT
DTSTART;TZID=UTC:20260415T164500
DTEND;TZID=UTC:20260415T200000
DTSTAMP:20260423T223541
CREATED:20240723T191342Z
LAST-MODIFIED:20260216T213352Z
UID:10000816-1776271500-1776283200@shadescrest.org
SUMMARY:Midpoint Wednesday Evening Activities
DESCRIPTION:Join us each Wednesday evening for activities and Bible Study for all ages beginning with dinner at 4:45pm in the Fellowship Hall.
URL:https://shadescrest.org/event/midpoint-wednesday-evening-activities/2026-04-15/
LOCATION:Entire Church Campus\, 452 Park Avenue\, Hoover\, AL\, 35226
CATEGORIES:Church Event
ATTACH;FMTTYPE=image/jpeg:https://shadescrest.org/wp-content/uploads/2026/02/midpoint-new.jpg
END:VEVENT
BEGIN:VEVENT
DTSTART;TZID=UTC:20260411T080000
DTEND;TZID=UTC:20260411T100000
DTSTAMP:20260423T223541
CREATED:20260123T191029Z
LAST-MODIFIED:20260216T192508Z
UID:10004822-1775894400-1775901600@shadescrest.org
SUMMARY:High Country 5K
DESCRIPTION:Whether you are running this event for the first time or have completed all 22 previous races\, please join us for a great day of fun and fellowship! Register Here!
URL:https://shadescrest.org/event/high-country-5k-2/
LOCATION:Entire Church Campus\, 452 Park Avenue\, Hoover\, AL\, 35226
CATEGORIES:Church Event,FLC Event
ATTACH;FMTTYPE=image/png:https://shadescrest.org/wp-content/uploads/2026/02/Screenshot-2026-02-16-132004.png
END:VEVENT
BEGIN:VEVENT
DTSTART;TZID=UTC:20260408T164500
DTEND;TZID=UTC:20260408T200000
DTSTAMP:20260423T223541
CREATED:20240723T191342Z
LAST-MODIFIED:20260216T213352Z
UID:10000815-1775666700-1775678400@shadescrest.org
SUMMARY:Midpoint Wednesday Evening Activities
DESCRIPTION:Join us each Wednesday evening for activities and Bible Study for all ages beginning with dinner at 4:45pm in the Fellowship Hall.
URL:https://shadescrest.org/event/midpoint-wednesday-evening-activities/2026-04-08/
LOCATION:Entire Church Campus\, 452 Park Avenue\, Hoover\, AL\, 35226
CATEGORIES:Church Event
ATTACH;FMTTYPE=image/jpeg:https://shadescrest.org/wp-content/uploads/2026/02/midpoint-new.jpg
END:VEVENT
BEGIN:VEVENT
DTSTART;TZID=UTC:20260405T090000
DTEND;TZID=UTC:20260405T120000
DTSTAMP:20260423T223541
CREATED:20260302T214125Z
LAST-MODIFIED:20260302T215309Z
UID:10005113-1775379600-1775390400@shadescrest.org
SUMMARY:Easter Services
DESCRIPTION:Celebrate Easter with us in both of our services. In our modern worship service\, Rising\, at 9:00 a.m.\, you’ll worship with our praise team and band in our church fellowship hall. You’ll see song lyrics and scripture passages projected on a screen\, and watch videos related to that day’s worship focus. \nMajestic is our conventional worship service at 11:00 a.m.\, located in our church sanctuary. In this service\, you will worship with our sanctuary choir\, sing hymns and occasional choruses accompanied by piano\, pipe organ\, and sometimes our church orchestra. You will receive a printed bulletin as a guide for this worship service.
URL:https://shadescrest.org/event/easter-services/
LOCATION:Entire Church Campus\, 452 Park Avenue\, Hoover\, AL\, 35226
CATEGORIES:Church Event
ATTACH;FMTTYPE=image/png:https://shadescrest.org/wp-content/uploads/2026/03/final-easter.png
END:VEVENT
BEGIN:VEVENT
DTSTART;TZID=UTC:20260404T150000
DTEND;TZID=UTC:20260404T170000
DTSTAMP:20260423T223541
CREATED:20260303T161522Z
LAST-MODIFIED:20260303T161522Z
UID:10005114-1775314800-1775322000@shadescrest.org
SUMMARY:Community Easter Fest
DESCRIPTION:Come rain or shine and enjoy a story walk\, egg hunts\, games\, face painting and more.
URL:https://shadescrest.org/event/community-easter-fest-2/
LOCATION:Entire Church Campus\, 452 Park Avenue\, Hoover\, AL\, 35226
CATEGORIES:Church Event
ATTACH;FMTTYPE=image/png:https://shadescrest.org/wp-content/uploads/2026/03/EGG-HUNT.png
END:VEVENT
BEGIN:VEVENT
DTSTART;TZID=UTC:20260329T090000
DTEND;TZID=UTC:20260329T120000
DTSTAMP:20260423T223541
CREATED:20260302T212721Z
LAST-MODIFIED:20260302T213547Z
UID:10005107-1774774800-1774785600@shadescrest.org
SUMMARY:Palm Sunday Services
DESCRIPTION:Celebrate with us the beginning of Holy Week during our Palm Sunday services. In our modern worship service\, Rising\, at 9:00 a.m.\, you’ll worship with our praise team and band in our church fellowship hall. You’ll see song lyrics and scripture passages projected on a screen\, and watch videos related to that day’s worship focus. \nMajestic is our conventional worship service\, located in our church sanctuary. In this service\, you will worship with our sanctuary choir\, sing hymns and occasional choruses accompanied by piano\, pipe organ\, and sometimes our church orchestra. You will receive a printed bulletin as a guide for this worship service.
URL:https://shadescrest.org/event/palm-sunday-services/
LOCATION:Entire Church Campus\, 452 Park Avenue\, Hoover\, AL\, 35226
CATEGORIES:Church Event
ATTACH;FMTTYPE=image/png:https://shadescrest.org/wp-content/uploads/2026/03/final-palm-sunday.png
END:VEVENT
BEGIN:VEVENT
DTSTART;TZID=UTC:20260318T164500
DTEND;TZID=UTC:20260318T200000
DTSTAMP:20260423T223541
CREATED:20240723T191342Z
LAST-MODIFIED:20260216T213352Z
UID:10000812-1773852300-1773864000@shadescrest.org
SUMMARY:Midpoint Wednesday Evening Activities
DESCRIPTION:Join us each Wednesday evening for activities and Bible Study for all ages beginning with dinner at 4:45pm in the Fellowship Hall.
URL:https://shadescrest.org/event/midpoint-wednesday-evening-activities/2026-03-18/
LOCATION:Entire Church Campus\, 452 Park Avenue\, Hoover\, AL\, 35226
CATEGORIES:Church Event
ATTACH;FMTTYPE=image/jpeg:https://shadescrest.org/wp-content/uploads/2026/02/midpoint-new.jpg
END:VEVENT
BEGIN:VEVENT
DTSTART;TZID=UTC:20260314T080000
DTEND;TZID=UTC:20260314T120000
DTSTAMP:20260423T223541
CREATED:20260304T011516Z
LAST-MODIFIED:20260304T011516Z
UID:10005115-1773475200-1773489600@shadescrest.org
SUMMARY:Church Grounds Serve Day
DESCRIPTION:
URL:https://shadescrest.org/event/church-grounds-serve-day/
LOCATION:Entire Church Campus\, 452 Park Avenue\, Hoover\, AL\, 35226
CATEGORIES:Church Event
ATTACH;FMTTYPE=image/png:https://shadescrest.org/wp-content/uploads/2026/03/Screenshot-2026-03-03-190605.png
END:VEVENT
BEGIN:VEVENT
DTSTART;TZID=UTC:20260311T164500
DTEND;TZID=UTC:20260311T200000
DTSTAMP:20260423T223541
CREATED:20240723T191342Z
LAST-MODIFIED:20260216T213352Z
UID:10000811-1773247500-1773259200@shadescrest.org
SUMMARY:Midpoint Wednesday Evening Activities
DESCRIPTION:Join us each Wednesday evening for activities and Bible Study for all ages beginning with dinner at 4:45pm in the Fellowship Hall.
URL:https://shadescrest.org/event/midpoint-wednesday-evening-activities/2026-03-11/
LOCATION:Entire Church Campus\, 452 Park Avenue\, Hoover\, AL\, 35226
CATEGORIES:Church Event
ATTACH;FMTTYPE=image/jpeg:https://shadescrest.org/wp-content/uploads/2026/02/midpoint-new.jpg
END:VEVENT
BEGIN:VEVENT
DTSTART;TZID=UTC:20260308T110000
DTEND;TZID=UTC:20260308T140000
DTSTAMP:20260423T223541
CREATED:20260203T232032Z
LAST-MODIFIED:20260203T232032Z
UID:10004847-1772967600-1772978400@shadescrest.org
SUMMARY:Faith Family Sunday Service
DESCRIPTION:Join us on Sunday\, March 8 for Faith Family Sunday\, a special day set aside to celebrate the beautiful intergenerational life of our church. This is a Sunday when all ages come together—children\, youth\, adults\, and seniors—to worship\, connect\, and grow as a faith family. \nDuring worship\, our Intergenerational Choir will lead us in song\, offering a powerful reminder of how good God is. Following the service\, we’ll continue the celebration with a churchwide lunch\, giving us time to share a meal\, faith stories\, and fellowship across ages. \nWe encourage everyone to participate and be part of this meaningful day.\nPlease click HERE or call the Church Office to register for lunch. \nWe can’t wait to celebrate with you!
URL:https://shadescrest.org/event/faith-family-sunday-service/
LOCATION:Entire Church Campus\, 452 Park Avenue\, Hoover\, AL\, 35226
ATTACH;FMTTYPE=image/png:https://shadescrest.org/wp-content/uploads/2026/02/Screenshot-2026-02-03-165627.png
END:VEVENT
BEGIN:VEVENT
DTSTART;TZID=UTC:20260304T164500
DTEND;TZID=UTC:20260304T200000
DTSTAMP:20260423T223541
CREATED:20240723T191342Z
LAST-MODIFIED:20260216T213352Z
UID:10000810-1772642700-1772654400@shadescrest.org
SUMMARY:Midpoint Wednesday Evening Activities
DESCRIPTION:Join us each Wednesday evening for activities and Bible Study for all ages beginning with dinner at 4:45pm in the Fellowship Hall.
URL:https://shadescrest.org/event/midpoint-wednesday-evening-activities/2026-03-04/
LOCATION:Entire Church Campus\, 452 Park Avenue\, Hoover\, AL\, 35226
CATEGORIES:Church Event
ATTACH;FMTTYPE=image/jpeg:https://shadescrest.org/wp-content/uploads/2026/02/midpoint-new.jpg
END:VEVENT
BEGIN:VEVENT
DTSTART;TZID=UTC:20260225T164500
DTEND;TZID=UTC:20260225T200000
DTSTAMP:20260423T223541
CREATED:20240723T191342Z
LAST-MODIFIED:20260216T213352Z
UID:10000809-1772037900-1772049600@shadescrest.org
SUMMARY:Midpoint Wednesday Evening Activities
DESCRIPTION:Join us each Wednesday evening for activities and Bible Study for all ages beginning with dinner at 4:45pm in the Fellowship Hall.
URL:https://shadescrest.org/event/midpoint-wednesday-evening-activities/2026-02-25/
LOCATION:Entire Church Campus\, 452 Park Avenue\, Hoover\, AL\, 35226
CATEGORIES:Church Event
ATTACH;FMTTYPE=image/jpeg:https://shadescrest.org/wp-content/uploads/2026/02/midpoint-new.jpg
END:VEVENT
BEGIN:VEVENT
DTSTART;TZID=UTC:20260218T164500
DTEND;TZID=UTC:20260218T200000
DTSTAMP:20260423T223541
CREATED:20260217T233506Z
LAST-MODIFIED:20260217T233510Z
UID:10000808-1771433100-1771444800@shadescrest.org
SUMMARY:Midpoint Wednesday Evening Activities
DESCRIPTION:Pre-schoolers and children will have their regular Wednesday night activities.
URL:https://shadescrest.org/event/midpoint-wednesday-evening-activities-2/
LOCATION:Entire Church Campus\, 452 Park Avenue\, Hoover\, AL\, 35226
CATEGORIES:Church Event
ATTACH;FMTTYPE=image/jpeg:https://shadescrest.org/wp-content/uploads/2026/02/midpoint-new.jpg
END:VEVENT
BEGIN:VEVENT
DTSTART;TZID=UTC:20260215T090000
DTEND;TZID=UTC:20260215T140000
DTSTAMP:20260423T223541
CREATED:20260124T004112Z
LAST-MODIFIED:20260211T005848Z
UID:10004823-1771146000-1771164000@shadescrest.org
SUMMARY:MAJESTIC Service - Senior Adult Day & Luncheon
DESCRIPTION:
URL:https://shadescrest.org/event/senior-adult-day-luncheon/
LOCATION:Entire Church Campus\, 452 Park Avenue\, Hoover\, AL\, 35226
CATEGORIES:Senior Adults Event
ATTACH;FMTTYPE=image/jpeg:https://shadescrest.org/wp-content/uploads/2026/01/Adult-Day2.jpg
END:VEVENT
BEGIN:VEVENT
DTSTART;TZID=UTC:20260211T164500
DTEND;TZID=UTC:20260211T200000
DTSTAMP:20260423T223541
CREATED:20240723T191342Z
LAST-MODIFIED:20260216T213352Z
UID:10000807-1770828300-1770840000@shadescrest.org
SUMMARY:Midpoint Wednesday Evening Activities
DESCRIPTION:Join us each Wednesday evening for activities and Bible Study for all ages beginning with dinner at 4:45pm in the Fellowship Hall.
URL:https://shadescrest.org/event/midpoint-wednesday-evening-activities/2026-02-11/
LOCATION:Entire Church Campus\, 452 Park Avenue\, Hoover\, AL\, 35226
CATEGORIES:Church Event
ATTACH;FMTTYPE=image/jpeg:https://shadescrest.org/wp-content/uploads/2026/02/midpoint-new.jpg
END:VEVENT
BEGIN:VEVENT
DTSTART;TZID=UTC:20260204T164500
DTEND;TZID=UTC:20260204T200000
DTSTAMP:20260423T223541
CREATED:20240723T191342Z
LAST-MODIFIED:20260216T213352Z
UID:10000806-1770223500-1770235200@shadescrest.org
SUMMARY:Midpoint Wednesday Evening Activities
DESCRIPTION:Join us each Wednesday evening for activities and Bible Study for all ages beginning with dinner at 4:45pm in the Fellowship Hall.
URL:https://shadescrest.org/event/midpoint-wednesday-evening-activities/2026-02-04/
LOCATION:Entire Church Campus\, 452 Park Avenue\, Hoover\, AL\, 35226
CATEGORIES:Church Event
ATTACH;FMTTYPE=image/jpeg:https://shadescrest.org/wp-content/uploads/2026/02/midpoint-new.jpg
END:VEVENT
BEGIN:VEVENT
DTSTART;TZID=UTC:20260128T164500
DTEND;TZID=UTC:20260128T200000
DTSTAMP:20260423T223541
CREATED:20240723T191342Z
LAST-MODIFIED:20260216T213352Z
UID:10000805-1769618700-1769630400@shadescrest.org
SUMMARY:Midpoint Wednesday Evening Activities
DESCRIPTION:Join us each Wednesday evening for activities and Bible Study for all ages beginning with dinner at 4:45pm in the Fellowship Hall.
URL:https://shadescrest.org/event/midpoint-wednesday-evening-activities/2026-01-28/
LOCATION:Entire Church Campus\, 452 Park Avenue\, Hoover\, AL\, 35226
CATEGORIES:Church Event
ATTACH;FMTTYPE=image/jpeg:https://shadescrest.org/wp-content/uploads/2026/02/midpoint-new.jpg
END:VEVENT
BEGIN:VEVENT
DTSTART;TZID=UTC:20260121T164500
DTEND;TZID=UTC:20260121T200000
DTSTAMP:20260423T223541
CREATED:20240723T191342Z
LAST-MODIFIED:20260216T213352Z
UID:10000804-1769013900-1769025600@shadescrest.org
SUMMARY:Midpoint Wednesday Evening Activities
DESCRIPTION:Join us each Wednesday evening for activities and Bible Study for all ages beginning with dinner at 4:45pm in the Fellowship Hall.
URL:https://shadescrest.org/event/midpoint-wednesday-evening-activities/2026-01-21/
LOCATION:Entire Church Campus\, 452 Park Avenue\, Hoover\, AL\, 35226
CATEGORIES:Church Event
ATTACH;FMTTYPE=image/jpeg:https://shadescrest.org/wp-content/uploads/2026/02/midpoint-new.jpg
END:VEVENT
BEGIN:VEVENT
DTSTART;TZID=UTC:20260114T164500
DTEND;TZID=UTC:20260114T200000
DTSTAMP:20260423T223541
CREATED:20240723T191342Z
LAST-MODIFIED:20260216T213352Z
UID:10000803-1768409100-1768420800@shadescrest.org
SUMMARY:Midpoint Wednesday Evening Activities
DESCRIPTION:Join us each Wednesday evening for activities and Bible Study for all ages beginning with dinner at 4:45pm in the Fellowship Hall.
URL:https://shadescrest.org/event/midpoint-wednesday-evening-activities/2026-01-14/
LOCATION:Entire Church Campus\, 452 Park Avenue\, Hoover\, AL\, 35226
CATEGORIES:Church Event
ATTACH;FMTTYPE=image/jpeg:https://shadescrest.org/wp-content/uploads/2026/02/midpoint-new.jpg
END:VEVENT
BEGIN:VEVENT
DTSTART;TZID=UTC:20260107T180000
DTEND;TZID=UTC:20260107T200000
DTSTAMP:20260423T223541
CREATED:20251226T183644Z
LAST-MODIFIED:20251226T183644Z
UID:10004713-1767808800-1767816000@shadescrest.org
SUMMARY:Prayer Walk
DESCRIPTION:The SCBC Prayer Ministry invites our entire church family to join us at 6:00 PM on\nWednesday\, January 7\, as we step into 2026. Following the fellowship dinner\, we will\nparticipate in a guided Prayer Walk throughout our church campus.\nPrayer is\, at its core\, a seeking of unity—especially unity with God. As we begin a new chapter\nin the life of Shades Crest Baptist Church\, may we join our hearts in covering our church\, our\nministries\, and one another in prayer.\nLet’s walk together in hope\, gratitude\, and expectation for what God will do in the year ahead.
URL:https://shadescrest.org/event/prayer-walk/
LOCATION:Entire Church Campus\, 452 Park Avenue\, Hoover\, AL\, 35226
CATEGORIES:Church Event
ATTACH;FMTTYPE=image/png:https://shadescrest.org/wp-content/uploads/2025/12/prayer-walk.png
END:VEVENT
BEGIN:VEVENT
DTSTART;TZID=UTC:20251221T180000
DTEND;TZID=UTC:20251221T200000
DTSTAMP:20260423T223541
CREATED:20251114T222638Z
LAST-MODIFIED:20251120T203639Z
UID:10003185-1766340000-1766347200@shadescrest.org
SUMMARY:Live Nativity
DESCRIPTION:See outdoor Live Nativity programs at 6:00 PM and 7:00 PM.
URL:https://shadescrest.org/event/live-nativity-2/
LOCATION:Entire Church Campus\, 452 Park Avenue\, Hoover\, AL\, 35226
CATEGORIES:Church Event
ATTACH;FMTTYPE=image/png:https://shadescrest.org/wp-content/uploads/2025/11/Screenshot-2025-11-20-141512.png
END:VEVENT
BEGIN:VEVENT
DTSTART;TZID=UTC:20251217T164500
DTEND;TZID=UTC:20251217T200000
DTSTAMP:20260423T223541
CREATED:20240723T191342Z
LAST-MODIFIED:20260216T213352Z
UID:10000799-1765989900-1766001600@shadescrest.org
SUMMARY:Midpoint Wednesday Evening Activities
DESCRIPTION:Join us each Wednesday evening for activities and Bible Study for all ages beginning with dinner at 4:45pm in the Fellowship Hall.
URL:https://shadescrest.org/event/midpoint-wednesday-evening-activities/2025-12-17/
LOCATION:Entire Church Campus\, 452 Park Avenue\, Hoover\, AL\, 35226
CATEGORIES:Church Event
ATTACH;FMTTYPE=image/jpeg:https://shadescrest.org/wp-content/uploads/2026/02/midpoint-new.jpg
END:VEVENT
BEGIN:VEVENT
DTSTART;TZID=UTC:20251210T164500
DTEND;TZID=UTC:20251210T200000
DTSTAMP:20260423T223541
CREATED:20240723T191342Z
LAST-MODIFIED:20260216T213352Z
UID:10000798-1765385100-1765396800@shadescrest.org
SUMMARY:Midpoint Wednesday Evening Activities
DESCRIPTION:Join us each Wednesday evening for activities and Bible Study for all ages beginning with dinner at 4:45pm in the Fellowship Hall.
URL:https://shadescrest.org/event/midpoint-wednesday-evening-activities/2025-12-10/
LOCATION:Entire Church Campus\, 452 Park Avenue\, Hoover\, AL\, 35226
CATEGORIES:Church Event
ATTACH;FMTTYPE=image/jpeg:https://shadescrest.org/wp-content/uploads/2026/02/midpoint-new.jpg
END:VEVENT
BEGIN:VEVENT
DTSTART;TZID=UTC:20251207T100000
DTEND;TZID=UTC:20251207T110000
DTSTAMP:20260423T223541
CREATED:20251118T233926Z
LAST-MODIFIED:20251118T235532Z
UID:10003324-1765101600-1765105200@shadescrest.org
SUMMARY:Christmas Breakfast for Children & Preteens
DESCRIPTION:
URL:https://shadescrest.org/event/christmas-breakfast-for-children-preteens/
LOCATION:Entire Church Campus\, 452 Park Avenue\, Hoover\, AL\, 35226
END:VEVENT
BEGIN:VEVENT
DTSTART;TZID=UTC:20251203T164500
DTEND;TZID=UTC:20251203T200000
DTSTAMP:20260423T223541
CREATED:20240723T191342Z
LAST-MODIFIED:20260216T213352Z
UID:10000797-1764780300-1764792000@shadescrest.org
SUMMARY:Midpoint Wednesday Evening Activities
DESCRIPTION:Join us each Wednesday evening for activities and Bible Study for all ages beginning with dinner at 4:45pm in the Fellowship Hall.
URL:https://shadescrest.org/event/midpoint-wednesday-evening-activities/2025-12-03/
LOCATION:Entire Church Campus\, 452 Park Avenue\, Hoover\, AL\, 35226
CATEGORIES:Church Event
ATTACH;FMTTYPE=image/jpeg:https://shadescrest.org/wp-content/uploads/2026/02/midpoint-new.jpg
END:VEVENT
BEGIN:VEVENT
DTSTART;TZID=UTC:20251119T164500
DTEND;TZID=UTC:20251119T200000
DTSTAMP:20260423T223541
CREATED:20240723T191342Z
LAST-MODIFIED:20260216T213352Z
UID:10000795-1763570700-1763582400@shadescrest.org
SUMMARY:Midpoint Wednesday Evening Activities
DESCRIPTION:Join us each Wednesday evening for activities and Bible Study for all ages beginning with dinner at 4:45pm in the Fellowship Hall.
URL:https://shadescrest.org/event/midpoint-wednesday-evening-activities/2025-11-19/
LOCATION:Entire Church Campus\, 452 Park Avenue\, Hoover\, AL\, 35226
CATEGORIES:Church Event
ATTACH;FMTTYPE=image/jpeg:https://shadescrest.org/wp-content/uploads/2026/02/midpoint-new.jpg
END:VEVENT
BEGIN:VEVENT
DTSTART;TZID=UTC:20251112T164500
DTEND;TZID=UTC:20251112T200000
DTSTAMP:20260423T223541
CREATED:20240723T191342Z
LAST-MODIFIED:20260216T213352Z
UID:10000794-1762965900-1762977600@shadescrest.org
SUMMARY:Midpoint Wednesday Evening Activities
DESCRIPTION:Join us each Wednesday evening for activities and Bible Study for all ages beginning with dinner at 4:45pm in the Fellowship Hall.
URL:https://shadescrest.org/event/midpoint-wednesday-evening-activities/2025-11-12/
LOCATION:Entire Church Campus\, 452 Park Avenue\, Hoover\, AL\, 35226
CATEGORIES:Church Event
ATTACH;FMTTYPE=image/jpeg:https://shadescrest.org/wp-content/uploads/2026/02/midpoint-new.jpg
END:VEVENT
BEGIN:VEVENT
DTSTART;TZID=UTC:20251105T164500
DTEND;TZID=UTC:20251105T200000
DTSTAMP:20260423T223541
CREATED:20240723T191342Z
LAST-MODIFIED:20260216T213352Z
UID:10000793-1762361100-1762372800@shadescrest.org
SUMMARY:Midpoint Wednesday Evening Activities
DESCRIPTION:Join us each Wednesday evening for activities and Bible Study for all ages beginning with dinner at 4:45pm in the Fellowship Hall.
URL:https://shadescrest.org/event/midpoint-wednesday-evening-activities/2025-11-05/
LOCATION:Entire Church Campus\, 452 Park Avenue\, Hoover\, AL\, 35226
CATEGORIES:Church Event
ATTACH;FMTTYPE=image/jpeg:https://shadescrest.org/wp-content/uploads/2026/02/midpoint-new.jpg
END:VEVENT
BEGIN:VEVENT
DTSTART;TZID=UTC:20251029T164500
DTEND;TZID=UTC:20251029T200000
DTSTAMP:20260423T223541
CREATED:20240723T191342Z
LAST-MODIFIED:20260216T213352Z
UID:10000792-1761756300-1761768000@shadescrest.org
SUMMARY:Midpoint Wednesday Evening Activities
DESCRIPTION:Join us each Wednesday evening for activities and Bible Study for all ages beginning with dinner at 4:45pm in the Fellowship Hall.
URL:https://shadescrest.org/event/midpoint-wednesday-evening-activities/2025-10-29/
LOCATION:Entire Church Campus\, 452 Park Avenue\, Hoover\, AL\, 35226
CATEGORIES:Church Event
ATTACH;FMTTYPE=image/jpeg:https://shadescrest.org/wp-content/uploads/2026/02/midpoint-new.jpg
END:VEVENT
END:VCALENDAR