BEGIN:VCALENDAR
VERSION:2.0
PRODID:-//Shades Crest Baptist Church - ECPv6.15.20//NONSGML v1.0//EN
CALSCALE:GREGORIAN
METHOD:PUBLISH
X-WR-CALNAME:Shades Crest Baptist Church
X-ORIGINAL-URL:https://shadescrest.org
X-WR-CALDESC:Events for Shades Crest Baptist Church
REFRESH-INTERVAL;VALUE=DURATION:PT1H
X-Robots-Tag:noindex
X-PUBLISHED-TTL:PT1H
BEGIN:VTIMEZONE
TZID:UTC
BEGIN:STANDARD
TZOFFSETFROM:+0000
TZOFFSETTO:+0000
TZNAME:UTC
DTSTART:20260101T000000
END:STANDARD
END:VTIMEZONE
BEGIN:VEVENT
DTSTART;TZID=UTC:20271027T164500
DTEND;TZID=UTC:20271027T200000
DTSTAMP:20260424T110115
CREATED:20240723T191342Z
LAST-MODIFIED:20260216T213352Z
UID:10000896-1824655500-1824667200@shadescrest.org
SUMMARY:Midpoint Wednesday Evening Activities
DESCRIPTION:Join us each Wednesday evening for activities and Bible Study for all ages beginning with dinner at 4:45pm in the Fellowship Hall.
URL:https://shadescrest.org/event/midpoint-wednesday-evening-activities/2027-10-27/
LOCATION:Entire Church Campus\, 452 Park Avenue\, Hoover\, AL\, 35226
CATEGORIES:Church Event
ATTACH;FMTTYPE=image/jpeg:https://shadescrest.org/wp-content/uploads/2026/02/midpoint-new.jpg
END:VEVENT
BEGIN:VEVENT
DTSTART;TZID=UTC:20271103T164500
DTEND;TZID=UTC:20271103T200000
DTSTAMP:20260424T110115
CREATED:20240723T191342Z
LAST-MODIFIED:20260216T213352Z
UID:10000897-1825260300-1825272000@shadescrest.org
SUMMARY:Midpoint Wednesday Evening Activities
DESCRIPTION:Join us each Wednesday evening for activities and Bible Study for all ages beginning with dinner at 4:45pm in the Fellowship Hall.
URL:https://shadescrest.org/event/midpoint-wednesday-evening-activities/2027-11-03/
LOCATION:Entire Church Campus\, 452 Park Avenue\, Hoover\, AL\, 35226
CATEGORIES:Church Event
ATTACH;FMTTYPE=image/jpeg:https://shadescrest.org/wp-content/uploads/2026/02/midpoint-new.jpg
END:VEVENT
BEGIN:VEVENT
DTSTART;TZID=UTC:20271110T164500
DTEND;TZID=UTC:20271110T200000
DTSTAMP:20260424T110115
CREATED:20240723T191342Z
LAST-MODIFIED:20260216T213352Z
UID:10000898-1825865100-1825876800@shadescrest.org
SUMMARY:Midpoint Wednesday Evening Activities
DESCRIPTION:Join us each Wednesday evening for activities and Bible Study for all ages beginning with dinner at 4:45pm in the Fellowship Hall.
URL:https://shadescrest.org/event/midpoint-wednesday-evening-activities/2027-11-10/
LOCATION:Entire Church Campus\, 452 Park Avenue\, Hoover\, AL\, 35226
CATEGORIES:Church Event
ATTACH;FMTTYPE=image/jpeg:https://shadescrest.org/wp-content/uploads/2026/02/midpoint-new.jpg
END:VEVENT
BEGIN:VEVENT
DTSTART;TZID=UTC:20271117T164500
DTEND;TZID=UTC:20271117T200000
DTSTAMP:20260424T110115
CREATED:20240723T191342Z
LAST-MODIFIED:20260216T213352Z
UID:10000899-1826469900-1826481600@shadescrest.org
SUMMARY:Midpoint Wednesday Evening Activities
DESCRIPTION:Join us each Wednesday evening for activities and Bible Study for all ages beginning with dinner at 4:45pm in the Fellowship Hall.
URL:https://shadescrest.org/event/midpoint-wednesday-evening-activities/2027-11-17/
LOCATION:Entire Church Campus\, 452 Park Avenue\, Hoover\, AL\, 35226
CATEGORIES:Church Event
ATTACH;FMTTYPE=image/jpeg:https://shadescrest.org/wp-content/uploads/2026/02/midpoint-new.jpg
END:VEVENT
BEGIN:VEVENT
DTSTART;TZID=UTC:20271124T164500
DTEND;TZID=UTC:20271124T200000
DTSTAMP:20260424T110115
CREATED:20240723T191342Z
LAST-MODIFIED:20260216T213352Z
UID:10000900-1827074700-1827086400@shadescrest.org
SUMMARY:Midpoint Wednesday Evening Activities
DESCRIPTION:Join us each Wednesday evening for activities and Bible Study for all ages beginning with dinner at 4:45pm in the Fellowship Hall.
URL:https://shadescrest.org/event/midpoint-wednesday-evening-activities/2027-11-24/
LOCATION:Entire Church Campus\, 452 Park Avenue\, Hoover\, AL\, 35226
CATEGORIES:Church Event
ATTACH;FMTTYPE=image/jpeg:https://shadescrest.org/wp-content/uploads/2026/02/midpoint-new.jpg
END:VEVENT
BEGIN:VEVENT
DTSTART;TZID=UTC:20271201T164500
DTEND;TZID=UTC:20271201T200000
DTSTAMP:20260424T110115
CREATED:20240723T191342Z
LAST-MODIFIED:20260216T213352Z
UID:10000901-1827679500-1827691200@shadescrest.org
SUMMARY:Midpoint Wednesday Evening Activities
DESCRIPTION:Join us each Wednesday evening for activities and Bible Study for all ages beginning with dinner at 4:45pm in the Fellowship Hall.
URL:https://shadescrest.org/event/midpoint-wednesday-evening-activities/2027-12-01/
LOCATION:Entire Church Campus\, 452 Park Avenue\, Hoover\, AL\, 35226
CATEGORIES:Church Event
ATTACH;FMTTYPE=image/jpeg:https://shadescrest.org/wp-content/uploads/2026/02/midpoint-new.jpg
END:VEVENT
BEGIN:VEVENT
DTSTART;TZID=UTC:20271208T164500
DTEND;TZID=UTC:20271208T200000
DTSTAMP:20260424T110115
CREATED:20240723T191342Z
LAST-MODIFIED:20260216T213352Z
UID:10000902-1828284300-1828296000@shadescrest.org
SUMMARY:Midpoint Wednesday Evening Activities
DESCRIPTION:Join us each Wednesday evening for activities and Bible Study for all ages beginning with dinner at 4:45pm in the Fellowship Hall.
URL:https://shadescrest.org/event/midpoint-wednesday-evening-activities/2027-12-08/
LOCATION:Entire Church Campus\, 452 Park Avenue\, Hoover\, AL\, 35226
CATEGORIES:Church Event
ATTACH;FMTTYPE=image/jpeg:https://shadescrest.org/wp-content/uploads/2026/02/midpoint-new.jpg
END:VEVENT
BEGIN:VEVENT
DTSTART;TZID=UTC:20271215T164500
DTEND;TZID=UTC:20271215T200000
DTSTAMP:20260424T110115
CREATED:20240723T191342Z
LAST-MODIFIED:20260216T213352Z
UID:10000903-1828889100-1828900800@shadescrest.org
SUMMARY:Midpoint Wednesday Evening Activities
DESCRIPTION:Join us each Wednesday evening for activities and Bible Study for all ages beginning with dinner at 4:45pm in the Fellowship Hall.
URL:https://shadescrest.org/event/midpoint-wednesday-evening-activities/2027-12-15/
LOCATION:Entire Church Campus\, 452 Park Avenue\, Hoover\, AL\, 35226
CATEGORIES:Church Event
ATTACH;FMTTYPE=image/jpeg:https://shadescrest.org/wp-content/uploads/2026/02/midpoint-new.jpg
END:VEVENT
BEGIN:VEVENT
DTSTART;TZID=UTC:20271222T164500
DTEND;TZID=UTC:20271222T200000
DTSTAMP:20260424T110115
CREATED:20240723T191342Z
LAST-MODIFIED:20260216T213352Z
UID:10000904-1829493900-1829505600@shadescrest.org
SUMMARY:Midpoint Wednesday Evening Activities
DESCRIPTION:Join us each Wednesday evening for activities and Bible Study for all ages beginning with dinner at 4:45pm in the Fellowship Hall.
URL:https://shadescrest.org/event/midpoint-wednesday-evening-activities/2027-12-22/
LOCATION:Entire Church Campus\, 452 Park Avenue\, Hoover\, AL\, 35226
CATEGORIES:Church Event
ATTACH;FMTTYPE=image/jpeg:https://shadescrest.org/wp-content/uploads/2026/02/midpoint-new.jpg
END:VEVENT
BEGIN:VEVENT
DTSTART;TZID=UTC:20271229T164500
DTEND;TZID=UTC:20271229T200000
DTSTAMP:20260424T110115
CREATED:20240723T191342Z
LAST-MODIFIED:20260216T213352Z
UID:10000905-1830098700-1830110400@shadescrest.org
SUMMARY:Midpoint Wednesday Evening Activities
DESCRIPTION:Join us each Wednesday evening for activities and Bible Study for all ages beginning with dinner at 4:45pm in the Fellowship Hall.
URL:https://shadescrest.org/event/midpoint-wednesday-evening-activities/2027-12-29/
LOCATION:Entire Church Campus\, 452 Park Avenue\, Hoover\, AL\, 35226
CATEGORIES:Church Event
ATTACH;FMTTYPE=image/jpeg:https://shadescrest.org/wp-content/uploads/2026/02/midpoint-new.jpg
END:VEVENT
BEGIN:VEVENT
DTSTART;TZID=UTC:20280105T164500
DTEND;TZID=UTC:20280105T200000
DTSTAMP:20260424T110115
CREATED:20240723T191342Z
LAST-MODIFIED:20260216T213352Z
UID:10000906-1830703500-1830715200@shadescrest.org
SUMMARY:Midpoint Wednesday Evening Activities
DESCRIPTION:Join us each Wednesday evening for activities and Bible Study for all ages beginning with dinner at 4:45pm in the Fellowship Hall.
URL:https://shadescrest.org/event/midpoint-wednesday-evening-activities/2028-01-05/
LOCATION:Entire Church Campus\, 452 Park Avenue\, Hoover\, AL\, 35226
CATEGORIES:Church Event
ATTACH;FMTTYPE=image/jpeg:https://shadescrest.org/wp-content/uploads/2026/02/midpoint-new.jpg
END:VEVENT
BEGIN:VEVENT
DTSTART;TZID=UTC:20280112T164500
DTEND;TZID=UTC:20280112T200000
DTSTAMP:20260424T110115
CREATED:20240723T191342Z
LAST-MODIFIED:20260216T213352Z
UID:10000907-1831308300-1831320000@shadescrest.org
SUMMARY:Midpoint Wednesday Evening Activities
DESCRIPTION:Join us each Wednesday evening for activities and Bible Study for all ages beginning with dinner at 4:45pm in the Fellowship Hall.
URL:https://shadescrest.org/event/midpoint-wednesday-evening-activities/2028-01-12/
LOCATION:Entire Church Campus\, 452 Park Avenue\, Hoover\, AL\, 35226
CATEGORIES:Church Event
ATTACH;FMTTYPE=image/jpeg:https://shadescrest.org/wp-content/uploads/2026/02/midpoint-new.jpg
END:VEVENT
BEGIN:VEVENT
DTSTART;TZID=UTC:20280119T164500
DTEND;TZID=UTC:20280119T200000
DTSTAMP:20260424T110115
CREATED:20240723T191342Z
LAST-MODIFIED:20260216T213352Z
UID:10000908-1831913100-1831924800@shadescrest.org
SUMMARY:Midpoint Wednesday Evening Activities
DESCRIPTION:Join us each Wednesday evening for activities and Bible Study for all ages beginning with dinner at 4:45pm in the Fellowship Hall.
URL:https://shadescrest.org/event/midpoint-wednesday-evening-activities/2028-01-19/
LOCATION:Entire Church Campus\, 452 Park Avenue\, Hoover\, AL\, 35226
CATEGORIES:Church Event
ATTACH;FMTTYPE=image/jpeg:https://shadescrest.org/wp-content/uploads/2026/02/midpoint-new.jpg
END:VEVENT
BEGIN:VEVENT
DTSTART;TZID=UTC:20280126T164500
DTEND;TZID=UTC:20280126T200000
DTSTAMP:20260424T110115
CREATED:20240723T191342Z
LAST-MODIFIED:20260216T213352Z
UID:10000909-1832517900-1832529600@shadescrest.org
SUMMARY:Midpoint Wednesday Evening Activities
DESCRIPTION:Join us each Wednesday evening for activities and Bible Study for all ages beginning with dinner at 4:45pm in the Fellowship Hall.
URL:https://shadescrest.org/event/midpoint-wednesday-evening-activities/2028-01-26/
LOCATION:Entire Church Campus\, 452 Park Avenue\, Hoover\, AL\, 35226
CATEGORIES:Church Event
ATTACH;FMTTYPE=image/jpeg:https://shadescrest.org/wp-content/uploads/2026/02/midpoint-new.jpg
END:VEVENT
BEGIN:VEVENT
DTSTART;TZID=UTC:20280202T164500
DTEND;TZID=UTC:20280202T200000
DTSTAMP:20260424T110115
CREATED:20240723T191342Z
LAST-MODIFIED:20260216T213352Z
UID:10000910-1833122700-1833134400@shadescrest.org
SUMMARY:Midpoint Wednesday Evening Activities
DESCRIPTION:Join us each Wednesday evening for activities and Bible Study for all ages beginning with dinner at 4:45pm in the Fellowship Hall.
URL:https://shadescrest.org/event/midpoint-wednesday-evening-activities/2028-02-02/
LOCATION:Entire Church Campus\, 452 Park Avenue\, Hoover\, AL\, 35226
CATEGORIES:Church Event
ATTACH;FMTTYPE=image/jpeg:https://shadescrest.org/wp-content/uploads/2026/02/midpoint-new.jpg
END:VEVENT
BEGIN:VEVENT
DTSTART;TZID=UTC:20280209T164500
DTEND;TZID=UTC:20280209T200000
DTSTAMP:20260424T110115
CREATED:20240723T191342Z
LAST-MODIFIED:20260216T213352Z
UID:10000911-1833727500-1833739200@shadescrest.org
SUMMARY:Midpoint Wednesday Evening Activities
DESCRIPTION:Join us each Wednesday evening for activities and Bible Study for all ages beginning with dinner at 4:45pm in the Fellowship Hall.
URL:https://shadescrest.org/event/midpoint-wednesday-evening-activities/2028-02-09/
LOCATION:Entire Church Campus\, 452 Park Avenue\, Hoover\, AL\, 35226
CATEGORIES:Church Event
ATTACH;FMTTYPE=image/jpeg:https://shadescrest.org/wp-content/uploads/2026/02/midpoint-new.jpg
END:VEVENT
BEGIN:VEVENT
DTSTART;TZID=UTC:20280216T164500
DTEND;TZID=UTC:20280216T200000
DTSTAMP:20260424T110115
CREATED:20240723T191342Z
LAST-MODIFIED:20260216T213352Z
UID:10000912-1834332300-1834344000@shadescrest.org
SUMMARY:Midpoint Wednesday Evening Activities
DESCRIPTION:Join us each Wednesday evening for activities and Bible Study for all ages beginning with dinner at 4:45pm in the Fellowship Hall.
URL:https://shadescrest.org/event/midpoint-wednesday-evening-activities/2028-02-16/
LOCATION:Entire Church Campus\, 452 Park Avenue\, Hoover\, AL\, 35226
CATEGORIES:Church Event
ATTACH;FMTTYPE=image/jpeg:https://shadescrest.org/wp-content/uploads/2026/02/midpoint-new.jpg
END:VEVENT
BEGIN:VEVENT
DTSTART;TZID=UTC:20280223T164500
DTEND;TZID=UTC:20280223T200000
DTSTAMP:20260424T110115
CREATED:20240723T191342Z
LAST-MODIFIED:20260216T213352Z
UID:10000913-1834937100-1834948800@shadescrest.org
SUMMARY:Midpoint Wednesday Evening Activities
DESCRIPTION:Join us each Wednesday evening for activities and Bible Study for all ages beginning with dinner at 4:45pm in the Fellowship Hall.
URL:https://shadescrest.org/event/midpoint-wednesday-evening-activities/2028-02-23/
LOCATION:Entire Church Campus\, 452 Park Avenue\, Hoover\, AL\, 35226
CATEGORIES:Church Event
ATTACH;FMTTYPE=image/jpeg:https://shadescrest.org/wp-content/uploads/2026/02/midpoint-new.jpg
END:VEVENT
BEGIN:VEVENT
DTSTART;TZID=UTC:20280301T164500
DTEND;TZID=UTC:20280301T200000
DTSTAMP:20260424T110115
CREATED:20240723T191342Z
LAST-MODIFIED:20260216T213352Z
UID:10000914-1835541900-1835553600@shadescrest.org
SUMMARY:Midpoint Wednesday Evening Activities
DESCRIPTION:Join us each Wednesday evening for activities and Bible Study for all ages beginning with dinner at 4:45pm in the Fellowship Hall.
URL:https://shadescrest.org/event/midpoint-wednesday-evening-activities/2028-03-01/
LOCATION:Entire Church Campus\, 452 Park Avenue\, Hoover\, AL\, 35226
CATEGORIES:Church Event
ATTACH;FMTTYPE=image/jpeg:https://shadescrest.org/wp-content/uploads/2026/02/midpoint-new.jpg
END:VEVENT
BEGIN:VEVENT
DTSTART;TZID=UTC:20280308T164500
DTEND;TZID=UTC:20280308T200000
DTSTAMP:20260424T110115
CREATED:20240723T191342Z
LAST-MODIFIED:20260216T213352Z
UID:10000915-1836146700-1836158400@shadescrest.org
SUMMARY:Midpoint Wednesday Evening Activities
DESCRIPTION:Join us each Wednesday evening for activities and Bible Study for all ages beginning with dinner at 4:45pm in the Fellowship Hall.
URL:https://shadescrest.org/event/midpoint-wednesday-evening-activities/2028-03-08/
LOCATION:Entire Church Campus\, 452 Park Avenue\, Hoover\, AL\, 35226
CATEGORIES:Church Event
ATTACH;FMTTYPE=image/jpeg:https://shadescrest.org/wp-content/uploads/2026/02/midpoint-new.jpg
END:VEVENT
BEGIN:VEVENT
DTSTART;TZID=UTC:20280315T164500
DTEND;TZID=UTC:20280315T200000
DTSTAMP:20260424T110115
CREATED:20240723T191342Z
LAST-MODIFIED:20260216T213352Z
UID:10000916-1836751500-1836763200@shadescrest.org
SUMMARY:Midpoint Wednesday Evening Activities
DESCRIPTION:Join us each Wednesday evening for activities and Bible Study for all ages beginning with dinner at 4:45pm in the Fellowship Hall.
URL:https://shadescrest.org/event/midpoint-wednesday-evening-activities/2028-03-15/
LOCATION:Entire Church Campus\, 452 Park Avenue\, Hoover\, AL\, 35226
CATEGORIES:Church Event
ATTACH;FMTTYPE=image/jpeg:https://shadescrest.org/wp-content/uploads/2026/02/midpoint-new.jpg
END:VEVENT
BEGIN:VEVENT
DTSTART;TZID=UTC:20280322T164500
DTEND;TZID=UTC:20280322T200000
DTSTAMP:20260424T110115
CREATED:20240723T191342Z
LAST-MODIFIED:20260216T213352Z
UID:10000917-1837356300-1837368000@shadescrest.org
SUMMARY:Midpoint Wednesday Evening Activities
DESCRIPTION:Join us each Wednesday evening for activities and Bible Study for all ages beginning with dinner at 4:45pm in the Fellowship Hall.
URL:https://shadescrest.org/event/midpoint-wednesday-evening-activities/2028-03-22/
LOCATION:Entire Church Campus\, 452 Park Avenue\, Hoover\, AL\, 35226
CATEGORIES:Church Event
ATTACH;FMTTYPE=image/jpeg:https://shadescrest.org/wp-content/uploads/2026/02/midpoint-new.jpg
END:VEVENT
BEGIN:VEVENT
DTSTART;TZID=UTC:20280329T164500
DTEND;TZID=UTC:20280329T200000
DTSTAMP:20260424T110115
CREATED:20240723T191342Z
LAST-MODIFIED:20260216T213352Z
UID:10000918-1837961100-1837972800@shadescrest.org
SUMMARY:Midpoint Wednesday Evening Activities
DESCRIPTION:Join us each Wednesday evening for activities and Bible Study for all ages beginning with dinner at 4:45pm in the Fellowship Hall.
URL:https://shadescrest.org/event/midpoint-wednesday-evening-activities/2028-03-29/
LOCATION:Entire Church Campus\, 452 Park Avenue\, Hoover\, AL\, 35226
CATEGORIES:Church Event
ATTACH;FMTTYPE=image/jpeg:https://shadescrest.org/wp-content/uploads/2026/02/midpoint-new.jpg
END:VEVENT
BEGIN:VEVENT
DTSTART;TZID=UTC:20280405T164500
DTEND;TZID=UTC:20280405T200000
DTSTAMP:20260424T110115
CREATED:20240723T191342Z
LAST-MODIFIED:20260216T213352Z
UID:10000919-1838565900-1838577600@shadescrest.org
SUMMARY:Midpoint Wednesday Evening Activities
DESCRIPTION:Join us each Wednesday evening for activities and Bible Study for all ages beginning with dinner at 4:45pm in the Fellowship Hall.
URL:https://shadescrest.org/event/midpoint-wednesday-evening-activities/2028-04-05/
LOCATION:Entire Church Campus\, 452 Park Avenue\, Hoover\, AL\, 35226
CATEGORIES:Church Event
ATTACH;FMTTYPE=image/jpeg:https://shadescrest.org/wp-content/uploads/2026/02/midpoint-new.jpg
END:VEVENT
BEGIN:VEVENT
DTSTART;TZID=UTC:20280412T164500
DTEND;TZID=UTC:20280412T200000
DTSTAMP:20260424T110115
CREATED:20240723T191342Z
LAST-MODIFIED:20260216T213352Z
UID:10000920-1839170700-1839182400@shadescrest.org
SUMMARY:Midpoint Wednesday Evening Activities
DESCRIPTION:Join us each Wednesday evening for activities and Bible Study for all ages beginning with dinner at 4:45pm in the Fellowship Hall.
URL:https://shadescrest.org/event/midpoint-wednesday-evening-activities/2028-04-12/
LOCATION:Entire Church Campus\, 452 Park Avenue\, Hoover\, AL\, 35226
CATEGORIES:Church Event
ATTACH;FMTTYPE=image/jpeg:https://shadescrest.org/wp-content/uploads/2026/02/midpoint-new.jpg
END:VEVENT
BEGIN:VEVENT
DTSTART;TZID=UTC:20280419T164500
DTEND;TZID=UTC:20280419T200000
DTSTAMP:20260424T110115
CREATED:20240723T191342Z
LAST-MODIFIED:20260216T213352Z
UID:10000921-1839775500-1839787200@shadescrest.org
SUMMARY:Midpoint Wednesday Evening Activities
DESCRIPTION:Join us each Wednesday evening for activities and Bible Study for all ages beginning with dinner at 4:45pm in the Fellowship Hall.
URL:https://shadescrest.org/event/midpoint-wednesday-evening-activities/2028-04-19/
LOCATION:Entire Church Campus\, 452 Park Avenue\, Hoover\, AL\, 35226
CATEGORIES:Church Event
ATTACH;FMTTYPE=image/jpeg:https://shadescrest.org/wp-content/uploads/2026/02/midpoint-new.jpg
END:VEVENT
BEGIN:VEVENT
DTSTART;TZID=UTC:20280426T164500
DTEND;TZID=UTC:20280426T200000
DTSTAMP:20260424T110115
CREATED:20240723T191342Z
LAST-MODIFIED:20260216T213352Z
UID:10000922-1840380300-1840392000@shadescrest.org
SUMMARY:Midpoint Wednesday Evening Activities
DESCRIPTION:Join us each Wednesday evening for activities and Bible Study for all ages beginning with dinner at 4:45pm in the Fellowship Hall.
URL:https://shadescrest.org/event/midpoint-wednesday-evening-activities/2028-04-26/
LOCATION:Entire Church Campus\, 452 Park Avenue\, Hoover\, AL\, 35226
CATEGORIES:Church Event
ATTACH;FMTTYPE=image/jpeg:https://shadescrest.org/wp-content/uploads/2026/02/midpoint-new.jpg
END:VEVENT
BEGIN:VEVENT
DTSTART;TZID=UTC:20280503T164500
DTEND;TZID=UTC:20280503T200000
DTSTAMP:20260424T110115
CREATED:20240723T191342Z
LAST-MODIFIED:20260216T213352Z
UID:10000923-1840985100-1840996800@shadescrest.org
SUMMARY:Midpoint Wednesday Evening Activities
DESCRIPTION:Join us each Wednesday evening for activities and Bible Study for all ages beginning with dinner at 4:45pm in the Fellowship Hall.
URL:https://shadescrest.org/event/midpoint-wednesday-evening-activities/2028-05-03/
LOCATION:Entire Church Campus\, 452 Park Avenue\, Hoover\, AL\, 35226
CATEGORIES:Church Event
ATTACH;FMTTYPE=image/jpeg:https://shadescrest.org/wp-content/uploads/2026/02/midpoint-new.jpg
END:VEVENT
BEGIN:VEVENT
DTSTART;TZID=UTC:20280510T164500
DTEND;TZID=UTC:20280510T200000
DTSTAMP:20260424T110115
CREATED:20240723T191342Z
LAST-MODIFIED:20260216T213352Z
UID:10000924-1841589900-1841601600@shadescrest.org
SUMMARY:Midpoint Wednesday Evening Activities
DESCRIPTION:Join us each Wednesday evening for activities and Bible Study for all ages beginning with dinner at 4:45pm in the Fellowship Hall.
URL:https://shadescrest.org/event/midpoint-wednesday-evening-activities/2028-05-10/
LOCATION:Entire Church Campus\, 452 Park Avenue\, Hoover\, AL\, 35226
CATEGORIES:Church Event
ATTACH;FMTTYPE=image/jpeg:https://shadescrest.org/wp-content/uploads/2026/02/midpoint-new.jpg
END:VEVENT
BEGIN:VEVENT
DTSTART;TZID=UTC:20280517T164500
DTEND;TZID=UTC:20280517T200000
DTSTAMP:20260424T110115
CREATED:20240723T191342Z
LAST-MODIFIED:20260216T213352Z
UID:10000925-1842194700-1842206400@shadescrest.org
SUMMARY:Midpoint Wednesday Evening Activities
DESCRIPTION:Join us each Wednesday evening for activities and Bible Study for all ages beginning with dinner at 4:45pm in the Fellowship Hall.
URL:https://shadescrest.org/event/midpoint-wednesday-evening-activities/2028-05-17/
LOCATION:Entire Church Campus\, 452 Park Avenue\, Hoover\, AL\, 35226
CATEGORIES:Church Event
ATTACH;FMTTYPE=image/jpeg:https://shadescrest.org/wp-content/uploads/2026/02/midpoint-new.jpg
END:VEVENT
END:VCALENDAR