BEGIN:VCALENDAR
VERSION:2.0
PRODID:-//Shades Crest Baptist Church - ECPv6.15.20//NONSGML v1.0//EN
CALSCALE:GREGORIAN
METHOD:PUBLISH
X-ORIGINAL-URL:https://shadescrest.org
X-WR-CALDESC:Events for Shades Crest Baptist Church
REFRESH-INTERVAL;VALUE=DURATION:PT1H
X-Robots-Tag:noindex
X-PUBLISHED-TTL:PT1H
BEGIN:VTIMEZONE
TZID:UTC
BEGIN:STANDARD
TZOFFSETFROM:+0000
TZOFFSETTO:+0000
TZNAME:UTC
DTSTART:20240101T000000
END:STANDARD
END:VTIMEZONE
BEGIN:VEVENT
DTSTART;TZID=UTC:20250703T160000
DTEND;TZID=UTC:20250703T170000
DTSTAMP:20260425T194402
CREATED:20240730T174724Z
LAST-MODIFIED:20240730T174724Z
UID:10001396-1751558400-1751562000@shadescrest.org
SUMMARY:Fitness Workouts
DESCRIPTION:Fitness Workouts for all ages led by Abby Allen.
URL:https://shadescrest.org/event/fitness-workouts/2025-07-03/
LOCATION:Family Life Center\, 2028 Rockland Drive\, Hoover\, AL\, 35226\, United States
CATEGORIES:FLC Event
END:VEVENT
BEGIN:VEVENT
DTSTART;TZID=UTC:20250702T160000
DTEND;TZID=UTC:20250702T170000
DTSTAMP:20260425T194402
CREATED:20240730T174724Z
LAST-MODIFIED:20240730T174724Z
UID:10001395-1751472000-1751475600@shadescrest.org
SUMMARY:Fitness Workouts
DESCRIPTION:Fitness Workouts for all ages led by Abby Allen.
URL:https://shadescrest.org/event/fitness-workouts/2025-07-02/
LOCATION:Family Life Center\, 2028 Rockland Drive\, Hoover\, AL\, 35226\, United States
CATEGORIES:FLC Event
END:VEVENT
BEGIN:VEVENT
DTSTART;TZID=UTC:20250701T183000
DTEND;TZID=UTC:20250701T203000
DTSTAMP:20260425T194402
CREATED:20240613T172439Z
LAST-MODIFIED:20240613T172439Z
UID:10000111-1751394600-1751401800@shadescrest.org
SUMMARY:Wellness Bible Study
DESCRIPTION:
URL:https://shadescrest.org/event/wellness-bible-study/2025-07-01/
LOCATION:Family Life Center\, 2028 Rockland Drive\, Hoover\, AL\, 35226\, United States
CATEGORIES:FLC Event
ATTACH;FMTTYPE=image/jpeg:https://shadescrest.org/wp-content/uploads/2022/09/FLC-1.jpeg
END:VEVENT
BEGIN:VEVENT
DTSTART;TZID=UTC:20250630T160000
DTEND;TZID=UTC:20250630T170000
DTSTAMP:20260425T194402
CREATED:20240730T174724Z
LAST-MODIFIED:20240730T174724Z
UID:10001394-1751299200-1751302800@shadescrest.org
SUMMARY:Fitness Workouts
DESCRIPTION:Fitness Workouts for all ages led by Abby Allen.
URL:https://shadescrest.org/event/fitness-workouts/2025-06-30/
LOCATION:Family Life Center\, 2028 Rockland Drive\, Hoover\, AL\, 35226\, United States
CATEGORIES:FLC Event
END:VEVENT
BEGIN:VEVENT
DTSTART;TZID=UTC:20250630T090000
DTEND;TZID=UTC:20250630T120000
DTSTAMP:20260425T194402
CREATED:20240606T173300Z
LAST-MODIFIED:20260223T195015Z
UID:10000516-1751274000-1751284800@shadescrest.org
SUMMARY:Retired and Moving
DESCRIPTION:The senior adults gather every Monday at 9 AM in the FLC for games\, fellowship\, and crafts. On the 1st Monday of each month\, a lunch is served. Bring $5 to cover the cost.
URL:https://shadescrest.org/event/retired-and-moving-3/2025-06-30/
LOCATION:Family Life Center\, 2028 Rockland Drive\, Hoover\, AL\, 35226\, United States
CATEGORIES:FLC Event
ATTACH;FMTTYPE=image/jpeg:https://shadescrest.org/wp-content/uploads/2026/02/moving-2-1.jpg
END:VEVENT
BEGIN:VEVENT
DTSTART;TZID=UTC:20250626T160000
DTEND;TZID=UTC:20250626T170000
DTSTAMP:20260425T194402
CREATED:20240730T174724Z
LAST-MODIFIED:20240730T174724Z
UID:10001393-1750953600-1750957200@shadescrest.org
SUMMARY:Fitness Workouts
DESCRIPTION:Fitness Workouts for all ages led by Abby Allen.
URL:https://shadescrest.org/event/fitness-workouts/2025-06-26/
LOCATION:Family Life Center\, 2028 Rockland Drive\, Hoover\, AL\, 35226\, United States
CATEGORIES:FLC Event
END:VEVENT
BEGIN:VEVENT
DTSTART;TZID=UTC:20250625T160000
DTEND;TZID=UTC:20250625T170000
DTSTAMP:20260425T194402
CREATED:20240730T174724Z
LAST-MODIFIED:20240730T174724Z
UID:10001392-1750867200-1750870800@shadescrest.org
SUMMARY:Fitness Workouts
DESCRIPTION:Fitness Workouts for all ages led by Abby Allen.
URL:https://shadescrest.org/event/fitness-workouts/2025-06-25/
LOCATION:Family Life Center\, 2028 Rockland Drive\, Hoover\, AL\, 35226\, United States
CATEGORIES:FLC Event
END:VEVENT
BEGIN:VEVENT
DTSTART;TZID=UTC:20250624T183000
DTEND;TZID=UTC:20250624T203000
DTSTAMP:20260425T194402
CREATED:20240613T172439Z
LAST-MODIFIED:20240613T172439Z
UID:10000110-1750789800-1750797000@shadescrest.org
SUMMARY:Wellness Bible Study
DESCRIPTION:
URL:https://shadescrest.org/event/wellness-bible-study/2025-06-24/
LOCATION:Family Life Center\, 2028 Rockland Drive\, Hoover\, AL\, 35226\, United States
CATEGORIES:FLC Event
ATTACH;FMTTYPE=image/jpeg:https://shadescrest.org/wp-content/uploads/2022/09/FLC-1.jpeg
END:VEVENT
BEGIN:VEVENT
DTSTART;TZID=UTC:20250623T160000
DTEND;TZID=UTC:20250623T170000
DTSTAMP:20260425T194402
CREATED:20240730T174724Z
LAST-MODIFIED:20240730T174724Z
UID:10001391-1750694400-1750698000@shadescrest.org
SUMMARY:Fitness Workouts
DESCRIPTION:Fitness Workouts for all ages led by Abby Allen.
URL:https://shadescrest.org/event/fitness-workouts/2025-06-23/
LOCATION:Family Life Center\, 2028 Rockland Drive\, Hoover\, AL\, 35226\, United States
CATEGORIES:FLC Event
END:VEVENT
BEGIN:VEVENT
DTSTART;TZID=UTC:20250623T090000
DTEND;TZID=UTC:20250623T120000
DTSTAMP:20260425T194402
CREATED:20240606T173300Z
LAST-MODIFIED:20260223T195015Z
UID:10000515-1750669200-1750680000@shadescrest.org
SUMMARY:Retired and Moving
DESCRIPTION:The senior adults gather every Monday at 9 AM in the FLC for games\, fellowship\, and crafts. On the 1st Monday of each month\, a lunch is served. Bring $5 to cover the cost.
URL:https://shadescrest.org/event/retired-and-moving-3/2025-06-23/
LOCATION:Family Life Center\, 2028 Rockland Drive\, Hoover\, AL\, 35226\, United States
CATEGORIES:FLC Event
ATTACH;FMTTYPE=image/jpeg:https://shadescrest.org/wp-content/uploads/2026/02/moving-2-1.jpg
END:VEVENT
BEGIN:VEVENT
DTSTART;TZID=UTC:20250619T160000
DTEND;TZID=UTC:20250619T170000
DTSTAMP:20260425T194402
CREATED:20240730T174724Z
LAST-MODIFIED:20240730T174724Z
UID:10001390-1750348800-1750352400@shadescrest.org
SUMMARY:Fitness Workouts
DESCRIPTION:Fitness Workouts for all ages led by Abby Allen.
URL:https://shadescrest.org/event/fitness-workouts/2025-06-19/
LOCATION:Family Life Center\, 2028 Rockland Drive\, Hoover\, AL\, 35226\, United States
CATEGORIES:FLC Event
END:VEVENT
BEGIN:VEVENT
DTSTART;TZID=UTC:20250618T160000
DTEND;TZID=UTC:20250618T170000
DTSTAMP:20260425T194402
CREATED:20240730T174724Z
LAST-MODIFIED:20240730T174724Z
UID:10001389-1750262400-1750266000@shadescrest.org
SUMMARY:Fitness Workouts
DESCRIPTION:Fitness Workouts for all ages led by Abby Allen.
URL:https://shadescrest.org/event/fitness-workouts/2025-06-18/
LOCATION:Family Life Center\, 2028 Rockland Drive\, Hoover\, AL\, 35226\, United States
CATEGORIES:FLC Event
END:VEVENT
BEGIN:VEVENT
DTSTART;TZID=UTC:20250617T183000
DTEND;TZID=UTC:20250617T203000
DTSTAMP:20260425T194402
CREATED:20240613T172439Z
LAST-MODIFIED:20240613T172439Z
UID:10000109-1750185000-1750192200@shadescrest.org
SUMMARY:Wellness Bible Study
DESCRIPTION:
URL:https://shadescrest.org/event/wellness-bible-study/2025-06-17/
LOCATION:Family Life Center\, 2028 Rockland Drive\, Hoover\, AL\, 35226\, United States
CATEGORIES:FLC Event
ATTACH;FMTTYPE=image/jpeg:https://shadescrest.org/wp-content/uploads/2022/09/FLC-1.jpeg
END:VEVENT
BEGIN:VEVENT
DTSTART;TZID=UTC:20250616T160000
DTEND;TZID=UTC:20250616T170000
DTSTAMP:20260425T194402
CREATED:20240730T174724Z
LAST-MODIFIED:20240730T174724Z
UID:10001388-1750089600-1750093200@shadescrest.org
SUMMARY:Fitness Workouts
DESCRIPTION:Fitness Workouts for all ages led by Abby Allen.
URL:https://shadescrest.org/event/fitness-workouts/2025-06-16/
LOCATION:Family Life Center\, 2028 Rockland Drive\, Hoover\, AL\, 35226\, United States
CATEGORIES:FLC Event
END:VEVENT
BEGIN:VEVENT
DTSTART;TZID=UTC:20250616T090000
DTEND;TZID=UTC:20250616T120000
DTSTAMP:20260425T194402
CREATED:20240606T173300Z
LAST-MODIFIED:20260223T195015Z
UID:10000514-1750064400-1750075200@shadescrest.org
SUMMARY:Retired and Moving
DESCRIPTION:The senior adults gather every Monday at 9 AM in the FLC for games\, fellowship\, and crafts. On the 1st Monday of each month\, a lunch is served. Bring $5 to cover the cost.
URL:https://shadescrest.org/event/retired-and-moving-3/2025-06-16/
LOCATION:Family Life Center\, 2028 Rockland Drive\, Hoover\, AL\, 35226\, United States
CATEGORIES:FLC Event
ATTACH;FMTTYPE=image/jpeg:https://shadescrest.org/wp-content/uploads/2026/02/moving-2-1.jpg
END:VEVENT
BEGIN:VEVENT
DTSTART;TZID=UTC:20250612T160000
DTEND;TZID=UTC:20250612T170000
DTSTAMP:20260425T194402
CREATED:20240730T174724Z
LAST-MODIFIED:20240730T174724Z
UID:10001387-1749744000-1749747600@shadescrest.org
SUMMARY:Fitness Workouts
DESCRIPTION:Fitness Workouts for all ages led by Abby Allen.
URL:https://shadescrest.org/event/fitness-workouts/2025-06-12/
LOCATION:Family Life Center\, 2028 Rockland Drive\, Hoover\, AL\, 35226\, United States
CATEGORIES:FLC Event
END:VEVENT
BEGIN:VEVENT
DTSTART;TZID=UTC:20250611T160000
DTEND;TZID=UTC:20250611T170000
DTSTAMP:20260425T194402
CREATED:20240730T174724Z
LAST-MODIFIED:20240730T174724Z
UID:10001386-1749657600-1749661200@shadescrest.org
SUMMARY:Fitness Workouts
DESCRIPTION:Fitness Workouts for all ages led by Abby Allen.
URL:https://shadescrest.org/event/fitness-workouts/2025-06-11/
LOCATION:Family Life Center\, 2028 Rockland Drive\, Hoover\, AL\, 35226\, United States
CATEGORIES:FLC Event
END:VEVENT
BEGIN:VEVENT
DTSTART;TZID=UTC:20250610T183000
DTEND;TZID=UTC:20250610T203000
DTSTAMP:20260425T194402
CREATED:20240613T172439Z
LAST-MODIFIED:20240613T172439Z
UID:10000108-1749580200-1749587400@shadescrest.org
SUMMARY:Wellness Bible Study
DESCRIPTION:
URL:https://shadescrest.org/event/wellness-bible-study/2025-06-10/
LOCATION:Family Life Center\, 2028 Rockland Drive\, Hoover\, AL\, 35226\, United States
CATEGORIES:FLC Event
ATTACH;FMTTYPE=image/jpeg:https://shadescrest.org/wp-content/uploads/2022/09/FLC-1.jpeg
END:VEVENT
BEGIN:VEVENT
DTSTART;TZID=UTC:20250609T160000
DTEND;TZID=UTC:20250609T170000
DTSTAMP:20260425T194402
CREATED:20240730T174724Z
LAST-MODIFIED:20240730T174724Z
UID:10001385-1749484800-1749488400@shadescrest.org
SUMMARY:Fitness Workouts
DESCRIPTION:Fitness Workouts for all ages led by Abby Allen.
URL:https://shadescrest.org/event/fitness-workouts/2025-06-09/
LOCATION:Family Life Center\, 2028 Rockland Drive\, Hoover\, AL\, 35226\, United States
CATEGORIES:FLC Event
END:VEVENT
BEGIN:VEVENT
DTSTART;TZID=UTC:20250609T090000
DTEND;TZID=UTC:20250609T120000
DTSTAMP:20260425T194402
CREATED:20240606T173300Z
LAST-MODIFIED:20260223T195015Z
UID:10000513-1749459600-1749470400@shadescrest.org
SUMMARY:Retired and Moving
DESCRIPTION:The senior adults gather every Monday at 9 AM in the FLC for games\, fellowship\, and crafts. On the 1st Monday of each month\, a lunch is served. Bring $5 to cover the cost.
URL:https://shadescrest.org/event/retired-and-moving-3/2025-06-09/
LOCATION:Family Life Center\, 2028 Rockland Drive\, Hoover\, AL\, 35226\, United States
CATEGORIES:FLC Event
ATTACH;FMTTYPE=image/jpeg:https://shadescrest.org/wp-content/uploads/2026/02/moving-2-1.jpg
END:VEVENT
BEGIN:VEVENT
DTSTART;TZID=UTC:20250605T160000
DTEND;TZID=UTC:20250605T170000
DTSTAMP:20260425T194402
CREATED:20240730T174724Z
LAST-MODIFIED:20240730T174724Z
UID:10001384-1749139200-1749142800@shadescrest.org
SUMMARY:Fitness Workouts
DESCRIPTION:Fitness Workouts for all ages led by Abby Allen.
URL:https://shadescrest.org/event/fitness-workouts/2025-06-05/
LOCATION:Family Life Center\, 2028 Rockland Drive\, Hoover\, AL\, 35226\, United States
CATEGORIES:FLC Event
END:VEVENT
BEGIN:VEVENT
DTSTART;TZID=UTC:20250604T160000
DTEND;TZID=UTC:20250604T170000
DTSTAMP:20260425T194402
CREATED:20240730T174724Z
LAST-MODIFIED:20240730T174724Z
UID:10001383-1749052800-1749056400@shadescrest.org
SUMMARY:Fitness Workouts
DESCRIPTION:Fitness Workouts for all ages led by Abby Allen.
URL:https://shadescrest.org/event/fitness-workouts/2025-06-04/
LOCATION:Family Life Center\, 2028 Rockland Drive\, Hoover\, AL\, 35226\, United States
CATEGORIES:FLC Event
END:VEVENT
BEGIN:VEVENT
DTSTART;TZID=UTC:20250603T183000
DTEND;TZID=UTC:20250603T203000
DTSTAMP:20260425T194402
CREATED:20240613T172439Z
LAST-MODIFIED:20240613T172439Z
UID:10000107-1748975400-1748982600@shadescrest.org
SUMMARY:Wellness Bible Study
DESCRIPTION:
URL:https://shadescrest.org/event/wellness-bible-study/2025-06-03/
LOCATION:Family Life Center\, 2028 Rockland Drive\, Hoover\, AL\, 35226\, United States
CATEGORIES:FLC Event
ATTACH;FMTTYPE=image/jpeg:https://shadescrest.org/wp-content/uploads/2022/09/FLC-1.jpeg
END:VEVENT
BEGIN:VEVENT
DTSTART;TZID=UTC:20250602T160000
DTEND;TZID=UTC:20250602T170000
DTSTAMP:20260425T194402
CREATED:20240730T174724Z
LAST-MODIFIED:20240730T174724Z
UID:10001382-1748880000-1748883600@shadescrest.org
SUMMARY:Fitness Workouts
DESCRIPTION:Fitness Workouts for all ages led by Abby Allen.
URL:https://shadescrest.org/event/fitness-workouts/2025-06-02/
LOCATION:Family Life Center\, 2028 Rockland Drive\, Hoover\, AL\, 35226\, United States
CATEGORIES:FLC Event
END:VEVENT
BEGIN:VEVENT
DTSTART;TZID=UTC:20250602T090000
DTEND;TZID=UTC:20250602T120000
DTSTAMP:20260425T194402
CREATED:20240606T173300Z
LAST-MODIFIED:20260223T195015Z
UID:10000512-1748854800-1748865600@shadescrest.org
SUMMARY:Retired and Moving
DESCRIPTION:The senior adults gather every Monday at 9 AM in the FLC for games\, fellowship\, and crafts. On the 1st Monday of each month\, a lunch is served. Bring $5 to cover the cost.
URL:https://shadescrest.org/event/retired-and-moving-3/2025-06-02/
LOCATION:Family Life Center\, 2028 Rockland Drive\, Hoover\, AL\, 35226\, United States
CATEGORIES:FLC Event
ATTACH;FMTTYPE=image/jpeg:https://shadescrest.org/wp-content/uploads/2026/02/moving-2-1.jpg
END:VEVENT
BEGIN:VEVENT
DTSTART;TZID=UTC:20250529T160000
DTEND;TZID=UTC:20250529T170000
DTSTAMP:20260425T194402
CREATED:20240730T174724Z
LAST-MODIFIED:20240730T174724Z
UID:10001381-1748534400-1748538000@shadescrest.org
SUMMARY:Fitness Workouts
DESCRIPTION:Fitness Workouts for all ages led by Abby Allen.
URL:https://shadescrest.org/event/fitness-workouts/2025-05-29/
LOCATION:Family Life Center\, 2028 Rockland Drive\, Hoover\, AL\, 35226\, United States
CATEGORIES:FLC Event
END:VEVENT
BEGIN:VEVENT
DTSTART;TZID=UTC:20250528T160000
DTEND;TZID=UTC:20250528T170000
DTSTAMP:20260425T194402
CREATED:20240730T174724Z
LAST-MODIFIED:20240730T174724Z
UID:10001380-1748448000-1748451600@shadescrest.org
SUMMARY:Fitness Workouts
DESCRIPTION:Fitness Workouts for all ages led by Abby Allen.
URL:https://shadescrest.org/event/fitness-workouts/2025-05-28/
LOCATION:Family Life Center\, 2028 Rockland Drive\, Hoover\, AL\, 35226\, United States
CATEGORIES:FLC Event
END:VEVENT
BEGIN:VEVENT
DTSTART;TZID=UTC:20250527T183000
DTEND;TZID=UTC:20250527T203000
DTSTAMP:20260425T194402
CREATED:20240613T172439Z
LAST-MODIFIED:20240613T172439Z
UID:10000106-1748370600-1748377800@shadescrest.org
SUMMARY:Wellness Bible Study
DESCRIPTION:
URL:https://shadescrest.org/event/wellness-bible-study/2025-05-27/
LOCATION:Family Life Center\, 2028 Rockland Drive\, Hoover\, AL\, 35226\, United States
CATEGORIES:FLC Event
ATTACH;FMTTYPE=image/jpeg:https://shadescrest.org/wp-content/uploads/2022/09/FLC-1.jpeg
END:VEVENT
BEGIN:VEVENT
DTSTART;TZID=UTC:20250526T160000
DTEND;TZID=UTC:20250526T170000
DTSTAMP:20260425T194402
CREATED:20240730T174724Z
LAST-MODIFIED:20240730T174724Z
UID:10001379-1748275200-1748278800@shadescrest.org
SUMMARY:Fitness Workouts
DESCRIPTION:Fitness Workouts for all ages led by Abby Allen.
URL:https://shadescrest.org/event/fitness-workouts/2025-05-26/
LOCATION:Family Life Center\, 2028 Rockland Drive\, Hoover\, AL\, 35226\, United States
CATEGORIES:FLC Event
END:VEVENT
BEGIN:VEVENT
DTSTART;TZID=UTC:20250526T090000
DTEND;TZID=UTC:20250526T120000
DTSTAMP:20260425T194402
CREATED:20240606T173300Z
LAST-MODIFIED:20260223T195015Z
UID:10000511-1748250000-1748260800@shadescrest.org
SUMMARY:Retired and Moving
DESCRIPTION:The senior adults gather every Monday at 9 AM in the FLC for games\, fellowship\, and crafts. On the 1st Monday of each month\, a lunch is served. Bring $5 to cover the cost.
URL:https://shadescrest.org/event/retired-and-moving-3/2025-05-26/
LOCATION:Family Life Center\, 2028 Rockland Drive\, Hoover\, AL\, 35226\, United States
CATEGORIES:FLC Event
ATTACH;FMTTYPE=image/jpeg:https://shadescrest.org/wp-content/uploads/2026/02/moving-2-1.jpg
END:VEVENT
END:VCALENDAR