BEGIN:VCALENDAR
VERSION:2.0
PRODID:-//Shades Crest Baptist Church - ECPv6.15.20//NONSGML v1.0//EN
CALSCALE:GREGORIAN
METHOD:PUBLISH
X-ORIGINAL-URL:https://shadescrest.org
X-WR-CALDESC:Events for Shades Crest Baptist Church
REFRESH-INTERVAL;VALUE=DURATION:PT1H
X-Robots-Tag:noindex
X-PUBLISHED-TTL:PT1H
BEGIN:VTIMEZONE
TZID:UTC
BEGIN:STANDARD
TZOFFSETFROM:+0000
TZOFFSETTO:+0000
TZNAME:UTC
DTSTART:20250101T000000
END:STANDARD
END:VTIMEZONE
BEGIN:VEVENT
DTSTART;TZID=UTC:20260914T090000
DTEND;TZID=UTC:20260914T120000
DTSTAMP:20260425T110615
CREATED:20240606T173300Z
LAST-MODIFIED:20260223T195015Z
UID:10000579-1789376400-1789387200@shadescrest.org
SUMMARY:Retired and Moving
DESCRIPTION:The senior adults gather every Monday at 9 AM in the FLC for games\, fellowship\, and crafts. On the 1st Monday of each month\, a lunch is served. Bring $5 to cover the cost.
URL:https://shadescrest.org/event/retired-and-moving-3/2026-09-14/
LOCATION:Family Life Center\, 2028 Rockland Drive\, Hoover\, AL\, 35226\, United States
CATEGORIES:FLC Event
ATTACH;FMTTYPE=image/jpeg:https://shadescrest.org/wp-content/uploads/2026/02/moving-2-1.jpg
END:VEVENT
BEGIN:VEVENT
DTSTART;TZID=UTC:20260915T073000
DTEND;TZID=UTC:20260915T083000
DTSTAMP:20260425T110615
CREATED:20260218T005012Z
LAST-MODIFIED:20260218T005012Z
UID:10004935-1789457400-1789461000@shadescrest.org
SUMMARY:Men's Prayer Team
DESCRIPTION:
URL:https://shadescrest.org/event/mens-prayer-team/2026-09-15/
LOCATION:Family Life Center\, 2028 Rockland Drive\, Hoover\, AL\, 35226\, United States
CATEGORIES:Church Event,FLC Event
ATTACH;FMTTYPE=image/jpeg:https://shadescrest.org/wp-content/uploads/2026/02/mens-prayer-team.jpg
END:VEVENT
BEGIN:VEVENT
DTSTART;TZID=UTC:20260915T183000
DTEND;TZID=UTC:20260915T203000
DTSTAMP:20260425T110615
CREATED:20260224T190743Z
LAST-MODIFIED:20260224T225850Z
UID:10005070-1789497000-1789504200@shadescrest.org
SUMMARY:Ladies Fitness Bible Study
DESCRIPTION:
URL:https://shadescrest.org/event/ladies-fitness-bible-study/2026-09-15/
LOCATION:Family Life Center\, 2028 Rockland Drive\, Hoover\, AL\, 35226\, United States
CATEGORIES:FLC Event
ATTACH;FMTTYPE=image/jpeg:https://shadescrest.org/wp-content/uploads/2026/02/ladies-fitbess-bible-study2.jpg
END:VEVENT
BEGIN:VEVENT
DTSTART;TZID=UTC:20260917T130000
DTEND;TZID=UTC:20260917T140000
DTSTAMP:20260425T110615
CREATED:20260221T232005Z
LAST-MODIFIED:20260221T232554Z
UID:10005001-1789650000-1789653600@shadescrest.org
SUMMARY:Women's Prayer Team
DESCRIPTION:
URL:https://shadescrest.org/event/womens-prayer-team/2026-09-17/
LOCATION:Family Life Center\, 2028 Rockland Drive\, Hoover\, AL\, 35226\, United States
CATEGORIES:Church Event,FLC Event
ATTACH;FMTTYPE=image/jpeg:https://shadescrest.org/wp-content/uploads/2026/02/womens-prayer-team.jpg
END:VEVENT
BEGIN:VEVENT
DTSTART;TZID=UTC:20260921T090000
DTEND;TZID=UTC:20260921T120000
DTSTAMP:20260425T110615
CREATED:20240606T173300Z
LAST-MODIFIED:20260223T195015Z
UID:10000580-1789981200-1789992000@shadescrest.org
SUMMARY:Retired and Moving
DESCRIPTION:The senior adults gather every Monday at 9 AM in the FLC for games\, fellowship\, and crafts. On the 1st Monday of each month\, a lunch is served. Bring $5 to cover the cost.
URL:https://shadescrest.org/event/retired-and-moving-3/2026-09-21/
LOCATION:Family Life Center\, 2028 Rockland Drive\, Hoover\, AL\, 35226\, United States
CATEGORIES:FLC Event
ATTACH;FMTTYPE=image/jpeg:https://shadescrest.org/wp-content/uploads/2026/02/moving-2-1.jpg
END:VEVENT
BEGIN:VEVENT
DTSTART;TZID=UTC:20260922T073000
DTEND;TZID=UTC:20260922T083000
DTSTAMP:20260425T110615
CREATED:20260218T005012Z
LAST-MODIFIED:20260218T005012Z
UID:10004936-1790062200-1790065800@shadescrest.org
SUMMARY:Men's Prayer Team
DESCRIPTION:
URL:https://shadescrest.org/event/mens-prayer-team/2026-09-22/
LOCATION:Family Life Center\, 2028 Rockland Drive\, Hoover\, AL\, 35226\, United States
CATEGORIES:Church Event,FLC Event
ATTACH;FMTTYPE=image/jpeg:https://shadescrest.org/wp-content/uploads/2026/02/mens-prayer-team.jpg
END:VEVENT
BEGIN:VEVENT
DTSTART;TZID=UTC:20260922T183000
DTEND;TZID=UTC:20260922T203000
DTSTAMP:20260425T110615
CREATED:20260224T190743Z
LAST-MODIFIED:20260224T225850Z
UID:10005071-1790101800-1790109000@shadescrest.org
SUMMARY:Ladies Fitness Bible Study
DESCRIPTION:
URL:https://shadescrest.org/event/ladies-fitness-bible-study/2026-09-22/
LOCATION:Family Life Center\, 2028 Rockland Drive\, Hoover\, AL\, 35226\, United States
CATEGORIES:FLC Event
ATTACH;FMTTYPE=image/jpeg:https://shadescrest.org/wp-content/uploads/2026/02/ladies-fitbess-bible-study2.jpg
END:VEVENT
BEGIN:VEVENT
DTSTART;TZID=UTC:20260924T130000
DTEND;TZID=UTC:20260924T140000
DTSTAMP:20260425T110615
CREATED:20260221T232005Z
LAST-MODIFIED:20260221T232554Z
UID:10005002-1790254800-1790258400@shadescrest.org
SUMMARY:Women's Prayer Team
DESCRIPTION:
URL:https://shadescrest.org/event/womens-prayer-team/2026-09-24/
LOCATION:Family Life Center\, 2028 Rockland Drive\, Hoover\, AL\, 35226\, United States
CATEGORIES:Church Event,FLC Event
ATTACH;FMTTYPE=image/jpeg:https://shadescrest.org/wp-content/uploads/2026/02/womens-prayer-team.jpg
END:VEVENT
BEGIN:VEVENT
DTSTART;TZID=UTC:20260928T090000
DTEND;TZID=UTC:20260928T120000
DTSTAMP:20260425T110615
CREATED:20240606T173300Z
LAST-MODIFIED:20260223T195015Z
UID:10000581-1790586000-1790596800@shadescrest.org
SUMMARY:Retired and Moving
DESCRIPTION:The senior adults gather every Monday at 9 AM in the FLC for games\, fellowship\, and crafts. On the 1st Monday of each month\, a lunch is served. Bring $5 to cover the cost.
URL:https://shadescrest.org/event/retired-and-moving-3/2026-09-28/
LOCATION:Family Life Center\, 2028 Rockland Drive\, Hoover\, AL\, 35226\, United States
CATEGORIES:FLC Event
ATTACH;FMTTYPE=image/jpeg:https://shadescrest.org/wp-content/uploads/2026/02/moving-2-1.jpg
END:VEVENT
BEGIN:VEVENT
DTSTART;TZID=UTC:20260929T073000
DTEND;TZID=UTC:20260929T083000
DTSTAMP:20260425T110615
CREATED:20260218T005012Z
LAST-MODIFIED:20260218T005012Z
UID:10004937-1790667000-1790670600@shadescrest.org
SUMMARY:Men's Prayer Team
DESCRIPTION:
URL:https://shadescrest.org/event/mens-prayer-team/2026-09-29/
LOCATION:Family Life Center\, 2028 Rockland Drive\, Hoover\, AL\, 35226\, United States
CATEGORIES:Church Event,FLC Event
ATTACH;FMTTYPE=image/jpeg:https://shadescrest.org/wp-content/uploads/2026/02/mens-prayer-team.jpg
END:VEVENT
BEGIN:VEVENT
DTSTART;TZID=UTC:20260929T183000
DTEND;TZID=UTC:20260929T203000
DTSTAMP:20260425T110615
CREATED:20260224T190743Z
LAST-MODIFIED:20260224T225850Z
UID:10005072-1790706600-1790713800@shadescrest.org
SUMMARY:Ladies Fitness Bible Study
DESCRIPTION:
URL:https://shadescrest.org/event/ladies-fitness-bible-study/2026-09-29/
LOCATION:Family Life Center\, 2028 Rockland Drive\, Hoover\, AL\, 35226\, United States
CATEGORIES:FLC Event
ATTACH;FMTTYPE=image/jpeg:https://shadescrest.org/wp-content/uploads/2026/02/ladies-fitbess-bible-study2.jpg
END:VEVENT
BEGIN:VEVENT
DTSTART;TZID=UTC:20261001T130000
DTEND;TZID=UTC:20261001T140000
DTSTAMP:20260425T110615
CREATED:20260221T232005Z
LAST-MODIFIED:20260221T232554Z
UID:10005003-1790859600-1790863200@shadescrest.org
SUMMARY:Women's Prayer Team
DESCRIPTION:
URL:https://shadescrest.org/event/womens-prayer-team/2026-10-01/
LOCATION:Family Life Center\, 2028 Rockland Drive\, Hoover\, AL\, 35226\, United States
CATEGORIES:Church Event,FLC Event
ATTACH;FMTTYPE=image/jpeg:https://shadescrest.org/wp-content/uploads/2026/02/womens-prayer-team.jpg
END:VEVENT
BEGIN:VEVENT
DTSTART;TZID=UTC:20261005T090000
DTEND;TZID=UTC:20261005T120000
DTSTAMP:20260425T110615
CREATED:20240606T173300Z
LAST-MODIFIED:20260223T195015Z
UID:10000582-1791190800-1791201600@shadescrest.org
SUMMARY:Retired and Moving
DESCRIPTION:The senior adults gather every Monday at 9 AM in the FLC for games\, fellowship\, and crafts. On the 1st Monday of each month\, a lunch is served. Bring $5 to cover the cost.
URL:https://shadescrest.org/event/retired-and-moving-3/2026-10-05/
LOCATION:Family Life Center\, 2028 Rockland Drive\, Hoover\, AL\, 35226\, United States
CATEGORIES:FLC Event
ATTACH;FMTTYPE=image/jpeg:https://shadescrest.org/wp-content/uploads/2026/02/moving-2-1.jpg
END:VEVENT
BEGIN:VEVENT
DTSTART;TZID=UTC:20261006T073000
DTEND;TZID=UTC:20261006T083000
DTSTAMP:20260425T110615
CREATED:20260218T005012Z
LAST-MODIFIED:20260218T005012Z
UID:10004938-1791271800-1791275400@shadescrest.org
SUMMARY:Men's Prayer Team
DESCRIPTION:
URL:https://shadescrest.org/event/mens-prayer-team/2026-10-06/
LOCATION:Family Life Center\, 2028 Rockland Drive\, Hoover\, AL\, 35226\, United States
CATEGORIES:Church Event,FLC Event
ATTACH;FMTTYPE=image/jpeg:https://shadescrest.org/wp-content/uploads/2026/02/mens-prayer-team.jpg
END:VEVENT
BEGIN:VEVENT
DTSTART;TZID=UTC:20261006T183000
DTEND;TZID=UTC:20261006T203000
DTSTAMP:20260425T110615
CREATED:20260224T190743Z
LAST-MODIFIED:20260224T225850Z
UID:10005073-1791311400-1791318600@shadescrest.org
SUMMARY:Ladies Fitness Bible Study
DESCRIPTION:
URL:https://shadescrest.org/event/ladies-fitness-bible-study/2026-10-06/
LOCATION:Family Life Center\, 2028 Rockland Drive\, Hoover\, AL\, 35226\, United States
CATEGORIES:FLC Event
ATTACH;FMTTYPE=image/jpeg:https://shadescrest.org/wp-content/uploads/2026/02/ladies-fitbess-bible-study2.jpg
END:VEVENT
BEGIN:VEVENT
DTSTART;TZID=UTC:20261008T130000
DTEND;TZID=UTC:20261008T140000
DTSTAMP:20260425T110615
CREATED:20260221T232005Z
LAST-MODIFIED:20260221T232554Z
UID:10005004-1791464400-1791468000@shadescrest.org
SUMMARY:Women's Prayer Team
DESCRIPTION:
URL:https://shadescrest.org/event/womens-prayer-team/2026-10-08/
LOCATION:Family Life Center\, 2028 Rockland Drive\, Hoover\, AL\, 35226\, United States
CATEGORIES:Church Event,FLC Event
ATTACH;FMTTYPE=image/jpeg:https://shadescrest.org/wp-content/uploads/2026/02/womens-prayer-team.jpg
END:VEVENT
BEGIN:VEVENT
DTSTART;TZID=UTC:20261012T090000
DTEND;TZID=UTC:20261012T120000
DTSTAMP:20260425T110615
CREATED:20240606T173300Z
LAST-MODIFIED:20260223T195015Z
UID:10000583-1791795600-1791806400@shadescrest.org
SUMMARY:Retired and Moving
DESCRIPTION:The senior adults gather every Monday at 9 AM in the FLC for games\, fellowship\, and crafts. On the 1st Monday of each month\, a lunch is served. Bring $5 to cover the cost.
URL:https://shadescrest.org/event/retired-and-moving-3/2026-10-12/
LOCATION:Family Life Center\, 2028 Rockland Drive\, Hoover\, AL\, 35226\, United States
CATEGORIES:FLC Event
ATTACH;FMTTYPE=image/jpeg:https://shadescrest.org/wp-content/uploads/2026/02/moving-2-1.jpg
END:VEVENT
BEGIN:VEVENT
DTSTART;TZID=UTC:20261013T073000
DTEND;TZID=UTC:20261013T083000
DTSTAMP:20260425T110615
CREATED:20260218T005012Z
LAST-MODIFIED:20260218T005012Z
UID:10004939-1791876600-1791880200@shadescrest.org
SUMMARY:Men's Prayer Team
DESCRIPTION:
URL:https://shadescrest.org/event/mens-prayer-team/2026-10-13/
LOCATION:Family Life Center\, 2028 Rockland Drive\, Hoover\, AL\, 35226\, United States
CATEGORIES:Church Event,FLC Event
ATTACH;FMTTYPE=image/jpeg:https://shadescrest.org/wp-content/uploads/2026/02/mens-prayer-team.jpg
END:VEVENT
BEGIN:VEVENT
DTSTART;TZID=UTC:20261013T183000
DTEND;TZID=UTC:20261013T203000
DTSTAMP:20260425T110615
CREATED:20260224T190743Z
LAST-MODIFIED:20260224T225850Z
UID:10005074-1791916200-1791923400@shadescrest.org
SUMMARY:Ladies Fitness Bible Study
DESCRIPTION:
URL:https://shadescrest.org/event/ladies-fitness-bible-study/2026-10-13/
LOCATION:Family Life Center\, 2028 Rockland Drive\, Hoover\, AL\, 35226\, United States
CATEGORIES:FLC Event
ATTACH;FMTTYPE=image/jpeg:https://shadescrest.org/wp-content/uploads/2026/02/ladies-fitbess-bible-study2.jpg
END:VEVENT
BEGIN:VEVENT
DTSTART;TZID=UTC:20261015T130000
DTEND;TZID=UTC:20261015T140000
DTSTAMP:20260425T110615
CREATED:20260221T232005Z
LAST-MODIFIED:20260221T232554Z
UID:10005005-1792069200-1792072800@shadescrest.org
SUMMARY:Women's Prayer Team
DESCRIPTION:
URL:https://shadescrest.org/event/womens-prayer-team/2026-10-15/
LOCATION:Family Life Center\, 2028 Rockland Drive\, Hoover\, AL\, 35226\, United States
CATEGORIES:Church Event,FLC Event
ATTACH;FMTTYPE=image/jpeg:https://shadescrest.org/wp-content/uploads/2026/02/womens-prayer-team.jpg
END:VEVENT
BEGIN:VEVENT
DTSTART;TZID=UTC:20261019T090000
DTEND;TZID=UTC:20261019T120000
DTSTAMP:20260425T110615
CREATED:20240606T173300Z
LAST-MODIFIED:20260223T195015Z
UID:10000584-1792400400-1792411200@shadescrest.org
SUMMARY:Retired and Moving
DESCRIPTION:The senior adults gather every Monday at 9 AM in the FLC for games\, fellowship\, and crafts. On the 1st Monday of each month\, a lunch is served. Bring $5 to cover the cost.
URL:https://shadescrest.org/event/retired-and-moving-3/2026-10-19/
LOCATION:Family Life Center\, 2028 Rockland Drive\, Hoover\, AL\, 35226\, United States
CATEGORIES:FLC Event
ATTACH;FMTTYPE=image/jpeg:https://shadescrest.org/wp-content/uploads/2026/02/moving-2-1.jpg
END:VEVENT
BEGIN:VEVENT
DTSTART;TZID=UTC:20261020T073000
DTEND;TZID=UTC:20261020T083000
DTSTAMP:20260425T110615
CREATED:20260218T005012Z
LAST-MODIFIED:20260218T005012Z
UID:10004940-1792481400-1792485000@shadescrest.org
SUMMARY:Men's Prayer Team
DESCRIPTION:
URL:https://shadescrest.org/event/mens-prayer-team/2026-10-20/
LOCATION:Family Life Center\, 2028 Rockland Drive\, Hoover\, AL\, 35226\, United States
CATEGORIES:Church Event,FLC Event
ATTACH;FMTTYPE=image/jpeg:https://shadescrest.org/wp-content/uploads/2026/02/mens-prayer-team.jpg
END:VEVENT
BEGIN:VEVENT
DTSTART;TZID=UTC:20261020T183000
DTEND;TZID=UTC:20261020T203000
DTSTAMP:20260425T110615
CREATED:20260224T190743Z
LAST-MODIFIED:20260224T225850Z
UID:10005075-1792521000-1792528200@shadescrest.org
SUMMARY:Ladies Fitness Bible Study
DESCRIPTION:
URL:https://shadescrest.org/event/ladies-fitness-bible-study/2026-10-20/
LOCATION:Family Life Center\, 2028 Rockland Drive\, Hoover\, AL\, 35226\, United States
CATEGORIES:FLC Event
ATTACH;FMTTYPE=image/jpeg:https://shadescrest.org/wp-content/uploads/2026/02/ladies-fitbess-bible-study2.jpg
END:VEVENT
BEGIN:VEVENT
DTSTART;TZID=UTC:20261022T130000
DTEND;TZID=UTC:20261022T140000
DTSTAMP:20260425T110615
CREATED:20260221T232005Z
LAST-MODIFIED:20260221T232554Z
UID:10005006-1792674000-1792677600@shadescrest.org
SUMMARY:Women's Prayer Team
DESCRIPTION:
URL:https://shadescrest.org/event/womens-prayer-team/2026-10-22/
LOCATION:Family Life Center\, 2028 Rockland Drive\, Hoover\, AL\, 35226\, United States
CATEGORIES:Church Event,FLC Event
ATTACH;FMTTYPE=image/jpeg:https://shadescrest.org/wp-content/uploads/2026/02/womens-prayer-team.jpg
END:VEVENT
BEGIN:VEVENT
DTSTART;TZID=UTC:20261026T090000
DTEND;TZID=UTC:20261026T120000
DTSTAMP:20260425T110615
CREATED:20240606T173300Z
LAST-MODIFIED:20260223T195015Z
UID:10000585-1793005200-1793016000@shadescrest.org
SUMMARY:Retired and Moving
DESCRIPTION:The senior adults gather every Monday at 9 AM in the FLC for games\, fellowship\, and crafts. On the 1st Monday of each month\, a lunch is served. Bring $5 to cover the cost.
URL:https://shadescrest.org/event/retired-and-moving-3/2026-10-26/
LOCATION:Family Life Center\, 2028 Rockland Drive\, Hoover\, AL\, 35226\, United States
CATEGORIES:FLC Event
ATTACH;FMTTYPE=image/jpeg:https://shadescrest.org/wp-content/uploads/2026/02/moving-2-1.jpg
END:VEVENT
BEGIN:VEVENT
DTSTART;TZID=UTC:20261027T073000
DTEND;TZID=UTC:20261027T083000
DTSTAMP:20260425T110615
CREATED:20260218T005012Z
LAST-MODIFIED:20260218T005012Z
UID:10004941-1793086200-1793089800@shadescrest.org
SUMMARY:Men's Prayer Team
DESCRIPTION:
URL:https://shadescrest.org/event/mens-prayer-team/2026-10-27/
LOCATION:Family Life Center\, 2028 Rockland Drive\, Hoover\, AL\, 35226\, United States
CATEGORIES:Church Event,FLC Event
ATTACH;FMTTYPE=image/jpeg:https://shadescrest.org/wp-content/uploads/2026/02/mens-prayer-team.jpg
END:VEVENT
BEGIN:VEVENT
DTSTART;TZID=UTC:20261027T183000
DTEND;TZID=UTC:20261027T203000
DTSTAMP:20260425T110615
CREATED:20260224T190743Z
LAST-MODIFIED:20260224T225850Z
UID:10005076-1793125800-1793133000@shadescrest.org
SUMMARY:Ladies Fitness Bible Study
DESCRIPTION:
URL:https://shadescrest.org/event/ladies-fitness-bible-study/2026-10-27/
LOCATION:Family Life Center\, 2028 Rockland Drive\, Hoover\, AL\, 35226\, United States
CATEGORIES:FLC Event
ATTACH;FMTTYPE=image/jpeg:https://shadescrest.org/wp-content/uploads/2026/02/ladies-fitbess-bible-study2.jpg
END:VEVENT
BEGIN:VEVENT
DTSTART;TZID=UTC:20261029T130000
DTEND;TZID=UTC:20261029T140000
DTSTAMP:20260425T110615
CREATED:20260221T232005Z
LAST-MODIFIED:20260221T232554Z
UID:10005007-1793278800-1793282400@shadescrest.org
SUMMARY:Women's Prayer Team
DESCRIPTION:
URL:https://shadescrest.org/event/womens-prayer-team/2026-10-29/
LOCATION:Family Life Center\, 2028 Rockland Drive\, Hoover\, AL\, 35226\, United States
CATEGORIES:Church Event,FLC Event
ATTACH;FMTTYPE=image/jpeg:https://shadescrest.org/wp-content/uploads/2026/02/womens-prayer-team.jpg
END:VEVENT
BEGIN:VEVENT
DTSTART;TZID=UTC:20261102T090000
DTEND;TZID=UTC:20261102T120000
DTSTAMP:20260425T110615
CREATED:20240606T173300Z
LAST-MODIFIED:20260223T195015Z
UID:10000586-1793610000-1793620800@shadescrest.org
SUMMARY:Retired and Moving
DESCRIPTION:The senior adults gather every Monday at 9 AM in the FLC for games\, fellowship\, and crafts. On the 1st Monday of each month\, a lunch is served. Bring $5 to cover the cost.
URL:https://shadescrest.org/event/retired-and-moving-3/2026-11-02/
LOCATION:Family Life Center\, 2028 Rockland Drive\, Hoover\, AL\, 35226\, United States
CATEGORIES:FLC Event
ATTACH;FMTTYPE=image/jpeg:https://shadescrest.org/wp-content/uploads/2026/02/moving-2-1.jpg
END:VEVENT
BEGIN:VEVENT
DTSTART;TZID=UTC:20261103T073000
DTEND;TZID=UTC:20261103T083000
DTSTAMP:20260425T110615
CREATED:20260218T005012Z
LAST-MODIFIED:20260218T005012Z
UID:10004942-1793691000-1793694600@shadescrest.org
SUMMARY:Men's Prayer Team
DESCRIPTION:
URL:https://shadescrest.org/event/mens-prayer-team/2026-11-03/
LOCATION:Family Life Center\, 2028 Rockland Drive\, Hoover\, AL\, 35226\, United States
CATEGORIES:Church Event,FLC Event
ATTACH;FMTTYPE=image/jpeg:https://shadescrest.org/wp-content/uploads/2026/02/mens-prayer-team.jpg
END:VEVENT
END:VCALENDAR