BEGIN:VCALENDAR
VERSION:2.0
PRODID:-//Shades Crest Baptist Church - ECPv6.15.20//NONSGML v1.0//EN
CALSCALE:GREGORIAN
METHOD:PUBLISH
X-WR-CALNAME:Shades Crest Baptist Church
X-ORIGINAL-URL:https://shadescrest.org
X-WR-CALDESC:Events for Shades Crest Baptist Church
REFRESH-INTERVAL;VALUE=DURATION:PT1H
X-Robots-Tag:noindex
X-PUBLISHED-TTL:PT1H
BEGIN:VTIMEZONE
TZID:UTC
BEGIN:STANDARD
TZOFFSETFROM:+0000
TZOFFSETTO:+0000
TZNAME:UTC
DTSTART:20230101T000000
END:STANDARD
END:VTIMEZONE
BEGIN:VEVENT
DTSTART;TZID=UTC:20260208T090000
DTEND;TZID=UTC:20260208T100000
DTSTAMP:20260424T002216
CREATED:20251114T164510Z
LAST-MODIFIED:20260220T002019Z
UID:10002675-1770541200-1770544800@shadescrest.org
SUMMARY:RISING Worship Service
DESCRIPTION:Come to our modern worship service\, Rising\, at 9:00 a.m. In the Rising service\, you’ll worship with our praise team and band in our church fellowship hall. You’ll see song lyrics and scripture passages projected on a screen\, and watch videos related to that day’s worship focus. Baskets are passed during this service\, offering you the opportunity to give. \nThe fellowship hall at Shades Crest is a multi-purpose space where we have meals as a church family\, host large churchwide and community events\, and have our weekly Rising worship service. \nOur speaker will preach on the same passage of scripture in this worship service as he does in the 11:00 a.m. service.
URL:https://shadescrest.org/event/rising-worship-service/2026-02-08/
LOCATION:Fellowship Hall\, 452 Park Avenue\, Hoover\, AL\, 35226\, United States
CATEGORIES:Church Event
ATTACH;FMTTYPE=image/jpeg:https://shadescrest.org/wp-content/uploads/2026/02/main-worship-slide-1.jpg
END:VEVENT
BEGIN:VEVENT
DTSTART;TZID=UTC:20260201T090000
DTEND;TZID=UTC:20260201T100000
DTSTAMP:20260424T002216
CREATED:20251114T164510Z
LAST-MODIFIED:20260220T002019Z
UID:10002674-1769936400-1769940000@shadescrest.org
SUMMARY:RISING Worship Service
DESCRIPTION:Come to our modern worship service\, Rising\, at 9:00 a.m. In the Rising service\, you’ll worship with our praise team and band in our church fellowship hall. You’ll see song lyrics and scripture passages projected on a screen\, and watch videos related to that day’s worship focus. Baskets are passed during this service\, offering you the opportunity to give. \nThe fellowship hall at Shades Crest is a multi-purpose space where we have meals as a church family\, host large churchwide and community events\, and have our weekly Rising worship service. \nOur speaker will preach on the same passage of scripture in this worship service as he does in the 11:00 a.m. service.
URL:https://shadescrest.org/event/rising-worship-service/2026-02-01/
LOCATION:Fellowship Hall\, 452 Park Avenue\, Hoover\, AL\, 35226\, United States
CATEGORIES:Church Event
ATTACH;FMTTYPE=image/jpeg:https://shadescrest.org/wp-content/uploads/2026/02/main-worship-slide-1.jpg
END:VEVENT
BEGIN:VEVENT
DTSTART;TZID=UTC:20260125T090000
DTEND;TZID=UTC:20260125T100000
DTSTAMP:20260424T002216
CREATED:20251114T164510Z
LAST-MODIFIED:20260220T002019Z
UID:10002673-1769331600-1769335200@shadescrest.org
SUMMARY:RISING Worship Service
DESCRIPTION:Come to our modern worship service\, Rising\, at 9:00 a.m. In the Rising service\, you’ll worship with our praise team and band in our church fellowship hall. You’ll see song lyrics and scripture passages projected on a screen\, and watch videos related to that day’s worship focus. Baskets are passed during this service\, offering you the opportunity to give. \nThe fellowship hall at Shades Crest is a multi-purpose space where we have meals as a church family\, host large churchwide and community events\, and have our weekly Rising worship service. \nOur speaker will preach on the same passage of scripture in this worship service as he does in the 11:00 a.m. service.
URL:https://shadescrest.org/event/rising-worship-service/2026-01-25/
LOCATION:Fellowship Hall\, 452 Park Avenue\, Hoover\, AL\, 35226\, United States
CATEGORIES:Church Event
ATTACH;FMTTYPE=image/jpeg:https://shadescrest.org/wp-content/uploads/2026/02/main-worship-slide-1.jpg
END:VEVENT
BEGIN:VEVENT
DTSTART;TZID=UTC:20260118T090000
DTEND;TZID=UTC:20260118T100000
DTSTAMP:20260424T002216
CREATED:20251114T164510Z
LAST-MODIFIED:20260220T002019Z
UID:10002672-1768726800-1768730400@shadescrest.org
SUMMARY:RISING Worship Service
DESCRIPTION:Come to our modern worship service\, Rising\, at 9:00 a.m. In the Rising service\, you’ll worship with our praise team and band in our church fellowship hall. You’ll see song lyrics and scripture passages projected on a screen\, and watch videos related to that day’s worship focus. Baskets are passed during this service\, offering you the opportunity to give. \nThe fellowship hall at Shades Crest is a multi-purpose space where we have meals as a church family\, host large churchwide and community events\, and have our weekly Rising worship service. \nOur speaker will preach on the same passage of scripture in this worship service as he does in the 11:00 a.m. service.
URL:https://shadescrest.org/event/rising-worship-service/2026-01-18/
LOCATION:Fellowship Hall\, 452 Park Avenue\, Hoover\, AL\, 35226\, United States
CATEGORIES:Church Event
ATTACH;FMTTYPE=image/jpeg:https://shadescrest.org/wp-content/uploads/2026/02/main-worship-slide-1.jpg
END:VEVENT
BEGIN:VEVENT
DTSTART;TZID=UTC:20260115T113000
DTEND;TZID=UTC:20260115T140000
DTSTAMP:20260424T002216
CREATED:20260106T231904Z
LAST-MODIFIED:20260107T000243Z
UID:10004735-1768476600-1768485600@shadescrest.org
SUMMARY:Triple L - For Seniors
DESCRIPTION:LLL with Jim Langley\, “A History of Hoover”
URL:https://shadescrest.org/event/triple-l-for-seniors/
LOCATION:Fellowship Hall\, 452 Park Avenue\, Hoover\, AL\, 35226\, United States
CATEGORIES:Senior Adults Event
ATTACH;FMTTYPE=image/jpeg:https://shadescrest.org/wp-content/uploads/2026/01/triple-l.jpg
END:VEVENT
BEGIN:VEVENT
DTSTART;TZID=UTC:20260111T090000
DTEND;TZID=UTC:20260111T100000
DTSTAMP:20260424T002216
CREATED:20251114T164510Z
LAST-MODIFIED:20260220T002019Z
UID:10002671-1768122000-1768125600@shadescrest.org
SUMMARY:RISING Worship Service
DESCRIPTION:Come to our modern worship service\, Rising\, at 9:00 a.m. In the Rising service\, you’ll worship with our praise team and band in our church fellowship hall. You’ll see song lyrics and scripture passages projected on a screen\, and watch videos related to that day’s worship focus. Baskets are passed during this service\, offering you the opportunity to give. \nThe fellowship hall at Shades Crest is a multi-purpose space where we have meals as a church family\, host large churchwide and community events\, and have our weekly Rising worship service. \nOur speaker will preach on the same passage of scripture in this worship service as he does in the 11:00 a.m. service.
URL:https://shadescrest.org/event/rising-worship-service/2026-01-11/
LOCATION:Fellowship Hall\, 452 Park Avenue\, Hoover\, AL\, 35226\, United States
CATEGORIES:Church Event
ATTACH;FMTTYPE=image/jpeg:https://shadescrest.org/wp-content/uploads/2026/02/main-worship-slide-1.jpg
END:VEVENT
BEGIN:VEVENT
DTSTART;TZID=UTC:20260104T090000
DTEND;TZID=UTC:20260104T100000
DTSTAMP:20260424T002216
CREATED:20251114T164510Z
LAST-MODIFIED:20260220T002019Z
UID:10002670-1767517200-1767520800@shadescrest.org
SUMMARY:RISING Worship Service
DESCRIPTION:Come to our modern worship service\, Rising\, at 9:00 a.m. In the Rising service\, you’ll worship with our praise team and band in our church fellowship hall. You’ll see song lyrics and scripture passages projected on a screen\, and watch videos related to that day’s worship focus. Baskets are passed during this service\, offering you the opportunity to give. \nThe fellowship hall at Shades Crest is a multi-purpose space where we have meals as a church family\, host large churchwide and community events\, and have our weekly Rising worship service. \nOur speaker will preach on the same passage of scripture in this worship service as he does in the 11:00 a.m. service.
URL:https://shadescrest.org/event/rising-worship-service/2026-01-04/
LOCATION:Fellowship Hall\, 452 Park Avenue\, Hoover\, AL\, 35226\, United States
CATEGORIES:Church Event
ATTACH;FMTTYPE=image/jpeg:https://shadescrest.org/wp-content/uploads/2026/02/main-worship-slide-1.jpg
END:VEVENT
BEGIN:VEVENT
DTSTART;TZID=UTC:20251228T100000
DTEND;TZID=UTC:20251228T110000
DTSTAMP:20260424T002216
CREATED:20251216T234943Z
LAST-MODIFIED:20251216T234943Z
UID:10004711-1766916000-1766919600@shadescrest.org
SUMMARY:Fellowship & Bible Study
DESCRIPTION:
URL:https://shadescrest.org/event/fellowship-bible-study/
LOCATION:Fellowship Hall\, 452 Park Avenue\, Hoover\, AL\, 35226\, United States
CATEGORIES:Church Event
ATTACH;FMTTYPE=image/png:https://shadescrest.org/wp-content/uploads/2025/12/Screenshot-2025-12-16-172114.png
END:VEVENT
BEGIN:VEVENT
DTSTART;TZID=UTC:20251228T090000
DTEND;TZID=UTC:20251228T100000
DTSTAMP:20260424T002216
CREATED:20251119T184211Z
LAST-MODIFIED:20251120T203924Z
UID:10002669-1766912400-1766916000@shadescrest.org
SUMMARY:RISING Worship Service
DESCRIPTION:NOTE: Today there is only a RISING service. Come to our modern worship service\, Rising\, at 9:00 a.m. In the Rising service\, you’ll worship with our praise team and band in our church fellowship hall. You’ll see song lyrics and scripture passages projected on a screen\, and watch videos related to that day’s worship focus. Baskets are passed during this service\, offering you the opportunity to give. \nThe fellowship hall at Shades Crest is a multi-purpose space where we have meals as a church family\, host large churchwide and community events\, and have our weekly Rising worship service. \nOur speaker will preach on the same passage of scripture in this worship service as he does in the 11:00 a.m. service.
URL:https://shadescrest.org/event/rising-worship-service-2/
LOCATION:Fellowship Hall\, 452 Park Avenue\, Hoover\, AL\, 35226\, United States
CATEGORIES:Church Event
ATTACH;FMTTYPE=image/png:https://shadescrest.org/wp-content/uploads/2025/11/Screenshot-2025-11-20-141745.png
END:VEVENT
BEGIN:VEVENT
DTSTART;TZID=UTC:20251221T090000
DTEND;TZID=UTC:20251221T100000
DTSTAMP:20260424T002216
CREATED:20251114T164510Z
LAST-MODIFIED:20260220T002019Z
UID:10002668-1766307600-1766311200@shadescrest.org
SUMMARY:RISING Worship Service
DESCRIPTION:Come to our modern worship service\, Rising\, at 9:00 a.m. In the Rising service\, you’ll worship with our praise team and band in our church fellowship hall. You’ll see song lyrics and scripture passages projected on a screen\, and watch videos related to that day’s worship focus. Baskets are passed during this service\, offering you the opportunity to give. \nThe fellowship hall at Shades Crest is a multi-purpose space where we have meals as a church family\, host large churchwide and community events\, and have our weekly Rising worship service. \nOur speaker will preach on the same passage of scripture in this worship service as he does in the 11:00 a.m. service.
URL:https://shadescrest.org/event/rising-worship-service/2025-12-21/
LOCATION:Fellowship Hall\, 452 Park Avenue\, Hoover\, AL\, 35226\, United States
CATEGORIES:Church Event
ATTACH;FMTTYPE=image/jpeg:https://shadescrest.org/wp-content/uploads/2026/02/main-worship-slide-1.jpg
END:VEVENT
BEGIN:VEVENT
DTSTART;TZID=UTC:20251214T120000
DTEND;TZID=UTC:20251214T140000
DTSTAMP:20260424T002216
CREATED:20251114T024147Z
LAST-MODIFIED:20251114T024258Z
UID:10002662-1765713600-1765720800@shadescrest.org
SUMMARY:Churchwide Christmas Luncheon
DESCRIPTION:
URL:https://shadescrest.org/event/churchwide-christmas-luncheon/
LOCATION:Fellowship Hall\, 452 Park Avenue\, Hoover\, AL\, 35226\, United States
CATEGORIES:Church Event
ATTACH;FMTTYPE=image/png:https://shadescrest.org/wp-content/uploads/2025/11/Christmas-Luncheon-25.png
END:VEVENT
BEGIN:VEVENT
DTSTART;TZID=UTC:20251207T090000
DTEND;TZID=UTC:20251207T100000
DTSTAMP:20260424T002216
CREATED:20251114T164510Z
LAST-MODIFIED:20260220T002019Z
UID:10002666-1765098000-1765101600@shadescrest.org
SUMMARY:RISING Worship Service
DESCRIPTION:Come to our modern worship service\, Rising\, at 9:00 a.m. In the Rising service\, you’ll worship with our praise team and band in our church fellowship hall. You’ll see song lyrics and scripture passages projected on a screen\, and watch videos related to that day’s worship focus. Baskets are passed during this service\, offering you the opportunity to give. \nThe fellowship hall at Shades Crest is a multi-purpose space where we have meals as a church family\, host large churchwide and community events\, and have our weekly Rising worship service. \nOur speaker will preach on the same passage of scripture in this worship service as he does in the 11:00 a.m. service.
URL:https://shadescrest.org/event/rising-worship-service/2025-12-07/
LOCATION:Fellowship Hall\, 452 Park Avenue\, Hoover\, AL\, 35226\, United States
CATEGORIES:Church Event
ATTACH;FMTTYPE=image/jpeg:https://shadescrest.org/wp-content/uploads/2026/02/main-worship-slide-1.jpg
END:VEVENT
BEGIN:VEVENT
DTSTART;TZID=UTC:20251130T090000
DTEND;TZID=UTC:20251130T100000
DTSTAMP:20260424T002216
CREATED:20251114T164510Z
LAST-MODIFIED:20260220T002019Z
UID:10002665-1764493200-1764496800@shadescrest.org
SUMMARY:RISING Worship Service
DESCRIPTION:Come to our modern worship service\, Rising\, at 9:00 a.m. In the Rising service\, you’ll worship with our praise team and band in our church fellowship hall. You’ll see song lyrics and scripture passages projected on a screen\, and watch videos related to that day’s worship focus. Baskets are passed during this service\, offering you the opportunity to give. \nThe fellowship hall at Shades Crest is a multi-purpose space where we have meals as a church family\, host large churchwide and community events\, and have our weekly Rising worship service. \nOur speaker will preach on the same passage of scripture in this worship service as he does in the 11:00 a.m. service.
URL:https://shadescrest.org/event/rising-worship-service/2025-11-30/
LOCATION:Fellowship Hall\, 452 Park Avenue\, Hoover\, AL\, 35226\, United States
CATEGORIES:Church Event
ATTACH;FMTTYPE=image/jpeg:https://shadescrest.org/wp-content/uploads/2026/02/main-worship-slide-1.jpg
END:VEVENT
BEGIN:VEVENT
DTSTART;TZID=UTC:20251123T090000
DTEND;TZID=UTC:20251123T100000
DTSTAMP:20260424T002216
CREATED:20251114T164510Z
LAST-MODIFIED:20260220T002019Z
UID:10002664-1763888400-1763892000@shadescrest.org
SUMMARY:RISING Worship Service
DESCRIPTION:Come to our modern worship service\, Rising\, at 9:00 a.m. In the Rising service\, you’ll worship with our praise team and band in our church fellowship hall. You’ll see song lyrics and scripture passages projected on a screen\, and watch videos related to that day’s worship focus. Baskets are passed during this service\, offering you the opportunity to give. \nThe fellowship hall at Shades Crest is a multi-purpose space where we have meals as a church family\, host large churchwide and community events\, and have our weekly Rising worship service. \nOur speaker will preach on the same passage of scripture in this worship service as he does in the 11:00 a.m. service.
URL:https://shadescrest.org/event/rising-worship-service/2025-11-23/
LOCATION:Fellowship Hall\, 452 Park Avenue\, Hoover\, AL\, 35226\, United States
CATEGORIES:Church Event
ATTACH;FMTTYPE=image/jpeg:https://shadescrest.org/wp-content/uploads/2026/02/main-worship-slide-1.jpg
END:VEVENT
BEGIN:VEVENT
DTSTART;TZID=UTC:20251120T113000
DTEND;TZID=UTC:20251120T130000
DTSTAMP:20260424T002216
CREATED:20251114T023715Z
LAST-MODIFIED:20251114T023715Z
UID:10002660-1763638200-1763643600@shadescrest.org
SUMMARY:Triple L Program
DESCRIPTION:
URL:https://shadescrest.org/event/triple-l-program/
LOCATION:Fellowship Hall\, 452 Park Avenue\, Hoover\, AL\, 35226\, United States
CATEGORIES:Senior Adults Event
ATTACH;FMTTYPE=image/png:https://shadescrest.org/wp-content/uploads/2025/11/Screenshot-2025-11-13-165844.png
END:VEVENT
BEGIN:VEVENT
DTSTART;TZID=UTC:20251116T090000
DTEND;TZID=UTC:20251116T100000
DTSTAMP:20260424T002216
CREATED:20251114T164510Z
LAST-MODIFIED:20260220T002019Z
UID:10002663-1763283600-1763287200@shadescrest.org
SUMMARY:RISING Worship Service
DESCRIPTION:Come to our modern worship service\, Rising\, at 9:00 a.m. In the Rising service\, you’ll worship with our praise team and band in our church fellowship hall. You’ll see song lyrics and scripture passages projected on a screen\, and watch videos related to that day’s worship focus. Baskets are passed during this service\, offering you the opportunity to give. \nThe fellowship hall at Shades Crest is a multi-purpose space where we have meals as a church family\, host large churchwide and community events\, and have our weekly Rising worship service. \nOur speaker will preach on the same passage of scripture in this worship service as he does in the 11:00 a.m. service.
URL:https://shadescrest.org/event/rising-worship-service/2025-11-16/
LOCATION:Fellowship Hall\, 452 Park Avenue\, Hoover\, AL\, 35226\, United States
CATEGORIES:Church Event
ATTACH;FMTTYPE=image/jpeg:https://shadescrest.org/wp-content/uploads/2026/02/main-worship-slide-1.jpg
END:VEVENT
BEGIN:VEVENT
DTSTART;TZID=UTC:20250515T113000
DTEND;TZID=UTC:20250515T140000
DTSTAMP:20260424T002216
CREATED:20250428T165210Z
LAST-MODIFIED:20250428T165210Z
UID:10002659-1747308600-1747317600@shadescrest.org
SUMMARY:Triple L - Picnic on the Patio
DESCRIPTION:LLL – Picnic on the Patio (weather permitting)\nBBQ\, Baked Beans\, Corn-on-the-cob or French Fries\, Slaw\, Dessert\, Drink.\nPickers from FBC Guntersville\nInvite a guest $8.00 per plate\, Reservations Necessary\nCome and join the fun.
URL:https://shadescrest.org/event/triple-l-picnic-on-the-patio/
LOCATION:Fellowship Hall\, 452 Park Avenue\, Hoover\, AL\, 35226\, United States
CATEGORIES:Senior Adults Event
ATTACH;FMTTYPE=image/jpeg:https://shadescrest.org/wp-content/uploads/2024/08/Triple-LLL-Generic.jpg
END:VEVENT
BEGIN:VEVENT
DTSTART;TZID=UTC:20241229T090000
DTEND;TZID=UTC:20241229T100000
DTSTAMP:20260424T002216
CREATED:20241120T201018Z
LAST-MODIFIED:20241120T201035Z
UID:10000425-1735462800-1735466400@shadescrest.org
SUMMARY:Sunday Services
DESCRIPTION:This Sunday service will consist of only the Rising service (Modern) at 9 pm in Fellowship Hall. There will not be any Connect Groups or Majestic service. Service will be Livestreamed.
URL:https://shadescrest.org/event/sunday-services-8-4-4-2/
LOCATION:Fellowship Hall\, 452 Park Avenue\, Hoover\, AL\, 35226\, United States
CATEGORIES:Church Event
ATTACH;FMTTYPE=image/jpeg:https://shadescrest.org/wp-content/uploads/2024/07/sunday-service.jpg
END:VEVENT
BEGIN:VEVENT
DTSTART;TZID=UTC:20241219T113000
DTEND;TZID=UTC:20241219T140000
DTSTAMP:20260424T002216
CREATED:20241209T171446Z
LAST-MODIFIED:20241209T171446Z
UID:10001837-1734607800-1734616800@shadescrest.org
SUMMARY:Senior Adult Program - Triple L
DESCRIPTION:
URL:https://shadescrest.org/event/senior-adult-program-triple-l/
LOCATION:Fellowship Hall\, 452 Park Avenue\, Hoover\, AL\, 35226\, United States
CATEGORIES:Senior Adults Event
ATTACH;FMTTYPE=image/jpeg:https://shadescrest.org/wp-content/uploads/2024/12/LLL-dec-19.jpg
END:VEVENT
BEGIN:VEVENT
DTSTART;TZID=UTC:20241215T120000
DTEND;TZID=UTC:20241215T143000
DTSTAMP:20260424T002216
CREATED:20241120T192149Z
LAST-MODIFIED:20241120T192149Z
UID:10001819-1734264000-1734273000@shadescrest.org
SUMMARY:Christmas Program Church-Wide Luncheon
DESCRIPTION:Our annual church-wide Christmas lunch is planned for December 15\,\nfollowing the Christmas music program. It will help us immensely\nif you sign up and pay sooner rather than later so that we plan accordingly.
URL:https://shadescrest.org/event/christmas-program-church-wide-luncheon/
LOCATION:Fellowship Hall\, 452 Park Avenue\, Hoover\, AL\, 35226\, United States
CATEGORIES:Church Event
ATTACH;FMTTYPE=image/jpeg:https://shadescrest.org/wp-content/uploads/2024/11/xmas-lunch.jpg
END:VEVENT
BEGIN:VEVENT
DTSTART;TZID=UTC:20241110T121000
DTEND;TZID=UTC:20241110T140000
DTSTAMP:20260424T002216
CREATED:20241023T173837Z
LAST-MODIFIED:20241023T173837Z
UID:10001815-1731240600-1731247200@shadescrest.org
SUMMARY:Veterans Appreciation Luncheon
DESCRIPTION:All Veterans are Welcome. Please call the Church office to RSVP
URL:https://shadescrest.org/event/veterans-appreciation-luncheon/
LOCATION:Fellowship Hall\, 452 Park Avenue\, Hoover\, AL\, 35226\, United States
CATEGORIES:Church Event,Youth Event
ATTACH;FMTTYPE=image/jpeg:https://shadescrest.org/wp-content/uploads/2024/10/veterans-luncheon.jpg
END:VEVENT
BEGIN:VEVENT
DTSTART;TZID=UTC:20241017T113000
DTEND;TZID=UTC:20241017T133000
DTSTAMP:20260424T002216
CREATED:20241002T173704Z
LAST-MODIFIED:20241002T173704Z
UID:10001808-1729164600-1729171800@shadescrest.org
SUMMARY:Triple L - Senior Adult Ministry
DESCRIPTION:Pot Luck\, $2.00\nGames\, laughs\, and fun
URL:https://shadescrest.org/event/triple-l-senior-adult-ministry/
LOCATION:Fellowship Hall\, 452 Park Avenue\, Hoover\, AL\, 35226\, United States
ATTACH;FMTTYPE=image/jpeg:https://shadescrest.org/wp-content/uploads/2024/08/Triple-LLL-Generic.jpg
END:VEVENT
BEGIN:VEVENT
DTSTART;TZID=UTC:20241013T100000
DTEND;TZID=UTC:20241013T104500
DTSTAMP:20260424T002216
CREATED:20240925T153652Z
LAST-MODIFIED:20240925T153652Z
UID:10001806-1728813600-1728816300@shadescrest.org
SUMMARY:New & Prospective Member Brunch
DESCRIPTION:
URL:https://shadescrest.org/event/new-prospective-member-brunch/
LOCATION:Fellowship Hall\, 452 Park Avenue\, Hoover\, AL\, 35226\, United States
CATEGORIES:Church Event
ATTACH;FMTTYPE=image/jpeg:https://shadescrest.org/wp-content/uploads/2024/09/nand-p-brunch.jpg
END:VEVENT
BEGIN:VEVENT
DTSTART;TZID=UTC:20241005T090000
DTEND;TZID=UTC:20241005T150000
DTSTAMP:20260424T002216
CREATED:20240916T172040Z
LAST-MODIFIED:20240916T172040Z
UID:10001801-1728118800-1728140400@shadescrest.org
SUMMARY:Arts & Crafts Fair
DESCRIPTION:We will be hosting the Annual Arts and Crafts Fair on Oct. 5\, the day of the Bluff Park Art Show.  The proceeds received from this event will go to support MV\, one of our mission partners who serve alongside local churches in the Middle East. If you are interested in having a table\, contact the church office for an application.
URL:https://shadescrest.org/event/arts-crafts-fair/
LOCATION:Fellowship Hall\, 452 Park Avenue\, Hoover\, AL\, 35226\, United States
CATEGORIES:Church Event
ATTACH;FMTTYPE=image/jpeg:https://shadescrest.org/wp-content/uploads/2024/09/artsandcrafts.jpg
END:VEVENT
BEGIN:VEVENT
DTSTART;TZID=UTC:20240919T113000
DTEND;TZID=UTC:20240919T130000
DTSTAMP:20260424T002216
CREATED:20240829T205143Z
LAST-MODIFIED:20240829T210252Z
UID:10001528-1726745400-1726750800@shadescrest.org
SUMMARY:Triple LLL Meets
DESCRIPTION:This will be a potluck! Plan to join us and Dr. Jim Auchmuty for lots of laughs at things that happened during his ministry. You will not want to miss this time together!
URL:https://shadescrest.org/event/triple-lll-meets/
LOCATION:Fellowship Hall\, 452 Park Avenue\, Hoover\, AL\, 35226\, United States
ATTACH;FMTTYPE=image/jpeg:https://shadescrest.org/wp-content/uploads/2024/08/Triple-LLL-Generic.jpg
END:VEVENT
BEGIN:VEVENT
DTSTART;TZID=UTC:20240724T164500
DTEND;TZID=UTC:20240724T190000
DTSTAMP:20260424T002216
CREATED:20240711T202815Z
LAST-MODIFIED:20240711T210049Z
UID:10000400-1721839500-1721847600@shadescrest.org
SUMMARY:Summer Share Night
DESCRIPTION:Regular Wednesday Night Dinner at 4:45. Sharing experiences from VBS\, We Love Our City\, Youth Mission Trip\, Super Summer\, and Children’s Camp.
URL:https://shadescrest.org/event/summer-share-night/
LOCATION:Fellowship Hall\, 452 Park Avenue\, Hoover\, AL\, 35226\, United States
CATEGORIES:Church Event
ATTACH;FMTTYPE=image/jpeg:https://shadescrest.org/wp-content/uploads/2024/07/summer-share-night.jpg
END:VEVENT
BEGIN:VEVENT
DTSTART;TZID=UTC:20240710T173000
DTEND;TZID=UTC:20240710T190000
DTSTAMP:20260424T002216
CREATED:20240703T153443Z
LAST-MODIFIED:20240703T153443Z
UID:10000399-1720632600-1720638000@shadescrest.org
SUMMARY:Ice Cream Night for Senior Adults
DESCRIPTION:
URL:https://shadescrest.org/event/ice-cream-night-for-senior-adults/
LOCATION:Fellowship Hall\, 452 Park Avenue\, Hoover\, AL\, 35226\, United States
CATEGORIES:Senior Adults Event
ATTACH;FMTTYPE=image/jpeg:https://shadescrest.org/wp-content/uploads/2024/07/ice-cream-night.jpg
END:VEVENT
BEGIN:VEVENT
DTSTART;TZID=UTC:20240626T180000
DTEND;TZID=UTC:20240626T190000
DTSTAMP:20260424T002216
CREATED:20240610T184623Z
LAST-MODIFIED:20240619T192332Z
UID:10000054-1719424800-1719428400@shadescrest.org
SUMMARY:Family Worship Night
DESCRIPTION:Come next Wednesday\, June 26\, to our Family Worship Night in the Fellowship Hall. Children\, youth\, and adults are encouraged to participate. Dinner will be available prior to the worship time\, similar to a regular Wednesday night\, from 4:45 to 6:00 PM. It’ll be helpful if you call the Church Office to let us know you’re planning to eat here.
URL:https://shadescrest.org/event/family-worship-night/
LOCATION:Fellowship Hall\, 452 Park Avenue\, Hoover\, AL\, 35226\, United States
CATEGORIES:Church Event
ATTACH;FMTTYPE=image/jpeg:https://shadescrest.org/wp-content/uploads/2024/06/family-worship-night.jpg
END:VEVENT
BEGIN:VEVENT
DTSTART;TZID=UTC:20240605T170000
DTEND;TZID=UTC:20240605T190000
DTSTAMP:20260424T002216
CREATED:20240522T204448Z
LAST-MODIFIED:20240605T152509Z
UID:10000005-1717606800-1717614000@shadescrest.org
SUMMARY:Vacation Bible School Family Night
DESCRIPTION:Vacation Bible School Family Night. See what your children have been learning in VBS. There will be food\, games\, music\, and other activities.
URL:https://shadescrest.org/event/vacation-bible-school-family-night/
LOCATION:Fellowship Hall\, 452 Park Avenue\, Hoover\, AL\, 35226\, United States
END:VEVENT
END:VCALENDAR