BEGIN:VCALENDAR
VERSION:2.0
PRODID:-//Shades Crest Baptist Church - ECPv6.15.20//NONSGML v1.0//EN
CALSCALE:GREGORIAN
METHOD:PUBLISH
X-ORIGINAL-URL:https://shadescrest.org
X-WR-CALDESC:Events for Shades Crest Baptist Church
REFRESH-INTERVAL;VALUE=DURATION:PT1H
X-Robots-Tag:noindex
X-PUBLISHED-TTL:PT1H
BEGIN:VTIMEZONE
TZID:UTC
BEGIN:STANDARD
TZOFFSETFROM:+0000
TZOFFSETTO:+0000
TZNAME:UTC
DTSTART:20300101T000000
END:STANDARD
END:VTIMEZONE
BEGIN:VEVENT
DTSTART;TZID=UTC:20310119T090000
DTEND;TZID=UTC:20310119T100000
DTSTAMP:20260425T153327
CREATED:20251114T164510Z
LAST-MODIFIED:20260220T002019Z
UID:10004856-1926579600-1926583200@shadescrest.org
SUMMARY:RISING Worship Service
DESCRIPTION:Come to our modern worship service\, Rising\, at 9:00 a.m. In the Rising service\, you’ll worship with our praise team and band in our church fellowship hall. You’ll see song lyrics and scripture passages projected on a screen\, and watch videos related to that day’s worship focus. Baskets are passed during this service\, offering you the opportunity to give. \nThe fellowship hall at Shades Crest is a multi-purpose space where we have meals as a church family\, host large churchwide and community events\, and have our weekly Rising worship service. \nOur speaker will preach on the same passage of scripture in this worship service as he does in the 11:00 a.m. service.
URL:https://shadescrest.org/event/rising-worship-service/2031-01-19/
LOCATION:Fellowship Hall\, 452 Park Avenue\, Hoover\, AL\, 35226\, United States
CATEGORIES:Church Event
ATTACH;FMTTYPE=image/jpeg:https://shadescrest.org/wp-content/uploads/2026/02/main-worship-slide-1.jpg
END:VEVENT
BEGIN:VEVENT
DTSTART;TZID=UTC:20310126T090000
DTEND;TZID=UTC:20310126T100000
DTSTAMP:20260425T153327
CREATED:20251114T164510Z
LAST-MODIFIED:20260220T002019Z
UID:10004857-1927184400-1927188000@shadescrest.org
SUMMARY:RISING Worship Service
DESCRIPTION:Come to our modern worship service\, Rising\, at 9:00 a.m. In the Rising service\, you’ll worship with our praise team and band in our church fellowship hall. You’ll see song lyrics and scripture passages projected on a screen\, and watch videos related to that day’s worship focus. Baskets are passed during this service\, offering you the opportunity to give. \nThe fellowship hall at Shades Crest is a multi-purpose space where we have meals as a church family\, host large churchwide and community events\, and have our weekly Rising worship service. \nOur speaker will preach on the same passage of scripture in this worship service as he does in the 11:00 a.m. service.
URL:https://shadescrest.org/event/rising-worship-service/2031-01-26/
LOCATION:Fellowship Hall\, 452 Park Avenue\, Hoover\, AL\, 35226\, United States
CATEGORIES:Church Event
ATTACH;FMTTYPE=image/jpeg:https://shadescrest.org/wp-content/uploads/2026/02/main-worship-slide-1.jpg
END:VEVENT
BEGIN:VEVENT
DTSTART;TZID=UTC:20310202T090000
DTEND;TZID=UTC:20310202T100000
DTSTAMP:20260425T153327
CREATED:20251114T164510Z
LAST-MODIFIED:20260220T002019Z
UID:10004858-1927789200-1927792800@shadescrest.org
SUMMARY:RISING Worship Service
DESCRIPTION:Come to our modern worship service\, Rising\, at 9:00 a.m. In the Rising service\, you’ll worship with our praise team and band in our church fellowship hall. You’ll see song lyrics and scripture passages projected on a screen\, and watch videos related to that day’s worship focus. Baskets are passed during this service\, offering you the opportunity to give. \nThe fellowship hall at Shades Crest is a multi-purpose space where we have meals as a church family\, host large churchwide and community events\, and have our weekly Rising worship service. \nOur speaker will preach on the same passage of scripture in this worship service as he does in the 11:00 a.m. service.
URL:https://shadescrest.org/event/rising-worship-service/2031-02-02/
LOCATION:Fellowship Hall\, 452 Park Avenue\, Hoover\, AL\, 35226\, United States
CATEGORIES:Church Event
ATTACH;FMTTYPE=image/jpeg:https://shadescrest.org/wp-content/uploads/2026/02/main-worship-slide-1.jpg
END:VEVENT
BEGIN:VEVENT
DTSTART;TZID=UTC:20310209T090000
DTEND;TZID=UTC:20310209T100000
DTSTAMP:20260425T153327
CREATED:20251114T164510Z
LAST-MODIFIED:20260220T002019Z
UID:10004888-1928394000-1928397600@shadescrest.org
SUMMARY:RISING Worship Service
DESCRIPTION:Come to our modern worship service\, Rising\, at 9:00 a.m. In the Rising service\, you’ll worship with our praise team and band in our church fellowship hall. You’ll see song lyrics and scripture passages projected on a screen\, and watch videos related to that day’s worship focus. Baskets are passed during this service\, offering you the opportunity to give. \nThe fellowship hall at Shades Crest is a multi-purpose space where we have meals as a church family\, host large churchwide and community events\, and have our weekly Rising worship service. \nOur speaker will preach on the same passage of scripture in this worship service as he does in the 11:00 a.m. service.
URL:https://shadescrest.org/event/rising-worship-service/2031-02-09/
LOCATION:Fellowship Hall\, 452 Park Avenue\, Hoover\, AL\, 35226\, United States
CATEGORIES:Church Event
ATTACH;FMTTYPE=image/jpeg:https://shadescrest.org/wp-content/uploads/2026/02/main-worship-slide-1.jpg
END:VEVENT
BEGIN:VEVENT
DTSTART;TZID=UTC:20310216T090000
DTEND;TZID=UTC:20310216T100000
DTSTAMP:20260425T153327
CREATED:20251114T164510Z
LAST-MODIFIED:20260220T002019Z
UID:10004895-1928998800-1929002400@shadescrest.org
SUMMARY:RISING Worship Service
DESCRIPTION:Come to our modern worship service\, Rising\, at 9:00 a.m. In the Rising service\, you’ll worship with our praise team and band in our church fellowship hall. You’ll see song lyrics and scripture passages projected on a screen\, and watch videos related to that day’s worship focus. Baskets are passed during this service\, offering you the opportunity to give. \nThe fellowship hall at Shades Crest is a multi-purpose space where we have meals as a church family\, host large churchwide and community events\, and have our weekly Rising worship service. \nOur speaker will preach on the same passage of scripture in this worship service as he does in the 11:00 a.m. service.
URL:https://shadescrest.org/event/rising-worship-service/2031-02-16/
LOCATION:Fellowship Hall\, 452 Park Avenue\, Hoover\, AL\, 35226\, United States
CATEGORIES:Church Event
ATTACH;FMTTYPE=image/jpeg:https://shadescrest.org/wp-content/uploads/2026/02/main-worship-slide-1.jpg
END:VEVENT
BEGIN:VEVENT
DTSTART;TZID=UTC:20310223T090000
DTEND;TZID=UTC:20310223T100000
DTSTAMP:20260425T153327
CREATED:20251114T164510Z
LAST-MODIFIED:20260220T002019Z
UID:10005108-1929603600-1929607200@shadescrest.org
SUMMARY:RISING Worship Service
DESCRIPTION:Come to our modern worship service\, Rising\, at 9:00 a.m. In the Rising service\, you’ll worship with our praise team and band in our church fellowship hall. You’ll see song lyrics and scripture passages projected on a screen\, and watch videos related to that day’s worship focus. Baskets are passed during this service\, offering you the opportunity to give. \nThe fellowship hall at Shades Crest is a multi-purpose space where we have meals as a church family\, host large churchwide and community events\, and have our weekly Rising worship service. \nOur speaker will preach on the same passage of scripture in this worship service as he does in the 11:00 a.m. service.
URL:https://shadescrest.org/event/rising-worship-service/2031-02-23/
LOCATION:Fellowship Hall\, 452 Park Avenue\, Hoover\, AL\, 35226\, United States
CATEGORIES:Church Event
ATTACH;FMTTYPE=image/jpeg:https://shadescrest.org/wp-content/uploads/2026/02/main-worship-slide-1.jpg
END:VEVENT
BEGIN:VEVENT
DTSTART;TZID=UTC:20310302T090000
DTEND;TZID=UTC:20310302T100000
DTSTAMP:20260425T153327
CREATED:20251114T164510Z
LAST-MODIFIED:20260220T002019Z
UID:10005109-1930208400-1930212000@shadescrest.org
SUMMARY:RISING Worship Service
DESCRIPTION:Come to our modern worship service\, Rising\, at 9:00 a.m. In the Rising service\, you’ll worship with our praise team and band in our church fellowship hall. You’ll see song lyrics and scripture passages projected on a screen\, and watch videos related to that day’s worship focus. Baskets are passed during this service\, offering you the opportunity to give. \nThe fellowship hall at Shades Crest is a multi-purpose space where we have meals as a church family\, host large churchwide and community events\, and have our weekly Rising worship service. \nOur speaker will preach on the same passage of scripture in this worship service as he does in the 11:00 a.m. service.
URL:https://shadescrest.org/event/rising-worship-service/2031-03-02/
LOCATION:Fellowship Hall\, 452 Park Avenue\, Hoover\, AL\, 35226\, United States
CATEGORIES:Church Event
ATTACH;FMTTYPE=image/jpeg:https://shadescrest.org/wp-content/uploads/2026/02/main-worship-slide-1.jpg
END:VEVENT
END:VCALENDAR