BEGIN:VCALENDAR
VERSION:2.0
PRODID:-//Shades Crest Baptist Church - ECPv6.15.20//NONSGML v1.0//EN
CALSCALE:GREGORIAN
METHOD:PUBLISH
X-WR-CALNAME:Shades Crest Baptist Church
X-ORIGINAL-URL:https://shadescrest.org
X-WR-CALDESC:Events for Shades Crest Baptist Church
REFRESH-INTERVAL;VALUE=DURATION:PT1H
X-Robots-Tag:noindex
X-PUBLISHED-TTL:PT1H
BEGIN:VTIMEZONE
TZID:UTC
BEGIN:STANDARD
TZOFFSETFROM:+0000
TZOFFSETTO:+0000
TZNAME:UTC
DTSTART:20230101T000000
END:STANDARD
END:VTIMEZONE
BEGIN:VEVENT
DTSTART;TZID=UTC:20241110T121000
DTEND;TZID=UTC:20241110T140000
DTSTAMP:20260424T040152
CREATED:20241023T173837Z
LAST-MODIFIED:20241023T173837Z
UID:10001815-1731240600-1731247200@shadescrest.org
SUMMARY:Veterans Appreciation Luncheon
DESCRIPTION:All Veterans are Welcome. Please call the Church office to RSVP
URL:https://shadescrest.org/event/veterans-appreciation-luncheon/
LOCATION:Fellowship Hall\, 452 Park Avenue\, Hoover\, AL\, 35226\, United States
CATEGORIES:Church Event,Youth Event
ATTACH;FMTTYPE=image/jpeg:https://shadescrest.org/wp-content/uploads/2024/10/veterans-luncheon.jpg
END:VEVENT
BEGIN:VEVENT
DTSTART;TZID=UTC:20241017T113000
DTEND;TZID=UTC:20241017T133000
DTSTAMP:20260424T040152
CREATED:20241002T173704Z
LAST-MODIFIED:20241002T173704Z
UID:10001808-1729164600-1729171800@shadescrest.org
SUMMARY:Triple L - Senior Adult Ministry
DESCRIPTION:Pot Luck\, $2.00\nGames\, laughs\, and fun
URL:https://shadescrest.org/event/triple-l-senior-adult-ministry/
LOCATION:Fellowship Hall\, 452 Park Avenue\, Hoover\, AL\, 35226\, United States
ATTACH;FMTTYPE=image/jpeg:https://shadescrest.org/wp-content/uploads/2024/08/Triple-LLL-Generic.jpg
END:VEVENT
BEGIN:VEVENT
DTSTART;TZID=UTC:20241013T100000
DTEND;TZID=UTC:20241013T104500
DTSTAMP:20260424T040152
CREATED:20240925T153652Z
LAST-MODIFIED:20240925T153652Z
UID:10001806-1728813600-1728816300@shadescrest.org
SUMMARY:New & Prospective Member Brunch
DESCRIPTION:
URL:https://shadescrest.org/event/new-prospective-member-brunch/
LOCATION:Fellowship Hall\, 452 Park Avenue\, Hoover\, AL\, 35226\, United States
CATEGORIES:Church Event
ATTACH;FMTTYPE=image/jpeg:https://shadescrest.org/wp-content/uploads/2024/09/nand-p-brunch.jpg
END:VEVENT
BEGIN:VEVENT
DTSTART;TZID=UTC:20241005T090000
DTEND;TZID=UTC:20241005T150000
DTSTAMP:20260424T040152
CREATED:20240916T172040Z
LAST-MODIFIED:20240916T172040Z
UID:10001801-1728118800-1728140400@shadescrest.org
SUMMARY:Arts & Crafts Fair
DESCRIPTION:We will be hosting the Annual Arts and Crafts Fair on Oct. 5\, the day of the Bluff Park Art Show.  The proceeds received from this event will go to support MV\, one of our mission partners who serve alongside local churches in the Middle East. If you are interested in having a table\, contact the church office for an application.
URL:https://shadescrest.org/event/arts-crafts-fair/
LOCATION:Fellowship Hall\, 452 Park Avenue\, Hoover\, AL\, 35226\, United States
CATEGORIES:Church Event
ATTACH;FMTTYPE=image/jpeg:https://shadescrest.org/wp-content/uploads/2024/09/artsandcrafts.jpg
END:VEVENT
BEGIN:VEVENT
DTSTART;TZID=UTC:20240919T113000
DTEND;TZID=UTC:20240919T130000
DTSTAMP:20260424T040152
CREATED:20240829T205143Z
LAST-MODIFIED:20240829T210252Z
UID:10001528-1726745400-1726750800@shadescrest.org
SUMMARY:Triple LLL Meets
DESCRIPTION:This will be a potluck! Plan to join us and Dr. Jim Auchmuty for lots of laughs at things that happened during his ministry. You will not want to miss this time together!
URL:https://shadescrest.org/event/triple-lll-meets/
LOCATION:Fellowship Hall\, 452 Park Avenue\, Hoover\, AL\, 35226\, United States
ATTACH;FMTTYPE=image/jpeg:https://shadescrest.org/wp-content/uploads/2024/08/Triple-LLL-Generic.jpg
END:VEVENT
BEGIN:VEVENT
DTSTART;TZID=UTC:20240724T164500
DTEND;TZID=UTC:20240724T190000
DTSTAMP:20260424T040152
CREATED:20240711T202815Z
LAST-MODIFIED:20240711T210049Z
UID:10000400-1721839500-1721847600@shadescrest.org
SUMMARY:Summer Share Night
DESCRIPTION:Regular Wednesday Night Dinner at 4:45. Sharing experiences from VBS\, We Love Our City\, Youth Mission Trip\, Super Summer\, and Children’s Camp.
URL:https://shadescrest.org/event/summer-share-night/
LOCATION:Fellowship Hall\, 452 Park Avenue\, Hoover\, AL\, 35226\, United States
CATEGORIES:Church Event
ATTACH;FMTTYPE=image/jpeg:https://shadescrest.org/wp-content/uploads/2024/07/summer-share-night.jpg
END:VEVENT
BEGIN:VEVENT
DTSTART;TZID=UTC:20240710T173000
DTEND;TZID=UTC:20240710T190000
DTSTAMP:20260424T040152
CREATED:20240703T153443Z
LAST-MODIFIED:20240703T153443Z
UID:10000399-1720632600-1720638000@shadescrest.org
SUMMARY:Ice Cream Night for Senior Adults
DESCRIPTION:
URL:https://shadescrest.org/event/ice-cream-night-for-senior-adults/
LOCATION:Fellowship Hall\, 452 Park Avenue\, Hoover\, AL\, 35226\, United States
CATEGORIES:Senior Adults Event
ATTACH;FMTTYPE=image/jpeg:https://shadescrest.org/wp-content/uploads/2024/07/ice-cream-night.jpg
END:VEVENT
BEGIN:VEVENT
DTSTART;TZID=UTC:20240626T180000
DTEND;TZID=UTC:20240626T190000
DTSTAMP:20260424T040152
CREATED:20240610T184623Z
LAST-MODIFIED:20240619T192332Z
UID:10000054-1719424800-1719428400@shadescrest.org
SUMMARY:Family Worship Night
DESCRIPTION:Come next Wednesday\, June 26\, to our Family Worship Night in the Fellowship Hall. Children\, youth\, and adults are encouraged to participate. Dinner will be available prior to the worship time\, similar to a regular Wednesday night\, from 4:45 to 6:00 PM. It’ll be helpful if you call the Church Office to let us know you’re planning to eat here.
URL:https://shadescrest.org/event/family-worship-night/
LOCATION:Fellowship Hall\, 452 Park Avenue\, Hoover\, AL\, 35226\, United States
CATEGORIES:Church Event
ATTACH;FMTTYPE=image/jpeg:https://shadescrest.org/wp-content/uploads/2024/06/family-worship-night.jpg
END:VEVENT
BEGIN:VEVENT
DTSTART;TZID=UTC:20240605T170000
DTEND;TZID=UTC:20240605T190000
DTSTAMP:20260424T040152
CREATED:20240522T204448Z
LAST-MODIFIED:20240605T152509Z
UID:10000005-1717606800-1717614000@shadescrest.org
SUMMARY:Vacation Bible School Family Night
DESCRIPTION:Vacation Bible School Family Night. See what your children have been learning in VBS. There will be food\, games\, music\, and other activities.
URL:https://shadescrest.org/event/vacation-bible-school-family-night/
LOCATION:Fellowship Hall\, 452 Park Avenue\, Hoover\, AL\, 35226\, United States
END:VEVENT
END:VCALENDAR