BEGIN:VCALENDAR
VERSION:2.0
PRODID:-//Shades Crest Baptist Church - ECPv6.15.20//NONSGML v1.0//EN
CALSCALE:GREGORIAN
METHOD:PUBLISH
X-WR-CALNAME:Shades Crest Baptist Church
X-ORIGINAL-URL:https://shadescrest.org
X-WR-CALDESC:Events for Shades Crest Baptist Church
REFRESH-INTERVAL;VALUE=DURATION:PT1H
X-Robots-Tag:noindex
X-PUBLISHED-TTL:PT1H
BEGIN:VTIMEZONE
TZID:UTC
BEGIN:STANDARD
TZOFFSETFROM:+0000
TZOFFSETTO:+0000
TZNAME:UTC
DTSTART:20240101T000000
END:STANDARD
END:VTIMEZONE
BEGIN:VEVENT
DTSTART;TZID=UTC:20260423T101500
DTEND;TZID=UTC:20260423T111500
DTSTAMP:20260423T234918
CREATED:20250206T202123Z
LAST-MODIFIED:20260107T205006Z
UID:10001914-1776939300-1776942900@shadescrest.org
SUMMARY:Mountainaires Choir Rehearsal
DESCRIPTION:New members are always welcome.
URL:https://shadescrest.org/event/mountainaires-choir-rehearsal/2026-04-23/
LOCATION:Music Suite
CATEGORIES:Senior Adults Event
ATTACH;FMTTYPE=image/jpeg:https://shadescrest.org/wp-content/uploads/2025/02/mountainaires.jpg
END:VEVENT
BEGIN:VEVENT
DTSTART;TZID=UTC:20260416T101500
DTEND;TZID=UTC:20260416T111500
DTSTAMP:20260423T234918
CREATED:20250206T202123Z
LAST-MODIFIED:20260107T205006Z
UID:10001913-1776334500-1776338100@shadescrest.org
SUMMARY:Mountainaires Choir Rehearsal
DESCRIPTION:New members are always welcome.
URL:https://shadescrest.org/event/mountainaires-choir-rehearsal/2026-04-16/
LOCATION:Music Suite
CATEGORIES:Senior Adults Event
ATTACH;FMTTYPE=image/jpeg:https://shadescrest.org/wp-content/uploads/2025/02/mountainaires.jpg
END:VEVENT
BEGIN:VEVENT
DTSTART;TZID=UTC:20260409T101500
DTEND;TZID=UTC:20260409T111500
DTSTAMP:20260423T234918
CREATED:20250206T202123Z
LAST-MODIFIED:20260107T205006Z
UID:10001912-1775729700-1775733300@shadescrest.org
SUMMARY:Mountainaires Choir Rehearsal
DESCRIPTION:New members are always welcome.
URL:https://shadescrest.org/event/mountainaires-choir-rehearsal/2026-04-09/
LOCATION:Music Suite
CATEGORIES:Senior Adults Event
ATTACH;FMTTYPE=image/jpeg:https://shadescrest.org/wp-content/uploads/2025/02/mountainaires.jpg
END:VEVENT
BEGIN:VEVENT
DTSTART;TZID=UTC:20260402T101500
DTEND;TZID=UTC:20260402T111500
DTSTAMP:20260423T234918
CREATED:20250206T202123Z
LAST-MODIFIED:20260107T205006Z
UID:10001911-1775124900-1775128500@shadescrest.org
SUMMARY:Mountainaires Choir Rehearsal
DESCRIPTION:New members are always welcome.
URL:https://shadescrest.org/event/mountainaires-choir-rehearsal/2026-04-02/
LOCATION:Music Suite
CATEGORIES:Senior Adults Event
ATTACH;FMTTYPE=image/jpeg:https://shadescrest.org/wp-content/uploads/2025/02/mountainaires.jpg
END:VEVENT
BEGIN:VEVENT
DTSTART;TZID=UTC:20260326T101500
DTEND;TZID=UTC:20260326T111500
DTSTAMP:20260423T234918
CREATED:20250206T202123Z
LAST-MODIFIED:20260107T205006Z
UID:10001910-1774520100-1774523700@shadescrest.org
SUMMARY:Mountainaires Choir Rehearsal
DESCRIPTION:New members are always welcome.
URL:https://shadescrest.org/event/mountainaires-choir-rehearsal/2026-03-26/
LOCATION:Music Suite
CATEGORIES:Senior Adults Event
ATTACH;FMTTYPE=image/jpeg:https://shadescrest.org/wp-content/uploads/2025/02/mountainaires.jpg
END:VEVENT
BEGIN:VEVENT
DTSTART;TZID=UTC:20260319T101500
DTEND;TZID=UTC:20260319T111500
DTSTAMP:20260423T234918
CREATED:20250206T202123Z
LAST-MODIFIED:20260107T205006Z
UID:10001909-1773915300-1773918900@shadescrest.org
SUMMARY:Mountainaires Choir Rehearsal
DESCRIPTION:New members are always welcome.
URL:https://shadescrest.org/event/mountainaires-choir-rehearsal/2026-03-19/
LOCATION:Music Suite
CATEGORIES:Senior Adults Event
ATTACH;FMTTYPE=image/jpeg:https://shadescrest.org/wp-content/uploads/2025/02/mountainaires.jpg
END:VEVENT
BEGIN:VEVENT
DTSTART;TZID=UTC:20260312T101500
DTEND;TZID=UTC:20260312T111500
DTSTAMP:20260423T234918
CREATED:20250206T202123Z
LAST-MODIFIED:20260107T205006Z
UID:10001908-1773310500-1773314100@shadescrest.org
SUMMARY:Mountainaires Choir Rehearsal
DESCRIPTION:New members are always welcome.
URL:https://shadescrest.org/event/mountainaires-choir-rehearsal/2026-03-12/
LOCATION:Music Suite
CATEGORIES:Senior Adults Event
ATTACH;FMTTYPE=image/jpeg:https://shadescrest.org/wp-content/uploads/2025/02/mountainaires.jpg
END:VEVENT
BEGIN:VEVENT
DTSTART;TZID=UTC:20260305T101500
DTEND;TZID=UTC:20260305T111500
DTSTAMP:20260423T234918
CREATED:20250206T202123Z
LAST-MODIFIED:20260107T205006Z
UID:10001907-1772705700-1772709300@shadescrest.org
SUMMARY:Mountainaires Choir Rehearsal
DESCRIPTION:New members are always welcome.
URL:https://shadescrest.org/event/mountainaires-choir-rehearsal/2026-03-05/
LOCATION:Music Suite
CATEGORIES:Senior Adults Event
ATTACH;FMTTYPE=image/jpeg:https://shadescrest.org/wp-content/uploads/2025/02/mountainaires.jpg
END:VEVENT
BEGIN:VEVENT
DTSTART;TZID=UTC:20260226T101500
DTEND;TZID=UTC:20260226T111500
DTSTAMP:20260423T234918
CREATED:20250206T202123Z
LAST-MODIFIED:20260107T205006Z
UID:10001906-1772100900-1772104500@shadescrest.org
SUMMARY:Mountainaires Choir Rehearsal
DESCRIPTION:New members are always welcome.
URL:https://shadescrest.org/event/mountainaires-choir-rehearsal/2026-02-26/
LOCATION:Music Suite
CATEGORIES:Senior Adults Event
ATTACH;FMTTYPE=image/jpeg:https://shadescrest.org/wp-content/uploads/2025/02/mountainaires.jpg
END:VEVENT
BEGIN:VEVENT
DTSTART;TZID=UTC:20260219T101500
DTEND;TZID=UTC:20260219T111500
DTSTAMP:20260423T234918
CREATED:20250206T202123Z
LAST-MODIFIED:20260107T205006Z
UID:10001905-1771496100-1771499700@shadescrest.org
SUMMARY:Mountainaires Choir Rehearsal
DESCRIPTION:New members are always welcome.
URL:https://shadescrest.org/event/mountainaires-choir-rehearsal/2026-02-19/
LOCATION:Music Suite
CATEGORIES:Senior Adults Event
ATTACH;FMTTYPE=image/jpeg:https://shadescrest.org/wp-content/uploads/2025/02/mountainaires.jpg
END:VEVENT
BEGIN:VEVENT
DTSTART;TZID=UTC:20260212T101500
DTEND;TZID=UTC:20260212T111500
DTSTAMP:20260423T234918
CREATED:20250206T202123Z
LAST-MODIFIED:20260107T205006Z
UID:10001904-1770891300-1770894900@shadescrest.org
SUMMARY:Mountainaires Choir Rehearsal
DESCRIPTION:New members are always welcome.
URL:https://shadescrest.org/event/mountainaires-choir-rehearsal/2026-02-12/
LOCATION:Music Suite
CATEGORIES:Senior Adults Event
ATTACH;FMTTYPE=image/jpeg:https://shadescrest.org/wp-content/uploads/2025/02/mountainaires.jpg
END:VEVENT
BEGIN:VEVENT
DTSTART;TZID=UTC:20260205T101500
DTEND;TZID=UTC:20260205T111500
DTSTAMP:20260423T234918
CREATED:20250206T202123Z
LAST-MODIFIED:20260107T205006Z
UID:10001903-1770286500-1770290100@shadescrest.org
SUMMARY:Mountainaires Choir Rehearsal
DESCRIPTION:New members are always welcome.
URL:https://shadescrest.org/event/mountainaires-choir-rehearsal/2026-02-05/
LOCATION:Music Suite
CATEGORIES:Senior Adults Event
ATTACH;FMTTYPE=image/jpeg:https://shadescrest.org/wp-content/uploads/2025/02/mountainaires.jpg
END:VEVENT
BEGIN:VEVENT
DTSTART;TZID=UTC:20260129T101500
DTEND;TZID=UTC:20260129T111500
DTSTAMP:20260423T234918
CREATED:20260121T002036Z
LAST-MODIFIED:20260121T002731Z
UID:10004820-1769681700-1769685300@shadescrest.org
SUMMARY:Mountainaires New Season Kickoff
DESCRIPTION:New Season Kickoff for Senior Adult Choir. Adults aged 50 and older meet on Thursday mornings from 10:30 – 11:15 a.m. to rehearse for frequent music ministry trips to nursing/assisted living homes. This group also provides lunch and fellowship opportunities.
URL:https://shadescrest.org/event/mountainaires-new-season-kickoff/
LOCATION:Music Suite
CATEGORIES:Senior Adults Event
ATTACH;FMTTYPE=image/png:https://shadescrest.org/wp-content/uploads/2026/01/Screenshot-2026-01-20-173613.png
END:VEVENT
BEGIN:VEVENT
DTSTART;TZID=UTC:20251225T101500
DTEND;TZID=UTC:20251225T111500
DTSTAMP:20260423T234918
CREATED:20250206T202123Z
LAST-MODIFIED:20260107T205006Z
UID:10004796-1766657700-1766661300@shadescrest.org
SUMMARY:Mountainaires Choir Rehearsal
DESCRIPTION:New members are always welcome.
URL:https://shadescrest.org/event/mountainaires-choir-rehearsal/2025-12-25/
LOCATION:Music Suite
CATEGORIES:Senior Adults Event
ATTACH;FMTTYPE=image/jpeg:https://shadescrest.org/wp-content/uploads/2025/02/mountainaires.jpg
END:VEVENT
BEGIN:VEVENT
DTSTART;TZID=UTC:20251218T101500
DTEND;TZID=UTC:20251218T111500
DTSTAMP:20260423T234918
CREATED:20250206T202123Z
LAST-MODIFIED:20260107T205006Z
UID:10001896-1766052900-1766056500@shadescrest.org
SUMMARY:Mountainaires Choir Rehearsal
DESCRIPTION:New members are always welcome.
URL:https://shadescrest.org/event/mountainaires-choir-rehearsal/2025-12-18/
LOCATION:Music Suite
CATEGORIES:Senior Adults Event
ATTACH;FMTTYPE=image/jpeg:https://shadescrest.org/wp-content/uploads/2025/02/mountainaires.jpg
END:VEVENT
BEGIN:VEVENT
DTSTART;TZID=UTC:20251211T101500
DTEND;TZID=UTC:20251211T111500
DTSTAMP:20260423T234918
CREATED:20250206T202123Z
LAST-MODIFIED:20260107T205006Z
UID:10001895-1765448100-1765451700@shadescrest.org
SUMMARY:Mountainaires Choir Rehearsal
DESCRIPTION:New members are always welcome.
URL:https://shadescrest.org/event/mountainaires-choir-rehearsal/2025-12-11/
LOCATION:Music Suite
CATEGORIES:Senior Adults Event
ATTACH;FMTTYPE=image/jpeg:https://shadescrest.org/wp-content/uploads/2025/02/mountainaires.jpg
END:VEVENT
BEGIN:VEVENT
DTSTART;TZID=UTC:20251204T101500
DTEND;TZID=UTC:20251204T111500
DTSTAMP:20260423T234918
CREATED:20250206T202123Z
LAST-MODIFIED:20260107T205006Z
UID:10001894-1764843300-1764846900@shadescrest.org
SUMMARY:Mountainaires Choir Rehearsal
DESCRIPTION:New members are always welcome.
URL:https://shadescrest.org/event/mountainaires-choir-rehearsal/2025-12-04/
LOCATION:Music Suite
CATEGORIES:Senior Adults Event
ATTACH;FMTTYPE=image/jpeg:https://shadescrest.org/wp-content/uploads/2025/02/mountainaires.jpg
END:VEVENT
BEGIN:VEVENT
DTSTART;TZID=UTC:20251127T101500
DTEND;TZID=UTC:20251127T111500
DTSTAMP:20260423T234918
CREATED:20250206T202123Z
LAST-MODIFIED:20260107T205006Z
UID:10004795-1764238500-1764242100@shadescrest.org
SUMMARY:Mountainaires Choir Rehearsal
DESCRIPTION:New members are always welcome.
URL:https://shadescrest.org/event/mountainaires-choir-rehearsal/2025-11-27/
LOCATION:Music Suite
CATEGORIES:Senior Adults Event
ATTACH;FMTTYPE=image/jpeg:https://shadescrest.org/wp-content/uploads/2025/02/mountainaires.jpg
END:VEVENT
BEGIN:VEVENT
DTSTART;TZID=UTC:20251120T101500
DTEND;TZID=UTC:20251120T111500
DTSTAMP:20260423T234918
CREATED:20250206T202123Z
LAST-MODIFIED:20260107T205006Z
UID:10001892-1763633700-1763637300@shadescrest.org
SUMMARY:Mountainaires Choir Rehearsal
DESCRIPTION:New members are always welcome.
URL:https://shadescrest.org/event/mountainaires-choir-rehearsal/2025-11-20/
LOCATION:Music Suite
CATEGORIES:Senior Adults Event
ATTACH;FMTTYPE=image/jpeg:https://shadescrest.org/wp-content/uploads/2025/02/mountainaires.jpg
END:VEVENT
BEGIN:VEVENT
DTSTART;TZID=UTC:20251113T101500
DTEND;TZID=UTC:20251113T111500
DTSTAMP:20260423T234918
CREATED:20250206T202123Z
LAST-MODIFIED:20260107T205006Z
UID:10001891-1763028900-1763032500@shadescrest.org
SUMMARY:Mountainaires Choir Rehearsal
DESCRIPTION:New members are always welcome.
URL:https://shadescrest.org/event/mountainaires-choir-rehearsal/2025-11-13/
LOCATION:Music Suite
CATEGORIES:Senior Adults Event
ATTACH;FMTTYPE=image/jpeg:https://shadescrest.org/wp-content/uploads/2025/02/mountainaires.jpg
END:VEVENT
BEGIN:VEVENT
DTSTART;TZID=UTC:20251106T101500
DTEND;TZID=UTC:20251106T111500
DTSTAMP:20260423T234918
CREATED:20250206T202123Z
LAST-MODIFIED:20260107T205006Z
UID:10001890-1762424100-1762427700@shadescrest.org
SUMMARY:Mountainaires Choir Rehearsal
DESCRIPTION:New members are always welcome.
URL:https://shadescrest.org/event/mountainaires-choir-rehearsal/2025-11-06/
LOCATION:Music Suite
CATEGORIES:Senior Adults Event
ATTACH;FMTTYPE=image/jpeg:https://shadescrest.org/wp-content/uploads/2025/02/mountainaires.jpg
END:VEVENT
BEGIN:VEVENT
DTSTART;TZID=UTC:20251030T101500
DTEND;TZID=UTC:20251030T111500
DTSTAMP:20260423T234918
CREATED:20250206T202123Z
LAST-MODIFIED:20260107T205006Z
UID:10001889-1761819300-1761822900@shadescrest.org
SUMMARY:Mountainaires Choir Rehearsal
DESCRIPTION:New members are always welcome.
URL:https://shadescrest.org/event/mountainaires-choir-rehearsal/2025-10-30/
LOCATION:Music Suite
CATEGORIES:Senior Adults Event
ATTACH;FMTTYPE=image/jpeg:https://shadescrest.org/wp-content/uploads/2025/02/mountainaires.jpg
END:VEVENT
BEGIN:VEVENT
DTSTART;TZID=UTC:20251023T101500
DTEND;TZID=UTC:20251023T111500
DTSTAMP:20260423T234918
CREATED:20250206T202123Z
LAST-MODIFIED:20260107T205006Z
UID:10001888-1761214500-1761218100@shadescrest.org
SUMMARY:Mountainaires Choir Rehearsal
DESCRIPTION:New members are always welcome.
URL:https://shadescrest.org/event/mountainaires-choir-rehearsal/2025-10-23/
LOCATION:Music Suite
CATEGORIES:Senior Adults Event
ATTACH;FMTTYPE=image/jpeg:https://shadescrest.org/wp-content/uploads/2025/02/mountainaires.jpg
END:VEVENT
BEGIN:VEVENT
DTSTART;TZID=UTC:20251016T101500
DTEND;TZID=UTC:20251016T111500
DTSTAMP:20260423T234918
CREATED:20250206T202123Z
LAST-MODIFIED:20260107T205006Z
UID:10001887-1760609700-1760613300@shadescrest.org
SUMMARY:Mountainaires Choir Rehearsal
DESCRIPTION:New members are always welcome.
URL:https://shadescrest.org/event/mountainaires-choir-rehearsal/2025-10-16/
LOCATION:Music Suite
CATEGORIES:Senior Adults Event
ATTACH;FMTTYPE=image/jpeg:https://shadescrest.org/wp-content/uploads/2025/02/mountainaires.jpg
END:VEVENT
BEGIN:VEVENT
DTSTART;TZID=UTC:20251009T101500
DTEND;TZID=UTC:20251009T111500
DTSTAMP:20260423T234918
CREATED:20250206T202123Z
LAST-MODIFIED:20260107T205006Z
UID:10001886-1760004900-1760008500@shadescrest.org
SUMMARY:Mountainaires Choir Rehearsal
DESCRIPTION:New members are always welcome.
URL:https://shadescrest.org/event/mountainaires-choir-rehearsal/2025-10-09/
LOCATION:Music Suite
CATEGORIES:Senior Adults Event
ATTACH;FMTTYPE=image/jpeg:https://shadescrest.org/wp-content/uploads/2025/02/mountainaires.jpg
END:VEVENT
BEGIN:VEVENT
DTSTART;TZID=UTC:20251002T101500
DTEND;TZID=UTC:20251002T111500
DTSTAMP:20260423T234918
CREATED:20250206T202123Z
LAST-MODIFIED:20260107T205006Z
UID:10001885-1759400100-1759403700@shadescrest.org
SUMMARY:Mountainaires Choir Rehearsal
DESCRIPTION:New members are always welcome.
URL:https://shadescrest.org/event/mountainaires-choir-rehearsal/2025-10-02/
LOCATION:Music Suite
CATEGORIES:Senior Adults Event
ATTACH;FMTTYPE=image/jpeg:https://shadescrest.org/wp-content/uploads/2025/02/mountainaires.jpg
END:VEVENT
BEGIN:VEVENT
DTSTART;TZID=UTC:20250925T101500
DTEND;TZID=UTC:20250925T111500
DTSTAMP:20260423T234918
CREATED:20250206T202123Z
LAST-MODIFIED:20260107T205006Z
UID:10001884-1758795300-1758798900@shadescrest.org
SUMMARY:Mountainaires Choir Rehearsal
DESCRIPTION:New members are always welcome.
URL:https://shadescrest.org/event/mountainaires-choir-rehearsal/2025-09-25/
LOCATION:Music Suite
CATEGORIES:Senior Adults Event
ATTACH;FMTTYPE=image/jpeg:https://shadescrest.org/wp-content/uploads/2025/02/mountainaires.jpg
END:VEVENT
BEGIN:VEVENT
DTSTART;TZID=UTC:20250918T101500
DTEND;TZID=UTC:20250918T111500
DTSTAMP:20260423T234918
CREATED:20250206T202123Z
LAST-MODIFIED:20260107T205006Z
UID:10001883-1758190500-1758194100@shadescrest.org
SUMMARY:Mountainaires Choir Rehearsal
DESCRIPTION:New members are always welcome.
URL:https://shadescrest.org/event/mountainaires-choir-rehearsal/2025-09-18/
LOCATION:Music Suite
CATEGORIES:Senior Adults Event
ATTACH;FMTTYPE=image/jpeg:https://shadescrest.org/wp-content/uploads/2025/02/mountainaires.jpg
END:VEVENT
BEGIN:VEVENT
DTSTART;TZID=UTC:20250911T101500
DTEND;TZID=UTC:20250911T111500
DTSTAMP:20260423T234918
CREATED:20250206T202123Z
LAST-MODIFIED:20260107T205006Z
UID:10001882-1757585700-1757589300@shadescrest.org
SUMMARY:Mountainaires Choir Rehearsal
DESCRIPTION:New members are always welcome.
URL:https://shadescrest.org/event/mountainaires-choir-rehearsal/2025-09-11/
LOCATION:Music Suite
CATEGORIES:Senior Adults Event
ATTACH;FMTTYPE=image/jpeg:https://shadescrest.org/wp-content/uploads/2025/02/mountainaires.jpg
END:VEVENT
BEGIN:VEVENT
DTSTART;TZID=UTC:20250904T101500
DTEND;TZID=UTC:20250904T111500
DTSTAMP:20260423T234918
CREATED:20250206T202123Z
LAST-MODIFIED:20260107T205006Z
UID:10001881-1756980900-1756984500@shadescrest.org
SUMMARY:Mountainaires Choir Rehearsal
DESCRIPTION:New members are always welcome.
URL:https://shadescrest.org/event/mountainaires-choir-rehearsal/2025-09-04/
LOCATION:Music Suite
CATEGORIES:Senior Adults Event
ATTACH;FMTTYPE=image/jpeg:https://shadescrest.org/wp-content/uploads/2025/02/mountainaires.jpg
END:VEVENT
END:VCALENDAR