BEGIN:VCALENDAR
VERSION:2.0
PRODID:-//Shades Crest Baptist Church - ECPv6.15.20//NONSGML v1.0//EN
CALSCALE:GREGORIAN
METHOD:PUBLISH
X-WR-CALNAME:Shades Crest Baptist Church
X-ORIGINAL-URL:https://shadescrest.org
X-WR-CALDESC:Events for Shades Crest Baptist Church
REFRESH-INTERVAL;VALUE=DURATION:PT1H
X-Robots-Tag:noindex
X-PUBLISHED-TTL:PT1H
BEGIN:VTIMEZONE
TZID:UTC
BEGIN:STANDARD
TZOFFSETFROM:+0000
TZOFFSETTO:+0000
TZNAME:UTC
DTSTART:20230101T000000
END:STANDARD
END:VTIMEZONE
BEGIN:VEVENT
DTSTART;TZID=UTC:20240924T140000
DTEND;TZID=UTC:20240924T150000
DTSTAMP:20260424T133829
CREATED:20240812T185711Z
LAST-MODIFIED:20240812T190313Z
UID:10001512-1727186400-1727190000@shadescrest.org
SUMMARY:How To Have An Abundant Life Class
DESCRIPTION:This course\, designed and written by Ken Cook\, offers suggestions to help us have a more abundant life.
URL:https://shadescrest.org/event/hoe-to-have-an-abundant-life-class/2024-09-24/
LOCATION:Room 102\, 452 Park Avenue\, Hoover\, AL\, 35226\, United States
ATTACH;FMTTYPE=image/jpeg:https://shadescrest.org/wp-content/uploads/2024/08/abundant-life.jpg
END:VEVENT
BEGIN:VEVENT
DTSTART;TZID=UTC:20240917T140000
DTEND;TZID=UTC:20240917T150000
DTSTAMP:20260424T133829
CREATED:20240812T185711Z
LAST-MODIFIED:20240812T190313Z
UID:10001511-1726581600-1726585200@shadescrest.org
SUMMARY:How To Have An Abundant Life Class
DESCRIPTION:This course\, designed and written by Ken Cook\, offers suggestions to help us have a more abundant life.
URL:https://shadescrest.org/event/hoe-to-have-an-abundant-life-class/2024-09-17/
LOCATION:Room 102\, 452 Park Avenue\, Hoover\, AL\, 35226\, United States
ATTACH;FMTTYPE=image/jpeg:https://shadescrest.org/wp-content/uploads/2024/08/abundant-life.jpg
END:VEVENT
BEGIN:VEVENT
DTSTART;TZID=UTC:20240910T140000
DTEND;TZID=UTC:20240910T150000
DTSTAMP:20260424T133829
CREATED:20240812T185711Z
LAST-MODIFIED:20240812T190313Z
UID:10001510-1725976800-1725980400@shadescrest.org
SUMMARY:How To Have An Abundant Life Class
DESCRIPTION:This course\, designed and written by Ken Cook\, offers suggestions to help us have a more abundant life.
URL:https://shadescrest.org/event/hoe-to-have-an-abundant-life-class/2024-09-10/
LOCATION:Room 102\, 452 Park Avenue\, Hoover\, AL\, 35226\, United States
ATTACH;FMTTYPE=image/jpeg:https://shadescrest.org/wp-content/uploads/2024/08/abundant-life.jpg
END:VEVENT
END:VCALENDAR